BEGIN:VCALENDAR
VERSION:2.0
PRODID:-//Kirchenmusik Neuwied - ECPv6.15.20//NONSGML v1.0//EN
CALSCALE:GREGORIAN
METHOD:PUBLISH
X-ORIGINAL-URL:https://kirchenmusik-neuwied.de
X-WR-CALDESC:Veranstaltungen für Kirchenmusik Neuwied
REFRESH-INTERVAL;VALUE=DURATION:PT1H
X-Robots-Tag:noindex
X-PUBLISHED-TTL:PT1H
BEGIN:VTIMEZONE
TZID:Europe/Berlin
BEGIN:DAYLIGHT
TZOFFSETFROM:+0100
TZOFFSETTO:+0200
TZNAME:CEST
DTSTART:20240331T010000
END:DAYLIGHT
BEGIN:STANDARD
TZOFFSETFROM:+0200
TZOFFSETTO:+0100
TZNAME:CET
DTSTART:20241027T010000
END:STANDARD
BEGIN:DAYLIGHT
TZOFFSETFROM:+0100
TZOFFSETTO:+0200
TZNAME:CEST
DTSTART:20250330T010000
END:DAYLIGHT
BEGIN:STANDARD
TZOFFSETFROM:+0200
TZOFFSETTO:+0100
TZNAME:CET
DTSTART:20251026T010000
END:STANDARD
BEGIN:DAYLIGHT
TZOFFSETFROM:+0100
TZOFFSETTO:+0200
TZNAME:CEST
DTSTART:20260329T010000
END:DAYLIGHT
BEGIN:STANDARD
TZOFFSETFROM:+0200
TZOFFSETTO:+0100
TZNAME:CET
DTSTART:20261025T010000
END:STANDARD
END:VTIMEZONE
BEGIN:VEVENT
DTSTART;TZID=Europe/Berlin:20250526T190000
DTEND;TZID=Europe/Berlin:20250526T200000
DTSTAMP:20260420T090521
CREATED:20250326T122000Z
LAST-MODIFIED:20250326T122000Z
UID:3343-1748286000-1748289600@kirchenmusik-neuwied.de
SUMMARY:AVE MARIS STELLA - Marianische Abendmusik
DESCRIPTION:AVE MARIS STELLA – Marianische Chormusik \nAm Montag\, den 26.05.25 um 19:00 gestaltet der Kammerchor Neuwied mit seinem aktuellen Konzertprogramm eine Marianische Abendmusik in St. Matthias (Neuwied). Es erklingt die Messe „Ave maris stella“ von Victoria sowie einzelne Kompositionen von Bruckner\, Wangenheim\, Grímsdóttir und Bec zum Lobe Mariens. Das musikalisch vielseitige a cappella Programm ist im Rahmen eines geistlichen Abendlobs bei freiem Eintritt zu hören. \nLassen Sie sich von alten\, gregorianischen Melodien und beschwingten Rhythmen mitreißen und freuen Sie sich auf eine Stunde abwechslungsreiche Chormusik! \nWeitere Gelegenheiten\, den Kammerchor Neuwied mit diesem Programm zu hören\, bestehen am: \n\nSonntag\, den 18.05.25 um 18:00 in St. Antonius (Waldesch)\nSonntag\, den 25.05.25 um 18:30 St. Medard (Engers)\nMontag\, den 19.05.25 um 19:00 im Mariendom (Andernach)
URL:https://kirchenmusik-neuwied.de/event/ave-maris-stella-marianische-abendmusik-2/
LOCATION:St. Matthias\, Neuwied\, Heddesdorfer Str. 10\, Neuwied\, Rheinland-Pfalz\, 56564\, Deutschland
CATEGORIES:Chorkonzert,Chormusik im Gottesdienst,Musikalisches Abendlob
ATTACH;FMTTYPE=image/png:https://kirchenmusik-neuwied.de/wp-content/uploads/2025/03/Schiff-innen-ohne-Rand.png
END:VEVENT
END:VCALENDAR