BEGIN:VCALENDAR
VERSION:2.0
PRODID:-//Kirchenmusik Neuwied - ECPv6.15.20//NONSGML v1.0//EN
CALSCALE:GREGORIAN
METHOD:PUBLISH
X-WR-CALNAME:Kirchenmusik Neuwied
X-ORIGINAL-URL:https://kirchenmusik-neuwied.de
X-WR-CALDESC:Veranstaltungen für Kirchenmusik Neuwied
REFRESH-INTERVAL;VALUE=DURATION:PT1H
X-Robots-Tag:noindex
X-PUBLISHED-TTL:PT1H
BEGIN:VTIMEZONE
TZID:Europe/Berlin
BEGIN:DAYLIGHT
TZOFFSETFROM:+0100
TZOFFSETTO:+0200
TZNAME:CEST
DTSTART:20240331T010000
END:DAYLIGHT
BEGIN:STANDARD
TZOFFSETFROM:+0200
TZOFFSETTO:+0100
TZNAME:CET
DTSTART:20241027T010000
END:STANDARD
BEGIN:DAYLIGHT
TZOFFSETFROM:+0100
TZOFFSETTO:+0200
TZNAME:CEST
DTSTART:20250330T010000
END:DAYLIGHT
BEGIN:STANDARD
TZOFFSETFROM:+0200
TZOFFSETTO:+0100
TZNAME:CET
DTSTART:20251026T010000
END:STANDARD
BEGIN:DAYLIGHT
TZOFFSETFROM:+0100
TZOFFSETTO:+0200
TZNAME:CEST
DTSTART:20260329T010000
END:DAYLIGHT
BEGIN:STANDARD
TZOFFSETFROM:+0200
TZOFFSETTO:+0100
TZNAME:CET
DTSTART:20261025T010000
END:STANDARD
END:VTIMEZONE
BEGIN:VEVENT
DTSTART;TZID=Europe/Berlin:20250405T120000
DTEND;TZID=Europe/Berlin:20250405T123000
DTSTAMP:20260420T104220
CREATED:20240124T182405Z
LAST-MODIFIED:20250211T092416Z
UID:2655-1743854400-1743856200@kirchenmusik-neuwied.de
SUMMARY:Musik zum Mittagsläuten V
DESCRIPTION:ALTE MUSIK \nText: Ursula Pyra \nTraversflöte: Aiyke Elaman Kyzy \nCembalo: Alina Gehlen \n  \n30min. fastenzeitliche Musik und besinnliche Texte an jedem Samstag in der Fastenzeit um 12:00 Uhr in St. Matthias – ein kostenloses Angebot der Pfarrei St. Matthias Neuwied
URL:https://kirchenmusik-neuwied.de/event/musik-zum-mittagslaeuten-v/
LOCATION:St. Matthias\, Neuwied\, Heddesdorfer Str. 10\, Neuwied\, Rheinland-Pfalz\, 56564\, Deutschland
CATEGORIES:Musik zum Mittagsläuten
ATTACH;FMTTYPE=image/png:https://kirchenmusik-neuwied.de/wp-content/uploads/2025/02/Plakat-Mittagsmusik-5.png
END:VEVENT
BEGIN:VEVENT
DTSTART;TZID=Europe/Berlin:20250412T120000
DTEND;TZID=Europe/Berlin:20250412T123000
DTSTAMP:20260420T104220
CREATED:20240124T182644Z
LAST-MODIFIED:20250211T092442Z
UID:2657-1744459200-1744461000@kirchenmusik-neuwied.de
SUMMARY:Musik zum Mittagsläuten VI
DESCRIPTION:ORGELMUSIK \nText: Christian Scheinost \nOrgel: Benedikt Röhn \n  \n30min. fastenzeitliche Musik und besinnliche Texte an jedem Samstag in der Fastenzeit um 12:00 Uhr in St. Matthias – ein kostenloses Angebot der Pfarrei St. Matthias Neuwied
URL:https://kirchenmusik-neuwied.de/event/musik-zum-mittagslaeuten-vi/
LOCATION:St. Matthias\, Neuwied\, Heddesdorfer Str. 10\, Neuwied\, Rheinland-Pfalz\, 56564\, Deutschland
CATEGORIES:Musik zum Mittagsläuten
ATTACH;FMTTYPE=image/png:https://kirchenmusik-neuwied.de/wp-content/uploads/2025/02/Plakat-Mittagsmusik-6.png
END:VEVENT
END:VCALENDAR