BEGIN:VCALENDAR
VERSION:2.0
PRODID:-//Kirchenmusik Neuwied - ECPv6.15.20//NONSGML v1.0//EN
CALSCALE:GREGORIAN
METHOD:PUBLISH
X-ORIGINAL-URL:https://kirchenmusik-neuwied.de
X-WR-CALDESC:Veranstaltungen für Kirchenmusik Neuwied
REFRESH-INTERVAL;VALUE=DURATION:PT1H
X-Robots-Tag:noindex
X-PUBLISHED-TTL:PT1H
BEGIN:VTIMEZONE
TZID:Europe/Berlin
BEGIN:DAYLIGHT
TZOFFSETFROM:+0100
TZOFFSETTO:+0200
TZNAME:CEST
DTSTART:20230326T010000
END:DAYLIGHT
BEGIN:STANDARD
TZOFFSETFROM:+0200
TZOFFSETTO:+0100
TZNAME:CET
DTSTART:20231029T010000
END:STANDARD
BEGIN:DAYLIGHT
TZOFFSETFROM:+0100
TZOFFSETTO:+0200
TZNAME:CEST
DTSTART:20240331T010000
END:DAYLIGHT
BEGIN:STANDARD
TZOFFSETFROM:+0200
TZOFFSETTO:+0100
TZNAME:CET
DTSTART:20241027T010000
END:STANDARD
BEGIN:DAYLIGHT
TZOFFSETFROM:+0100
TZOFFSETTO:+0200
TZNAME:CEST
DTSTART:20250330T010000
END:DAYLIGHT
BEGIN:STANDARD
TZOFFSETFROM:+0200
TZOFFSETTO:+0100
TZNAME:CET
DTSTART:20251026T010000
END:STANDARD
END:VTIMEZONE
BEGIN:VEVENT
DTSTART;TZID=Europe/Berlin:20241012T120000
DTEND;TZID=Europe/Berlin:20241012T123000
DTSTAMP:20260422T215848
CREATED:20240516T063316Z
LAST-MODIFIED:20240915T203650Z
UID:2887-1728734400-1728736200@kirchenmusik-neuwied.de
SUMMARY:Musik zum Mittagsläuten
DESCRIPTION:IHR HEILIGEN\, LOBSINGET DEM HERREN \nTexte und Musik\nDuette für 2 Soprane\, Soloarien für Sopran und Trompete\,\nInstrumentalmusik für Orgel und Trompete \nLea Jakob\, Sopran\nLucia Jakob\, Sopran\nThomas Maur\, Trompete\nJörg Rasbach\, Orgel\nChristian Scheinost\, Texte \nZugleich ist diese Veranstaltung die Eröffnung der Jubiläumsausstellung mit Bildern von Beate Heinen in St. Matthias.
URL:https://kirchenmusik-neuwied.de/event/musik-zum-mittagslaeuten/
LOCATION:St. Matthias-Kirche\, Heddesdorfer Str. 10\, Neuwied\, 56564\, Deutschland
CATEGORIES:Musik zum Mittagsläuten
ATTACH;FMTTYPE=image/jpeg:https://kirchenmusik-neuwied.de/wp-content/uploads/2024/05/Seite01-scaled.jpg
ORGANIZER;CN="Pfarrei Neuwied St. Matthias":MAILTO:alina.gehlen@bgv-trier.de
END:VEVENT
END:VCALENDAR