BEGIN:VCALENDAR
VERSION:2.0
PRODID:-//Kirchenmusik Neuwied - ECPv6.15.20//NONSGML v1.0//EN
CALSCALE:GREGORIAN
METHOD:PUBLISH
X-ORIGINAL-URL:https://kirchenmusik-neuwied.de
X-WR-CALDESC:Veranstaltungen für Kirchenmusik Neuwied
REFRESH-INTERVAL;VALUE=DURATION:PT1H
X-Robots-Tag:noindex
X-PUBLISHED-TTL:PT1H
BEGIN:VTIMEZONE
TZID:Europe/Berlin
BEGIN:DAYLIGHT
TZOFFSETFROM:+0100
TZOFFSETTO:+0200
TZNAME:CEST
DTSTART:20220327T010000
END:DAYLIGHT
BEGIN:STANDARD
TZOFFSETFROM:+0200
TZOFFSETTO:+0100
TZNAME:CET
DTSTART:20221030T010000
END:STANDARD
BEGIN:DAYLIGHT
TZOFFSETFROM:+0100
TZOFFSETTO:+0200
TZNAME:CEST
DTSTART:20230326T010000
END:DAYLIGHT
BEGIN:STANDARD
TZOFFSETFROM:+0200
TZOFFSETTO:+0100
TZNAME:CET
DTSTART:20231029T010000
END:STANDARD
BEGIN:DAYLIGHT
TZOFFSETFROM:+0100
TZOFFSETTO:+0200
TZNAME:CEST
DTSTART:20240331T010000
END:DAYLIGHT
BEGIN:STANDARD
TZOFFSETFROM:+0200
TZOFFSETTO:+0100
TZNAME:CET
DTSTART:20241027T010000
END:STANDARD
END:VTIMEZONE
BEGIN:VEVENT
DTSTART;TZID=Europe/Berlin:20231223T120000
DTEND;TZID=Europe/Berlin:20231223T124500
DTSTAMP:20260424T174840
CREATED:20231006T085928Z
LAST-MODIFIED:20231106T082800Z
UID:2420-1703332800-1703335500@kirchenmusik-neuwied.de
SUMMARY:Adventsmusik zum Mittagsläuten III
DESCRIPTION:Text: Ursula Pyra \nOrgel: Alina Gehlen \n  \nAdvent – eine Zeit zum Träumen \nWann sind Sie zuletzt aufgewacht und haben sich über Ihre ungewöhnlichen Traumbruchstücke gewundert? Als Kind haben wir noch viele Wünsche und Träume: Astronaut werden\, ein eigenes Pony oder ein langersehntes Spielzeug. Werden wir erwachsen tun wir unsere zugegeben komplexeren Träume oft als unrealistisch und naiv ab. Dabei kennen wir ihn alle\, den Traum von Zufriedenheit und Sorglosigkeit\, die Vision eines Weihnachtsfestes voller Geborgenheit und Frieden\, den Gott uns mit seinem Sohn schenken möchte. Advent ist eine Zeit der Vorbereitung auf Weihnachten – mit den Mittagsmusiken am zweiten\, dritten und vierten Advent in St. Matthias möchten wir Sie wie auch in den letzten Jahren herzlich einladen\, beginnend mit dem Geläute des Kirchturms samstags um 12:00\, eine halbe Stunde zu träumen und sich selbst mit besinnlicher Musik und Text auf ein traumhaftes Weihnachtsfest einzustimmen. \nEine weitere Mittagsmusik mit weihnachtlichen Impulsen findet am 30.12. statt.
URL:https://kirchenmusik-neuwied.de/event/adventsmusik-zum-mittagslaeuten-iii/
LOCATION:St. Matthias\, Neuwied\, Heddesdorfer Str. 10\, Neuwied\, Rheinland-Pfalz\, 56564\, Deutschland
CATEGORIES:Musik zum Mittagsläuten
ATTACH;FMTTYPE=image/jpeg:https://kirchenmusik-neuwied.de/wp-content/uploads/2023/10/Plakat-Mittagsmusik-scaled.jpg
ORGANIZER;CN="Pfarrei Neuwied St. Matthias":MAILTO:alina.gehlen@bgv-trier.de
END:VEVENT
END:VCALENDAR