BEGIN:VCALENDAR
VERSION:2.0
PRODID:-//Kirchenmusik Neuwied - ECPv6.15.20//NONSGML v1.0//EN
CALSCALE:GREGORIAN
METHOD:PUBLISH
X-ORIGINAL-URL:https://kirchenmusik-neuwied.de
X-WR-CALDESC:Veranstaltungen für Kirchenmusik Neuwied
REFRESH-INTERVAL;VALUE=DURATION:PT1H
X-Robots-Tag:noindex
X-PUBLISHED-TTL:PT1H
BEGIN:VTIMEZONE
TZID:Europe/Berlin
BEGIN:DAYLIGHT
TZOFFSETFROM:+0100
TZOFFSETTO:+0200
TZNAME:CEST
DTSTART:20220327T010000
END:DAYLIGHT
BEGIN:STANDARD
TZOFFSETFROM:+0200
TZOFFSETTO:+0100
TZNAME:CET
DTSTART:20221030T010000
END:STANDARD
BEGIN:DAYLIGHT
TZOFFSETFROM:+0100
TZOFFSETTO:+0200
TZNAME:CEST
DTSTART:20230326T010000
END:DAYLIGHT
BEGIN:STANDARD
TZOFFSETFROM:+0200
TZOFFSETTO:+0100
TZNAME:CET
DTSTART:20231029T010000
END:STANDARD
BEGIN:DAYLIGHT
TZOFFSETFROM:+0100
TZOFFSETTO:+0200
TZNAME:CEST
DTSTART:20240331T010000
END:DAYLIGHT
BEGIN:STANDARD
TZOFFSETFROM:+0200
TZOFFSETTO:+0100
TZNAME:CET
DTSTART:20241027T010000
END:STANDARD
END:VTIMEZONE
BEGIN:VEVENT
DTSTART;TZID=Europe/Berlin:20230506T190000
DTEND;TZID=Europe/Berlin:20230506T200000
DTSTAMP:20260426T014449
CREATED:20230423T071548Z
LAST-MODIFIED:20230424T055612Z
UID:2255-1683399600-1683403200@kirchenmusik-neuwied.de
SUMMARY:Lasst uns ziehn zu den Quellen des Lebens
DESCRIPTION:Ein Musikalisches Abendlob in St. Peter und Paul\, Irlich \nMusik: Sängerinnen und Sänger der Kinder- und Jugendchöre in der Pfarrei Neuwied St. Matthias\nLeitung: Jörg Rasbach\nTexte Silvia Nußbaum
URL:https://kirchenmusik-neuwied.de/event/lasst-uns-ziehn-zu-den-quellen-des-lebens/
LOCATION:Kath. Kirche St. Peter und Paul\, Irlich\, Apostelstr.\, 56567 Neuwied\, RLP\, 56567\, Deutschland
CATEGORIES:Besondere Musik im Gottesdienst
ATTACH;FMTTYPE=image/jpeg:https://kirchenmusik-neuwied.de/wp-content/uploads/2023/04/Plakat-sonntagszeit-Irlich-Mai-2023-1-scaled.jpg
ORGANIZER;CN="Pfarrei Neuwied St. Matthias":MAILTO:alina.gehlen@bgv-trier.de
END:VEVENT
END:VCALENDAR