BEGIN:VCALENDAR
VERSION:2.0
PRODID:-//Kirchenmusik Neuwied - ECPv6.15.20//NONSGML v1.0//EN
CALSCALE:GREGORIAN
METHOD:PUBLISH
X-ORIGINAL-URL:https://kirchenmusik-neuwied.de
X-WR-CALDESC:Veranstaltungen für Kirchenmusik Neuwied
REFRESH-INTERVAL;VALUE=DURATION:PT1H
X-Robots-Tag:noindex
X-PUBLISHED-TTL:PT1H
BEGIN:VTIMEZONE
TZID:Europe/Berlin
BEGIN:DAYLIGHT
TZOFFSETFROM:+0100
TZOFFSETTO:+0200
TZNAME:CEST
DTSTART:20220327T010000
END:DAYLIGHT
BEGIN:STANDARD
TZOFFSETFROM:+0200
TZOFFSETTO:+0100
TZNAME:CET
DTSTART:20221030T010000
END:STANDARD
BEGIN:DAYLIGHT
TZOFFSETFROM:+0100
TZOFFSETTO:+0200
TZNAME:CEST
DTSTART:20230326T010000
END:DAYLIGHT
BEGIN:STANDARD
TZOFFSETFROM:+0200
TZOFFSETTO:+0100
TZNAME:CET
DTSTART:20231029T010000
END:STANDARD
BEGIN:DAYLIGHT
TZOFFSETFROM:+0100
TZOFFSETTO:+0200
TZNAME:CEST
DTSTART:20240331T010000
END:DAYLIGHT
BEGIN:STANDARD
TZOFFSETFROM:+0200
TZOFFSETTO:+0100
TZNAME:CET
DTSTART:20241027T010000
END:STANDARD
END:VTIMEZONE
BEGIN:VEVENT
DTSTART;TZID=Europe/Berlin:20230423T180000
DTEND;TZID=Europe/Berlin:20230423T190000
DTSTAMP:20260426T031708
CREATED:20230320T083057Z
LAST-MODIFIED:20230320T142047Z
UID:2116-1682272800-1682276400@kirchenmusik-neuwied.de
SUMMARY:Chorkonzert: Christ ist erstanden II
DESCRIPTION:Kammerchorkonzert: Christ ist erstanden \nDer Kammerchor Neuwied singt unter seiner neuen Leiterin Alina Gehlen ein österliches Chorkonzert. Im Fokus steht die Freude über den auferstandenen Jesus. Es werden die Situationen beleuchtet\, in denen der Auferstandene Menschen erstmals erscheint und mit lautem Halleluja der Sieg über den Tod verkündet.\nEs erklingen Chorwerke von Lasso\, Nola\, Rheinberger\, Thiel\, MacMillan und vielen weiteren Komponist*innen der verschiedenen Epochen. \n  \nYuichi Sasaki: Theorbe \nLouisa Kaltenbach: Violoncello \nKAMMERCHOR NEUWIED \nLeitung Alina Gehlen \n  \nEintritt frei\, Spenden zur Deckung der Kosten erbeten \nAm 16. April 2023 um 18:00 gibt es im Mariendom in Andernach eine weitere Möglichkeit den Kammerchor Neuwied mit diesem Programm zu hören.
URL:https://kirchenmusik-neuwied.de/event/chorkonzert-christ-ist-erstanden-ii/
LOCATION:St. Margaretha\, Heimbach-Weis\, Burghofstr. 1\, Heimbach-Weis\, Rheinland-Pfalz\, 56566\, Deutschland
CATEGORIES:Chorkonzert
ATTACH;FMTTYPE=image/jpeg:https://kirchenmusik-neuwied.de/wp-content/uploads/2023/03/Christ-ist-erstanden-min-2-scaled.jpg
END:VEVENT
END:VCALENDAR