BEGIN:VCALENDAR
VERSION:2.0
PRODID:-//Kirchenmusik Neuwied - ECPv6.15.20//NONSGML v1.0//EN
CALSCALE:GREGORIAN
METHOD:PUBLISH
X-ORIGINAL-URL:https://kirchenmusik-neuwied.de
X-WR-CALDESC:Veranstaltungen für Kirchenmusik Neuwied
REFRESH-INTERVAL;VALUE=DURATION:PT1H
X-Robots-Tag:noindex
X-PUBLISHED-TTL:PT1H
BEGIN:VTIMEZONE
TZID:Europe/Berlin
BEGIN:DAYLIGHT
TZOFFSETFROM:+0100
TZOFFSETTO:+0200
TZNAME:CEST
DTSTART:20220327T010000
END:DAYLIGHT
BEGIN:STANDARD
TZOFFSETFROM:+0200
TZOFFSETTO:+0100
TZNAME:CET
DTSTART:20221030T010000
END:STANDARD
BEGIN:DAYLIGHT
TZOFFSETFROM:+0100
TZOFFSETTO:+0200
TZNAME:CEST
DTSTART:20230326T010000
END:DAYLIGHT
BEGIN:STANDARD
TZOFFSETFROM:+0200
TZOFFSETTO:+0100
TZNAME:CET
DTSTART:20231029T010000
END:STANDARD
BEGIN:DAYLIGHT
TZOFFSETFROM:+0100
TZOFFSETTO:+0200
TZNAME:CEST
DTSTART:20240331T010000
END:DAYLIGHT
BEGIN:STANDARD
TZOFFSETFROM:+0200
TZOFFSETTO:+0100
TZNAME:CET
DTSTART:20241027T010000
END:STANDARD
END:VTIMEZONE
BEGIN:VEVENT
DTSTART;TZID=Europe/Berlin:20231008T180000
DTEND;TZID=Europe/Berlin:20231008T193000
DTSTAMP:20260424T232137
CREATED:20231003T144700Z
LAST-MODIFIED:20231003T144708Z
UID:2397-1696788000-1696793400@kirchenmusik-neuwied.de
SUMMARY:Konzert 14. Fest der Lieder
DESCRIPTION:Konzert der Musikgruppe „Reflexe“\nIn ihren Konzerten spricht die Musikgruppe immer wieder große Themen wie Menschlichkeit\, persönliches Wachstum\, Ökologische Werte\, Umweltschutz an.\nDie Sängerinnen sagen\, dass sie wissen\, wie schwer es oft ist\, auch im Alltag an diesen Werten und Zielen festzuhalten.\nGerade in einer Zeit in der Druck durch Arbeitgeber\, Gesellschaft\, Politik immer größer zu werden scheinen.\nDennoch\, oder gerade deswegen\, möchte die Gruppe diese Themen\, die das Herz berühren immer wieder ins Bewusstsein rufen.\nDabei geht es ihnen nicht darum\, Großes zu verändern\, sondern das Kleine / der Funke soll in unseren Herzen nicht verloren gehen.\nDenn mit einem Funken\, einer Kleinigkeit\, die das Herz berührt\, beginnen oft die großen Veränderungen.\nSeien Sie Teil einer „Kleinigkeit“ und begrüßen sie am \n08. Oktober 2023\,\num 18 Uhr\,\ndie Musikgruppe „Reflexe“\,\nzu ihrem „XIV. Fest der Lieder“\,\nin der Feldkirche der Ev. Kirchengemeinde Feldkirchen / Altwied. \nEintritt Frei
URL:https://kirchenmusik-neuwied.de/event/konzert-14-fest-der-lieder/
LOCATION:Ev. Feldkirche\, Feldkircher Str. 89\, Neuwied\, 56567\, Deutschland
CATEGORIES:Musikgruppe
ATTACH;FMTTYPE=image/jpeg:https://kirchenmusik-neuwied.de/wp-content/uploads/2023/10/Plakat-14-Fest-der-Lieder-08-10-2023-A4-1-scaled.jpg
ORGANIZER;CN="Evangelische Kirchengemeinde Feldkirchen-Altwied":MAILTO:feldkirchen-altwied@ekir.de
END:VEVENT
END:VCALENDAR