BEGIN:VCALENDAR
VERSION:2.0
PRODID:-//Kirchenmusik Neuwied - ECPv6.15.20//NONSGML v1.0//EN
CALSCALE:GREGORIAN
METHOD:PUBLISH
X-WR-CALNAME:Kirchenmusik Neuwied
X-ORIGINAL-URL:https://kirchenmusik-neuwied.de
X-WR-CALDESC:Veranstaltungen für Kirchenmusik Neuwied
REFRESH-INTERVAL;VALUE=DURATION:PT1H
X-Robots-Tag:noindex
X-PUBLISHED-TTL:PT1H
BEGIN:VTIMEZONE
TZID:Europe/Berlin
BEGIN:DAYLIGHT
TZOFFSETFROM:+0100
TZOFFSETTO:+0200
TZNAME:CEST
DTSTART:20220327T010000
END:DAYLIGHT
BEGIN:STANDARD
TZOFFSETFROM:+0200
TZOFFSETTO:+0100
TZNAME:CET
DTSTART:20221030T010000
END:STANDARD
BEGIN:DAYLIGHT
TZOFFSETFROM:+0100
TZOFFSETTO:+0200
TZNAME:CEST
DTSTART:20230326T010000
END:DAYLIGHT
BEGIN:STANDARD
TZOFFSETFROM:+0200
TZOFFSETTO:+0100
TZNAME:CET
DTSTART:20231029T010000
END:STANDARD
BEGIN:DAYLIGHT
TZOFFSETFROM:+0100
TZOFFSETTO:+0200
TZNAME:CEST
DTSTART:20240331T010000
END:DAYLIGHT
BEGIN:STANDARD
TZOFFSETFROM:+0200
TZOFFSETTO:+0100
TZNAME:CET
DTSTART:20241027T010000
END:STANDARD
END:VTIMEZONE
BEGIN:VEVENT
DTSTART;TZID=Europe/Berlin:20230618T180000
DTEND;TZID=Europe/Berlin:20230618T190000
DTSTAMP:20260425T054926
CREATED:20230521T111557Z
LAST-MODIFIED:20230521T111557Z
UID:2272-1687111200-1687114800@kirchenmusik-neuwied.de
SUMMARY:Benefizkonzert - Der Schatz liegt in dir!
DESCRIPTION:Benefizkonzert der Musikgruppe-Reflexe: „Der Schatz liegt in dir“\nDie Folgen der Corona-Pandemie führen bis heute zu psychischen Belastungen bei vielen Kindern und Jugendlichen. Mehr Lernprobleme\, Depressionen oder Essstörungen\, das sind weitreichende Auswirkungen auf die Gesundheit von Kindern und Jugendlichen. Für die Musikgruppe „Reflexe“ war in diesem Jahr schnell klar\, dass sie Ihr nächstes Konzert Kindern und Jugendlichen; aber auch deren Eltern widmen wollen. Deshalb dreht sich in ihren Liedern auch alles um Mut\, Wünsche\, Durchhalten und Weiterkämpfen; um die Pubertät\, die zu einer Belastungsprobe für alle Beteiligten führen kann.\nNicht jeder schafft dies allein.\nAm Sonntag\, 18. Juni 2023 um 18 Uhr gestaltet die Musikgruppe „Reflexe“ daher ein Benefizkonzert „Der Schatz liegt in dir!“\, zugunsten des Johanniter-Zentrum für Kinder- und Jugendpsychiatrie\, das in der Feldkirche der Kirchengemeinde Feldkirchen/Altwied stattfinden wird.\n„Die Mitarbeitenden des Johanniter-Zentrums für Kinder- und Jugendpsychiatrie geben jeden Tag ihr Bestes – aus Liebe zum Leben. Sie setzen sich ein für eine bestmögliche Behandlung und unterstützen Patienten wie Angehörige in ihrer aktuellen Lebenssituation. Eine ganzheitliche Versorgung und Pflege erfordert nicht nur Herzblut\, Passion und Engagement\, sie fordert mehr als das\, was Kostenträger vorgeben.“ Genau aus diesem Grund werden die Spenden an das Johanniter Zentrum übergeben\, für neue Therapien\, neue digitale Angebote\, mehr Betreuung.\nDie Musikgruppe „Reflexe“ freut sich auf viele junge\, neue\, alte Gesichter. Jeder ist willkommen!
URL:https://kirchenmusik-neuwied.de/event/benefizkonzert-der-schatz-liegt-in-dir/
LOCATION:Ev. Feldkirche\, Feldkircher Str. 89\, Neuwied\, 56567\, Deutschland
CATEGORIES:Musikgruppe
ATTACH;FMTTYPE=image/jpeg:https://kirchenmusik-neuwied.de/wp-content/uploads/2023/05/Plakat-Benefizkonzert-18-06-2023-Der-Schatz-liegt-in-Dir-scaled.jpg
END:VEVENT
END:VCALENDAR