BEGIN:VCALENDAR
VERSION:2.0
PRODID:-//Kirchenmusik Neuwied - ECPv6.15.20//NONSGML v1.0//EN
CALSCALE:GREGORIAN
METHOD:PUBLISH
X-WR-CALNAME:Kirchenmusik Neuwied
X-ORIGINAL-URL:https://kirchenmusik-neuwied.de
X-WR-CALDESC:Veranstaltungen für Kirchenmusik Neuwied
REFRESH-INTERVAL;VALUE=DURATION:PT1H
X-Robots-Tag:noindex
X-PUBLISHED-TTL:PT1H
BEGIN:VTIMEZONE
TZID:Europe/Berlin
BEGIN:DAYLIGHT
TZOFFSETFROM:+0100
TZOFFSETTO:+0200
TZNAME:CEST
DTSTART:20220327T010000
END:DAYLIGHT
BEGIN:STANDARD
TZOFFSETFROM:+0200
TZOFFSETTO:+0100
TZNAME:CET
DTSTART:20221030T010000
END:STANDARD
BEGIN:DAYLIGHT
TZOFFSETFROM:+0100
TZOFFSETTO:+0200
TZNAME:CEST
DTSTART:20230326T010000
END:DAYLIGHT
BEGIN:STANDARD
TZOFFSETFROM:+0200
TZOFFSETTO:+0100
TZNAME:CET
DTSTART:20231029T010000
END:STANDARD
BEGIN:DAYLIGHT
TZOFFSETFROM:+0100
TZOFFSETTO:+0200
TZNAME:CEST
DTSTART:20240331T010000
END:DAYLIGHT
BEGIN:STANDARD
TZOFFSETFROM:+0200
TZOFFSETTO:+0100
TZNAME:CET
DTSTART:20241027T010000
END:STANDARD
END:VTIMEZONE
BEGIN:VEVENT
DTSTART;TZID=Europe/Berlin:20231007T120000
DTEND;TZID=Europe/Berlin:20231007T130000
DTSTAMP:20260424T175152
CREATED:20230524T095135Z
LAST-MODIFIED:20230826T075223Z
UID:2281-1696680000-1696683600@kirchenmusik-neuwied.de
SUMMARY:Kammerchorkonzert: In Gottes Liebe II
DESCRIPTION:Kammerchorkonzert: In Gottes Liebe II\n(Musik zum Mittagsläuten XXL) \n  \nWerke von Lasso\, Gabrieli\, Gade\, Esenvalds\, Lukaszewski\, McDowall u.a. \nKAMMERCHOR NEUWIED \nLeitung\, Alina Gehlen \n  \nEintritt frei\, Spenden zur Deckung der Kosten erbeten \nAm 01. Oktober 2023 um 17:00 gibt es in St. Margarita (Neustadt-Wied) eine weitere Möglichkeit den Kammerchor Neuwied mit diesem Programm zu hören.
URL:https://kirchenmusik-neuwied.de/event/kammerchorkonzert-in-gottes-liebe-ii/
LOCATION:St. Matthias-Kirche\, Heddesdorfer Str. 10\, Neuwied\, 56564\, Deutschland
CATEGORIES:Chorkonzert,Chormusik im Gottesdienst,Konzert
ATTACH;FMTTYPE=image/jpeg:https://kirchenmusik-neuwied.de/wp-content/uploads/2023/05/In-Gottes-Liebe-scaled.jpg
ORGANIZER;CN="Pfarrei Neuwied St. Matthias":MAILTO:alina.gehlen@bgv-trier.de
END:VEVENT
END:VCALENDAR