BEGIN:VCALENDAR
VERSION:2.0
PRODID:-//Kirchenmusik Neuwied - ECPv6.15.20//NONSGML v1.0//EN
CALSCALE:GREGORIAN
METHOD:PUBLISH
X-ORIGINAL-URL:https://kirchenmusik-neuwied.de
X-WR-CALDESC:Veranstaltungen für Kirchenmusik Neuwied
REFRESH-INTERVAL;VALUE=DURATION:PT1H
X-Robots-Tag:noindex
X-PUBLISHED-TTL:PT1H
BEGIN:VTIMEZONE
TZID:Europe/Berlin
BEGIN:DAYLIGHT
TZOFFSETFROM:+0100
TZOFFSETTO:+0200
TZNAME:CEST
DTSTART:20230326T010000
END:DAYLIGHT
BEGIN:STANDARD
TZOFFSETFROM:+0200
TZOFFSETTO:+0100
TZNAME:CET
DTSTART:20231029T010000
END:STANDARD
BEGIN:DAYLIGHT
TZOFFSETFROM:+0100
TZOFFSETTO:+0200
TZNAME:CEST
DTSTART:20240331T010000
END:DAYLIGHT
BEGIN:STANDARD
TZOFFSETFROM:+0200
TZOFFSETTO:+0100
TZNAME:CET
DTSTART:20241027T010000
END:STANDARD
BEGIN:DAYLIGHT
TZOFFSETFROM:+0100
TZOFFSETTO:+0200
TZNAME:CEST
DTSTART:20250330T010000
END:DAYLIGHT
BEGIN:STANDARD
TZOFFSETFROM:+0200
TZOFFSETTO:+0100
TZNAME:CET
DTSTART:20251026T010000
END:STANDARD
END:VTIMEZONE
BEGIN:VEVENT
DTSTART;TZID=Europe/Berlin:20240830T190000
DTEND;TZID=Europe/Berlin:20240830T203000
DTSTAMP:20260424T092212
CREATED:20231212T110631Z
LAST-MODIFIED:20240713T095422Z
UID:2538-1725044400-1725049800@kirchenmusik-neuwied.de
SUMMARY:Gospelsongs & Evergreens
DESCRIPTION:Der Neuwieder Gospelchor SING ON konzertiert am Freitag\, dem 30. August um 19 Uhr in der Marktkirche. Unter der Leitung von Kirchenmusikdirektor Thomas Schmidt singt er klassische und moderne Gospelsongs. \nMitwirkende: \n\nSING – ON – Gospelchor Neuwied\nAlexander Reffgen – Saxophon\nIwo Iwanov – Bass\nLeitung: KMD Thomas Schmidt\n\nUnter klassischen Gospelsongs versteht man Lieder wie „O happy day“ oder „Amazing grace“. Die Gospelmusik hat sich aber immer weiterentwickelt. Moderne Titel wie „Soon and very soon“ von Andrae Crouch und viele andere bilden den zweiten Schwerpunkt des Programms. Zusätzlich erklingen auch Evergreens von Louis Armstrong bis Simon&Garfunkel.
URL:https://kirchenmusik-neuwied.de/event/gospelsongs-evergreens/
LOCATION:Marktkirche\, Pfarrer-Werner-Mörchen-Straße 1\, Neuwied\, 56564\, Deutschland
CATEGORIES:Gospelkonzert
ATTACH;FMTTYPE=image/jpeg:https://kirchenmusik-neuwied.de/wp-content/uploads/2024/07/Singon_Plakat_A3_FA_druck_mp_0724_1-klein.jpg
END:VEVENT
END:VCALENDAR