BEGIN:VCALENDAR
VERSION:2.0
PRODID:-//Kirchenmusik Neuwied - ECPv6.15.20//NONSGML v1.0//EN
CALSCALE:GREGORIAN
METHOD:PUBLISH
X-WR-CALNAME:Kirchenmusik Neuwied
X-ORIGINAL-URL:https://kirchenmusik-neuwied.de
X-WR-CALDESC:Veranstaltungen für Kirchenmusik Neuwied
REFRESH-INTERVAL;VALUE=DURATION:PT1H
X-Robots-Tag:noindex
X-PUBLISHED-TTL:PT1H
BEGIN:VTIMEZONE
TZID:Europe/Berlin
BEGIN:DAYLIGHT
TZOFFSETFROM:+0100
TZOFFSETTO:+0200
TZNAME:CEST
DTSTART:20220327T010000
END:DAYLIGHT
BEGIN:STANDARD
TZOFFSETFROM:+0200
TZOFFSETTO:+0100
TZNAME:CET
DTSTART:20221030T010000
END:STANDARD
BEGIN:DAYLIGHT
TZOFFSETFROM:+0100
TZOFFSETTO:+0200
TZNAME:CEST
DTSTART:20230326T010000
END:DAYLIGHT
BEGIN:STANDARD
TZOFFSETFROM:+0200
TZOFFSETTO:+0100
TZNAME:CET
DTSTART:20231029T010000
END:STANDARD
BEGIN:DAYLIGHT
TZOFFSETFROM:+0100
TZOFFSETTO:+0200
TZNAME:CEST
DTSTART:20240331T010000
END:DAYLIGHT
BEGIN:STANDARD
TZOFFSETFROM:+0200
TZOFFSETTO:+0100
TZNAME:CET
DTSTART:20241027T010000
END:STANDARD
END:VTIMEZONE
BEGIN:VEVENT
DTSTART;TZID=Europe/Berlin:20230709T180000
DTEND;TZID=Europe/Berlin:20230709T190000
DTSTAMP:20260424T051726
CREATED:20230421T111726Z
LAST-MODIFIED:20230421T111726Z
UID:2245-1688925600-1688929200@kirchenmusik-neuwied.de
SUMMARY:Soli Deo Gloria - Evensong zum Jubiläum
DESCRIPTION:Am 9. Juli\, 18:00 Uhr lädt die Ev. Kirchengemeinde Feldkirchen-Atwied\, anlässlich „über 100 Jahre Chorgesang in der Gemeinde – 110 Jahre Kantorei Feldkirchen-Altwied“\, zu einem Evensong in die Feldkirche ein.\nMitwirkende sind:\nKantorei Feldkirchen-Altwied\nBernd Kämpf\, Orgel\nSabine Paganetti\, Leitung\nAndrea und Heiko Ehrhardt\, Liturgie
URL:https://kirchenmusik-neuwied.de/event/soli-deo-gloria-evensong-zum-jubilaeum/
LOCATION:Ev. Feldkirche\, Feldkircher Str. 89\, Neuwied\, 56567\, Deutschland
CATEGORIES:Evensong
ATTACH;FMTTYPE=image/png:https://kirchenmusik-neuwied.de/wp-content/uploads/2023/04/Evensong-09.07.2023.png
ORGANIZER;CN="Evangelische Kirchengemeinde Feldkirchen-Altwied":MAILTO:feldkirchen-altwied@ekir.de
END:VEVENT
END:VCALENDAR