BEGIN:VCALENDAR
VERSION:2.0
PRODID:-//Kirchenmusik Neuwied - ECPv6.15.20//NONSGML v1.0//EN
CALSCALE:GREGORIAN
METHOD:PUBLISH
X-ORIGINAL-URL:https://kirchenmusik-neuwied.de
X-WR-CALDESC:Veranstaltungen für Kirchenmusik Neuwied
REFRESH-INTERVAL;VALUE=DURATION:PT1H
X-Robots-Tag:noindex
X-PUBLISHED-TTL:PT1H
BEGIN:VTIMEZONE
TZID:Europe/Berlin
BEGIN:DAYLIGHT
TZOFFSETFROM:+0100
TZOFFSETTO:+0200
TZNAME:CEST
DTSTART:20240331T010000
END:DAYLIGHT
BEGIN:STANDARD
TZOFFSETFROM:+0200
TZOFFSETTO:+0100
TZNAME:CET
DTSTART:20241027T010000
END:STANDARD
BEGIN:DAYLIGHT
TZOFFSETFROM:+0100
TZOFFSETTO:+0200
TZNAME:CEST
DTSTART:20250330T010000
END:DAYLIGHT
BEGIN:STANDARD
TZOFFSETFROM:+0200
TZOFFSETTO:+0100
TZNAME:CET
DTSTART:20251026T010000
END:STANDARD
BEGIN:DAYLIGHT
TZOFFSETFROM:+0100
TZOFFSETTO:+0200
TZNAME:CEST
DTSTART:20260329T010000
END:DAYLIGHT
BEGIN:STANDARD
TZOFFSETFROM:+0200
TZOFFSETTO:+0100
TZNAME:CET
DTSTART:20261025T010000
END:STANDARD
END:VTIMEZONE
BEGIN:VEVENT
DTSTART;TZID=Europe/Berlin:20250706T163000
DTEND;TZID=Europe/Berlin:20250706T173000
DTSTAMP:20260420T090521
CREATED:20241018T123309Z
LAST-MODIFIED:20250530T073548Z
UID:3089-1751819400-1751823000@kirchenmusik-neuwied.de
SUMMARY:Händel: Die neun deutschen Arien
DESCRIPTION:Gesamtaufführung einer außergewöhnlichen kammermusikalischen Sammlung \nLea Jakob\, Sopran\nLucia Jakob\, Sopran\nUlrike Friedrich\, Flöte\nInes Giegold\, Violine\nJörg Rasbach\, Orgel\nUte Josten\, Texte
URL:https://kirchenmusik-neuwied.de/event/haendel-die-neun-deutschen-arien/
LOCATION:Heinrich-Haus\, Neuwieder Str. 21a\, Neuwied\, 56566
CATEGORIES:Kammermusik
ATTACH;FMTTYPE=image/jpeg:https://kirchenmusik-neuwied.de/wp-content/uploads/2024/10/Seite01-4-scaled.jpg
ORGANIZER;CN="Heinrich-Haus%2C Neuwied-Engers":MAILTO:info@heinrich-haus.de
END:VEVENT
END:VCALENDAR