BEGIN:VCALENDAR
VERSION:2.0
PRODID:-//Kirchenmusik Neuwied - ECPv6.15.20//NONSGML v1.0//EN
CALSCALE:GREGORIAN
METHOD:PUBLISH
X-WR-CALNAME:Kirchenmusik Neuwied
X-ORIGINAL-URL:https://kirchenmusik-neuwied.de
X-WR-CALDESC:Veranstaltungen für Kirchenmusik Neuwied
REFRESH-INTERVAL;VALUE=DURATION:PT1H
X-Robots-Tag:noindex
X-PUBLISHED-TTL:PT1H
BEGIN:VTIMEZONE
TZID:Europe/Berlin
BEGIN:DAYLIGHT
TZOFFSETFROM:+0100
TZOFFSETTO:+0200
TZNAME:CEST
DTSTART:20230326T010000
END:DAYLIGHT
BEGIN:STANDARD
TZOFFSETFROM:+0200
TZOFFSETTO:+0100
TZNAME:CET
DTSTART:20231029T010000
END:STANDARD
BEGIN:DAYLIGHT
TZOFFSETFROM:+0100
TZOFFSETTO:+0200
TZNAME:CEST
DTSTART:20240331T010000
END:DAYLIGHT
BEGIN:STANDARD
TZOFFSETFROM:+0200
TZOFFSETTO:+0100
TZNAME:CET
DTSTART:20241027T010000
END:STANDARD
BEGIN:DAYLIGHT
TZOFFSETFROM:+0100
TZOFFSETTO:+0200
TZNAME:CEST
DTSTART:20250330T010000
END:DAYLIGHT
BEGIN:STANDARD
TZOFFSETFROM:+0200
TZOFFSETTO:+0100
TZNAME:CET
DTSTART:20251026T010000
END:STANDARD
END:VTIMEZONE
BEGIN:VEVENT
DTSTART;TZID=Europe/Berlin:20240626T190000
DTEND;TZID=Europe/Berlin:20240626T203000
DTSTAMP:20260421T083036
CREATED:20240510T100050Z
LAST-MODIFIED:20240510T100050Z
UID:2869-1719428400-1719433800@kirchenmusik-neuwied.de
SUMMARY:Europäische Barockmusik
DESCRIPTION:Barockmusik in Altwied\nDie Ev. Kirchengemeinde Feldkirchen-Altwied lädt am Mittwoch\, 26. Juni\, 19:00 Uhr in die Ev. Kirche nach Altwied ein.\nKonstantin Paganetti\, Bariton\, Bernd Kämpf\, Cembalo und Sabine Paganetti\, Orgel präsentieren europäische Barockmusik. Der Eintritt ist frei – es wird eine Kollekte für die Kirchenmusik erbeten.
URL:https://kirchenmusik-neuwied.de/event/europaeische-barockmusik/
LOCATION:Ev. Kirche Altwied\, Burgtorstraße 9\, Neuwied\, 56567
ATTACH;FMTTYPE=image/jpeg:https://kirchenmusik-neuwied.de/wp-content/uploads/2024/05/Barockkonzert.jpg
ORGANIZER;CN="Evangelische Kirchengemeinde Feldkirchen-Altwied":MAILTO:feldkirchen-altwied@ekir.de
END:VEVENT
END:VCALENDAR