BEGIN:VCALENDAR
VERSION:2.0
PRODID:-//Kirchenmusik Neuwied - ECPv6.15.20//NONSGML v1.0//EN
CALSCALE:GREGORIAN
METHOD:PUBLISH
X-WR-CALNAME:Kirchenmusik Neuwied
X-ORIGINAL-URL:https://kirchenmusik-neuwied.de
X-WR-CALDESC:Veranstaltungen für Kirchenmusik Neuwied
REFRESH-INTERVAL;VALUE=DURATION:PT1H
X-Robots-Tag:noindex
X-PUBLISHED-TTL:PT1H
BEGIN:VTIMEZONE
TZID:Europe/Berlin
BEGIN:DAYLIGHT
TZOFFSETFROM:+0100
TZOFFSETTO:+0200
TZNAME:CEST
DTSTART:20240331T010000
END:DAYLIGHT
BEGIN:STANDARD
TZOFFSETFROM:+0200
TZOFFSETTO:+0100
TZNAME:CET
DTSTART:20241027T010000
END:STANDARD
BEGIN:DAYLIGHT
TZOFFSETFROM:+0100
TZOFFSETTO:+0200
TZNAME:CEST
DTSTART:20250330T010000
END:DAYLIGHT
BEGIN:STANDARD
TZOFFSETFROM:+0200
TZOFFSETTO:+0100
TZNAME:CET
DTSTART:20251026T010000
END:STANDARD
BEGIN:DAYLIGHT
TZOFFSETFROM:+0100
TZOFFSETTO:+0200
TZNAME:CEST
DTSTART:20260329T010000
END:DAYLIGHT
BEGIN:STANDARD
TZOFFSETFROM:+0200
TZOFFSETTO:+0100
TZNAME:CET
DTSTART:20261025T010000
END:STANDARD
END:VTIMEZONE
BEGIN:VEVENT
DTSTART;TZID=Europe/Berlin:20251206T120000
DTEND;TZID=Europe/Berlin:20251206T124500
DTSTAMP:20260420T111917
CREATED:20251110T081848Z
LAST-MODIFIED:20251110T081848Z
UID:3584-1765022400-1765025100@kirchenmusik-neuwied.de
SUMMARY:Adventliche Musik zum Mittagsläuten I
DESCRIPTION:CEMBALOMUSIK \nText: Christian Scheinost \nCembalo: Alina Gehlen \n  \nHerzliche Einladung zu den Mittagsmusiken im Advent! Wie in jedem Jahr finden auch in diesem Advent in St. Matthias die traditionellen Mittagsmusiken mit Text und Musik jeweils samstags um 12:00 Uhr statt. \nFreuen Sie sich auf abwechslungsreiche Advents- und Weihnachtsmusik.
URL:https://kirchenmusik-neuwied.de/event/adventliche-musik-zum-mittagslaeuten-i/
LOCATION:St. Matthias\, Neuwied\, Heddesdorfer Str. 10\, Neuwied\, Rheinland-Pfalz\, 56564\, Deutschland
CATEGORIES:Musik zum Mittagsläuten
ATTACH;FMTTYPE=image/png:https://kirchenmusik-neuwied.de/wp-content/uploads/2025/11/Plakat-Mittagsmusik-Advent1-scaled.png
END:VEVENT
BEGIN:VEVENT
DTSTART;TZID=Europe/Berlin:20251206T190000
DTEND;TZID=Europe/Berlin:20251206T193000
DTSTAMP:20260420T111917
CREATED:20251205T122432Z
LAST-MODIFIED:20251205T173151Z
UID:3615-1765047600-1765049400@kirchenmusik-neuwied.de
SUMMARY:Adventsingstunde mit Bläsermusik
DESCRIPTION:Aus der Reihe der musikalischen Singstunden im Advent\nladen wir Sie herzlich zu einer besinnlichen\, festlichen halben Stunde ein.\nIn diesem Jahr erklingen ausgewählte Werke von Johann Sebastian Bach\,\nden wir anlässlich seines 275. Todestages besonders würdigen. \nFreuen Sie sich auf eine stimmungsvolle Adventszeit im großen Saal der\nevangelischen Brüdergemeine – gestaltet vom Bläserchor der Brüdergemeine Neuwied.
URL:https://kirchenmusik-neuwied.de/event/adventsingstunde-mit-blaesermusik/
CATEGORIES:Bläserkonzert
ATTACH;FMTTYPE=image/jpeg:https://kirchenmusik-neuwied.de/wp-content/uploads/2025/12/Unbenannt.jpeg
ORGANIZER;CN="Evangelische Br%C3%BCdergemeine Neuwied (Herrnhuter)":MAILTO:pfarramt@ebg-neuwied.de
END:VEVENT
BEGIN:VEVENT
DTSTART;TZID=Europe/Berlin:20251207T170000
DTEND;TZID=Europe/Berlin:20251207T183000
DTSTAMP:20260420T111917
CREATED:20251112T104918Z
LAST-MODIFIED:20251112T104918Z
UID:3602-1765126800-1765132200@kirchenmusik-neuwied.de
SUMMARY:Adventskonzert: Gregorianik trifft Jazz
DESCRIPTION:Das Vokalensemble TonART lädt am Sonntag\, dem 7. Dezember\, zu einer musikalischen Zeitreise in die Pfarrkirche St. Matthias in Neuwied ein. Die Sängerinnen und Sänger präsentieren unter der Leitung von Peter Uhl weihnachtliche Stücke in unterschiedlichen Variationen von mystischen gregorianischen Gesängen über romantische Bearbeitungen bis hin zu modernen jazzigen Tönen. Begleitet wird der Chor von einem Bläserensemble und einer Pauke. Das Konzert beginnt um 17 Uhr. Der Eintritt kostet 15 €\, ermäßigt 10 €. Karten gibt es in der Buchhandlung Wangler in Neuwied\, online bei Ticket Regional\, allen Mitgliedern des Chores sowie an der Abendkasse.
URL:https://kirchenmusik-neuwied.de/event/adventskonzert-gregorianik-trifft-jazz/
LOCATION:St. Matthias\, Neuwied\, Heddesdorfer Str. 10\, Neuwied\, Rheinland-Pfalz\, 56564\, Deutschland
CATEGORIES:Chorkonzert
ATTACH;FMTTYPE=image/jpeg:https://kirchenmusik-neuwied.de/wp-content/uploads/2025/11/Konzert-TonART-Advent-2025.jpg
END:VEVENT
BEGIN:VEVENT
DTSTART;TZID=Europe/Berlin:20251213T120000
DTEND;TZID=Europe/Berlin:20251213T124500
DTSTAMP:20260420T111917
CREATED:20251110T082124Z
LAST-MODIFIED:20251110T082124Z
UID:3587-1765627200-1765629900@kirchenmusik-neuwied.de
SUMMARY:Adventliche Musik zum Mittagsläuten II
DESCRIPTION:INSTRUMENTALMUSIK \nText: Ursula Pyra \nAkkordeon: Nepomuk Golding \n  \nHerzliche Einladung zu den Mittagsmusiken im Advent! Wie in jedem Jahr finden auch in diesem Advent in St. Matthias die traditionellen Mittagsmusiken mit Text und Musik jeweils samstags um 12:00 Uhr statt. \nFreuen Sie sich auf abwechslungsreiche Advents- und Weihnachtsmusik.
URL:https://kirchenmusik-neuwied.de/event/adventliche-musik-zum-mittagslaeuten-ii/
LOCATION:St. Matthias\, Neuwied\, Heddesdorfer Str. 10\, Neuwied\, Rheinland-Pfalz\, 56564\, Deutschland
CATEGORIES:Musik zum Mittagsläuten
ATTACH;FMTTYPE=image/png:https://kirchenmusik-neuwied.de/wp-content/uploads/2025/11/Plakat-Mittagsmusik-Advent2-scaled.png
END:VEVENT
BEGIN:VEVENT
DTSTART;TZID=Europe/Berlin:20251220T120000
DTEND;TZID=Europe/Berlin:20251220T124500
DTSTAMP:20260420T111917
CREATED:20251110T082315Z
LAST-MODIFIED:20251110T082315Z
UID:3591-1766232000-1766234700@kirchenmusik-neuwied.de
SUMMARY:Adventliche Musik zum Mittagsläuten III
DESCRIPTION:CHORMUSIK \nText: Petra Frey \nKammerChor Koblenz \nLeitung: Thomas Sorger \n  \nHerzliche Einladung zu den Mittagsmusiken im Advent! Wie in jedem Jahr finden auch in diesem Advent in St. Matthias die traditionellen Mittagsmusiken mit Text und Musik jeweils samstags um 12:00 Uhr statt. \nFreuen Sie sich auf abwechslungsreiche Advents- und Weihnachtsmusik.
URL:https://kirchenmusik-neuwied.de/event/adventliche-musik-zum-mittagslaeuten-iii/
LOCATION:St. Matthias\, Neuwied\, Heddesdorfer Str. 10\, Neuwied\, Rheinland-Pfalz\, 56564\, Deutschland
CATEGORIES:Musik zum Mittagsläuten
ATTACH;FMTTYPE=image/png:https://kirchenmusik-neuwied.de/wp-content/uploads/2025/11/Plakat-Mittagsmusik-Advent3-scaled.png
END:VEVENT
BEGIN:VEVENT
DTSTART;TZID=Europe/Berlin:20251227T120000
DTEND;TZID=Europe/Berlin:20251227T124500
DTSTAMP:20260420T111917
CREATED:20251110T082537Z
LAST-MODIFIED:20251110T082545Z
UID:3594-1766836800-1766839500@kirchenmusik-neuwied.de
SUMMARY:Weihnachtsmusik zum Mittagsläuten IV
DESCRIPTION:KAMMERMUSIK \nText: Christian Scheinost \nBariton: Konstantin Paganetti \nTrompete: Thomas Maur \nOrgel: Jörg Rasbach \n  \nHerzliche Einladung zu den Mittagsmusiken im Advent! Wie in jedem Jahr finden auch in diesem Advent in St. Matthias die traditionellen Mittagsmusiken mit Text und Musik jeweils samstags um 12:00 Uhr statt. \nFreuen Sie sich auf abwechslungsreiche Advents- und Weihnachtsmusik.
URL:https://kirchenmusik-neuwied.de/event/weihnachtsmusik-zum-mittagslaeuten-iv/
LOCATION:St. Matthias\, Neuwied\, Heddesdorfer Str. 10\, Neuwied\, Rheinland-Pfalz\, 56564\, Deutschland
CATEGORIES:Musik zum Mittagsläuten
ATTACH;FMTTYPE=image/png:https://kirchenmusik-neuwied.de/wp-content/uploads/2025/11/Plakat-Mittagsmusik-Advent4-scaled.png
END:VEVENT
END:VCALENDAR