BEGIN:VCALENDAR
VERSION:2.0
PRODID:-//Kirchenmusik Neuwied - ECPv6.15.20//NONSGML v1.0//EN
CALSCALE:GREGORIAN
METHOD:PUBLISH
X-WR-CALNAME:Kirchenmusik Neuwied
X-ORIGINAL-URL:https://kirchenmusik-neuwied.de
X-WR-CALDESC:Veranstaltungen für Kirchenmusik Neuwied
REFRESH-INTERVAL;VALUE=DURATION:PT1H
X-Robots-Tag:noindex
X-PUBLISHED-TTL:PT1H
BEGIN:VTIMEZONE
TZID:Europe/Berlin
BEGIN:DAYLIGHT
TZOFFSETFROM:+0100
TZOFFSETTO:+0200
TZNAME:CEST
DTSTART:20240331T010000
END:DAYLIGHT
BEGIN:STANDARD
TZOFFSETFROM:+0200
TZOFFSETTO:+0100
TZNAME:CET
DTSTART:20241027T010000
END:STANDARD
BEGIN:DAYLIGHT
TZOFFSETFROM:+0100
TZOFFSETTO:+0200
TZNAME:CEST
DTSTART:20250330T010000
END:DAYLIGHT
BEGIN:STANDARD
TZOFFSETFROM:+0200
TZOFFSETTO:+0100
TZNAME:CET
DTSTART:20251026T010000
END:STANDARD
BEGIN:DAYLIGHT
TZOFFSETFROM:+0100
TZOFFSETTO:+0200
TZNAME:CEST
DTSTART:20260329T010000
END:DAYLIGHT
BEGIN:STANDARD
TZOFFSETFROM:+0200
TZOFFSETTO:+0100
TZNAME:CET
DTSTART:20261025T010000
END:STANDARD
END:VTIMEZONE
BEGIN:VEVENT
DTSTART;TZID=Europe/Berlin:20251101T150000
DTEND;TZID=Europe/Berlin:20251101T160000
DTSTAMP:20260420T130152
CREATED:20250822T054913Z
LAST-MODIFIED:20250822T054913Z
UID:3500-1762009200-1762012800@kirchenmusik-neuwied.de
SUMMARY:Ich liege\, Herr\, in deiner Hut
DESCRIPTION:4. FRIEDHOFSMUSIK „ICH LIEGE\, HERR\, IN DEINER HUT“\nDie Ev. Kirchengemeinde Feldkirchen-Altwied lädt sehr herzlich zur 4. Friedhofsmusik am Freitag\, dem 1. November 2025\, um 15:00 Uhr auf den Friedhof in Feldkirchen ein.\nVon der Mitte des Friedhofs geht es in die Feldkirche. Im Anschluss erfolgt die Einladung ins Stehcafé.\nAusführende sind:\nKantorei Feldkirchen-Altwied\nFreya Hoffmann\, Bariton-Horn\nHelene Hoffmann\, Euphonium\nBernd Kämpf\, Orgel\nPfr. Martin Lenz Taurat\, Liturgie\nLektor*innen\, Texte\nSabine Paganetti\, Leitung
URL:https://kirchenmusik-neuwied.de/event/ich-liege-herr-in-deiner-hut-3/
LOCATION:Ev. Feldkirche\, Feldkircher Str. 89\, Neuwied\, 56567\, Deutschland
CATEGORIES:Sonderkonzert
ATTACH;FMTTYPE=image/jpeg:https://kirchenmusik-neuwied.de/wp-content/uploads/2025/08/4.-Friedhofsmusik.jpg
ORGANIZER;CN="Evangelische Kirchengemeinde Feldkirchen-Altwied":MAILTO:feldkirchen-altwied@ekir.de
END:VEVENT
BEGIN:VEVENT
DTSTART;TZID=Europe/Berlin:20251107T190000
DTEND;TZID=Europe/Berlin:20251107T200000
DTSTAMP:20260420T130152
CREATED:20250311T115022Z
LAST-MODIFIED:20250311T115038Z
UID:3292-1762542000-1762545600@kirchenmusik-neuwied.de
SUMMARY:Alexandre Zindel - Autoharpsinger
DESCRIPTION:Seltenes Instrument – außergewöhnliche Stimme! Alexandre Zindel ist der einzige professionell tourende Autoharpspieler (Volkszitherspieler) und Sänger in Deutschland. Er kombiniert dieses faszinierende\, von der Zither abstammende Folk-Instrument mit einer feinen\, charaktervollen Stimme in einem abwechslungsreichen Solo-Programm bekannter Folksongs\, Chansons\, Blues und Lieder. Geschichten in deutsch\, französisch und englisch von langer Tradition und zeitloser Schönheit. Sein melodiöser Stil und inniger Vortrag sind von der Presse hoch gelobt worden – ebenso wie seine charmante und informative Moderation.
URL:https://kirchenmusik-neuwied.de/event/alexandre-zindel-autoharpsinger/
LOCATION:Gemeindehaus an der Marktkirche\, Engerser Straße 34\, Neuwied\, 56564\, Deutschland
CATEGORIES:Konzert
ATTACH;FMTTYPE=image/jpeg:https://kirchenmusik-neuwied.de/wp-content/uploads/2025/03/Alexandre_Zindel_Pressefoto_1-scaled.jpg
END:VEVENT
END:VCALENDAR