BEGIN:VCALENDAR
VERSION:2.0
PRODID:-//Kirchenmusik Neuwied - ECPv6.15.20//NONSGML v1.0//EN
CALSCALE:GREGORIAN
METHOD:PUBLISH
X-ORIGINAL-URL:https://kirchenmusik-neuwied.de
X-WR-CALDESC:Veranstaltungen für Kirchenmusik Neuwied
REFRESH-INTERVAL;VALUE=DURATION:PT1H
X-Robots-Tag:noindex
X-PUBLISHED-TTL:PT1H
BEGIN:VTIMEZONE
TZID:Europe/Berlin
BEGIN:DAYLIGHT
TZOFFSETFROM:+0100
TZOFFSETTO:+0200
TZNAME:CEST
DTSTART:20240331T010000
END:DAYLIGHT
BEGIN:STANDARD
TZOFFSETFROM:+0200
TZOFFSETTO:+0100
TZNAME:CET
DTSTART:20241027T010000
END:STANDARD
BEGIN:DAYLIGHT
TZOFFSETFROM:+0100
TZOFFSETTO:+0200
TZNAME:CEST
DTSTART:20250330T010000
END:DAYLIGHT
BEGIN:STANDARD
TZOFFSETFROM:+0200
TZOFFSETTO:+0100
TZNAME:CET
DTSTART:20251026T010000
END:STANDARD
BEGIN:DAYLIGHT
TZOFFSETFROM:+0100
TZOFFSETTO:+0200
TZNAME:CEST
DTSTART:20260329T010000
END:DAYLIGHT
BEGIN:STANDARD
TZOFFSETFROM:+0200
TZOFFSETTO:+0100
TZNAME:CET
DTSTART:20261025T010000
END:STANDARD
END:VTIMEZONE
BEGIN:VEVENT
DTSTART;TZID=Europe/Berlin:20250202T180000
DTEND;TZID=Europe/Berlin:20250202T190000
DTSTAMP:20260420T144517
CREATED:20241018T121705Z
LAST-MODIFIED:20241021T085403Z
UID:3084-1738519200-1738522800@kirchenmusik-neuwied.de
SUMMARY:Missa 4 You(th)
DESCRIPTION:Gottesdienst mit Pop-Messe \nTjark Baumann: Missa 4 You(th) \nChor der Kirchengemeinde Engers\nJugendchor St. Matthias und SingFI\nBand\nLucia Jakob\, Sopran\nKlavier / Leitung: Katharina Fölster und Jörg Rasbach\nLIturgie: Christian Scheinost
URL:https://kirchenmusik-neuwied.de/event/missa-4-youth-2/
LOCATION:Kath. Kirche St. Peter und Paul\, Irlich\, Apostelstr.\, 56567 Neuwied\, RLP\, 56567\, Deutschland
CATEGORIES:Chormusik im Gottesdienst
ATTACH;FMTTYPE=image/jpeg:https://kirchenmusik-neuwied.de/wp-content/uploads/2024/10/Seite01-1-scaled.jpg
END:VEVENT
BEGIN:VEVENT
DTSTART;TZID=Europe/Berlin:20250207T190000
DTEND;TZID=Europe/Berlin:20250207T200000
DTSTAMP:20260420T144517
CREATED:20240928T124747Z
LAST-MODIFIED:20240928T124747Z
UID:3037-1738954800-1738958400@kirchenmusik-neuwied.de
SUMMARY:Klavierabend mit Petra Gries
DESCRIPTION:John Field: Nocturne B-Dur  no. 5\n(1782–1837) \nGazebo: I like Chopin\n(* 1960) \nFrédéric Chopin: Nocturne  BI 49\n(1810–1849) Nocturne  op. Post. 72  no 1\n			Valse  op. 69 no. 1\n			Mazurka op. 7 no. 2				 \nPetra Gries: Frühlingswalzer\n			Sinfonie für Frieden\n			Loneliness\n			on angel wings  	   				 \nOlivier Toussaint: Ballade pour Adeline\n(* 1943)	         	 \nGeorg-Friedrich Händel:	Passacaglia g-Moll  HWV  432\n(1685–1759)			    Chaconne c-Dur  HWV  443\n						Fantasia  a-Moll   ( ohne HWV )   		 \nClaude Debussy:	rêverie\n(1862–1918)	 \nFrancesco de Benedittis: écris l`histoire\n(* 1974)\n&  Davide Esposito ( * 1960 ) \nVladimir Cosma:	you` re eyes\n(* 1940)		David ` s  song
URL:https://kirchenmusik-neuwied.de/event/klavierabend-mit-petra-gries-2/
LOCATION:Gemeindehaus an der Marktkirche\, Engerser Straße 34\, Neuwied\, 56564\, Deutschland
CATEGORIES:Freitagskonzert
ATTACH;FMTTYPE=image/jpeg:https://kirchenmusik-neuwied.de/wp-content/uploads/2024/09/Petra-Gries_quer_400.jpg
END:VEVENT
BEGIN:VEVENT
DTSTART;TZID=Europe/Berlin:20250209T180000
DTEND;TZID=Europe/Berlin:20250209T190000
DTSTAMP:20260420T144517
CREATED:20241211T153136Z
LAST-MODIFIED:20250126T114335Z
UID:3196-1739124000-1739127600@kirchenmusik-neuwied.de
SUMMARY:Neuwieder Evensong
DESCRIPTION:Neuwieder Evensong \nNEUWIED. Der nächste Neuwieder Evensong findet am Sonntag\, dem 09. Februar um 18 Uhr in St. Matthias statt. Die Kirchengemeinden der Innenstadt setzen damit ihre ökumenischen Abendgebete fort. \nEs singt die Chorgemeinschaft Uhl unter der Leitung von Dekanatskantor Peter Uhl\, Kreiskantor Thomas Schmidt spielt die Klais-Orgel\, und die Liturgie liegt in den Händen von Julia Arfmann-Knübel und Christian Scheinost. \nDie Evensongs werden von den Evangelischen Kirchengemeinden Neuwied und der Katholischen Pfarrei Neuwied St. Matthias durchgeführt. Hinter dem englischen Namen Evensong verbirgt sich eine Gottesdienstform\, bei der die Musik im Mittelpunkt steht – nicht das gesprochene Wort. Zwar gibt es Lesungen aus der Bibel und statt einer langen Predigt nur einen kurzen geistlichen Impuls. Aber in erster Linie erklingt viel Musik\, und zwar sowohl von guten regionalen Chören als auch im Wechsel mit den Besuchern. Die Gefühle werden durch die Musik stärker angesprochen als im normalen Gottesdienst. \nDer Evensong ist das Abendgebet der anglikanischen Kirche. Er ist also weder katholisch noch evangelisch. Aber er wird in Neuwied ökumenisch gefeiert\, und darauf wird auch fest geachtet: Es sind immer zwei Geistliche der evangelischen und katholischen Kirche beteiligt.
URL:https://kirchenmusik-neuwied.de/event/oekum-evensong/
LOCATION:St. Matthias\, Neuwied\, Heddesdorfer Str. 10\, Neuwied\, Rheinland-Pfalz\, 56564\, Deutschland
CATEGORIES:Evensong,Musikfest
ATTACH;FMTTYPE=image/jpeg:https://kirchenmusik-neuwied.de/wp-content/uploads/2023/03/evensong-logo_400-3.jpg
END:VEVENT
BEGIN:VEVENT
DTSTART;TZID=Europe/Berlin:20250221T180000
DTEND;TZID=Europe/Berlin:20250221T190000
DTSTAMP:20260420T144517
CREATED:20250216T094222Z
LAST-MODIFIED:20250216T094222Z
UID:3259-1740160800-1740164400@kirchenmusik-neuwied.de
SUMMARY:Offenes Singen
DESCRIPTION:Offenes Singen für Zusammenhalt\, Respekt\, Vielfalt und Demokratie \nin St. Matthias Neuwied \n  \nMusik: Jörg Rasbach \nTexte: Petra Frey\, Christian Scheinost
URL:https://kirchenmusik-neuwied.de/event/offenes-singen/
LOCATION:St. Matthias\, Neuwied\, Heddesdorfer Str. 10\, Neuwied\, Rheinland-Pfalz\, 56564\, Deutschland
CATEGORIES:Offenes Singen
ATTACH;FMTTYPE=image/jpeg:https://kirchenmusik-neuwied.de/wp-content/uploads/2025/02/signal-2025-02-16-103535.jpeg
END:VEVENT
BEGIN:VEVENT
DTSTART;TZID=Europe/Berlin:20250223T163000
DTEND;TZID=Europe/Berlin:20250223T173000
DTSTAMP:20260420T144517
CREATED:20241112T135234Z
LAST-MODIFIED:20241112T135353Z
UID:3134-1740328200-1740331800@kirchenmusik-neuwied.de
SUMMARY:In Gedenken an Albert Schweitzer
DESCRIPTION:Anlässlich des 150. Geburtstages von Albert Schweitzer lädt die Ev. Kirchengemeinde Feldkirchen-Altwied und der Förderverein Kirchenmusik zu einem ganz besonderen Konzert am 23. Februar\, um 16:30 Uhr in die Ev. Feldkirche/Neuwied ein.\nAusführende sind:\nJohannes Geffert\, Orgel\nAdhimukti Breidenbach\, Trommeln\nVokalensemble „Vokal im Tal“\, Leitung: Sabine Paganetti\nEintritt: 10\,00 €\, kein Vorverkauf! \nZuvor berichten die Dres. med Ruth u. Michael Waas um 14:30 Uhr im Ev. Gemeindehaus an der Feldkirche über ihren vierjährigen ärztlichen Dienst in Uganda.\nDer Eintritt ist frei!
URL:https://kirchenmusik-neuwied.de/event/in-gedenken-an-albert-schweitzer/
LOCATION:Ev. Feldkirche\, Feldkircher Str. 89\, Neuwied\, 56567\, Deutschland
CATEGORIES:Orgelkonzert
ATTACH;FMTTYPE=image/jpeg:https://kirchenmusik-neuwied.de/wp-content/uploads/2024/11/Orgelkonzert-Albert-Schweitzer_web.jpg
ORGANIZER;CN="Evangelische Kirchengemeinde Feldkirchen-Altwied":MAILTO:feldkirchen-altwied@ekir.de
END:VEVENT
BEGIN:VEVENT
DTSTART;TZID=Europe/Berlin:20250223T170000
DTEND;TZID=Europe/Berlin:20250223T180000
DTSTAMP:20260420T144517
CREATED:20241114T082121Z
LAST-MODIFIED:20250205T214108Z
UID:3170-1740330000-1740333600@kirchenmusik-neuwied.de
SUMMARY:Missa 4 You(th)
DESCRIPTION:Gottesdienst mit Pop-Messe \nTjark Baumann: Missa 4 You(th) \nChor der Kirchengemeinde Engers\nJugendchor St. Matthias und SingFI\nBand\nLea Jakob\, Sopran\nLucia Jakob\, Sopran\nRolf Ehlers\, Bariton\nKlavier / Leitung: Katharina Fölster und Jörg Rasbach\nLIturgie:Martin Hassler
URL:https://kirchenmusik-neuwied.de/event/missa-4-youth-3/
LOCATION:Ev Kirche Niederbieer\, Am Kirchberg 11\, Neuwied\, 56567
CATEGORIES:Chormusik im Gottesdienst
ATTACH;FMTTYPE=image/jpeg:https://kirchenmusik-neuwied.de/wp-content/uploads/2024/11/Seite01-2-scaled.jpg
END:VEVENT
END:VCALENDAR