BEGIN:VCALENDAR
VERSION:2.0
PRODID:-//Kirchenmusik Neuwied - ECPv6.15.20//NONSGML v1.0//EN
CALSCALE:GREGORIAN
METHOD:PUBLISH
X-WR-CALNAME:Kirchenmusik Neuwied
X-ORIGINAL-URL:https://kirchenmusik-neuwied.de
X-WR-CALDESC:Veranstaltungen für Kirchenmusik Neuwied
REFRESH-INTERVAL;VALUE=DURATION:PT1H
X-Robots-Tag:noindex
X-PUBLISHED-TTL:PT1H
BEGIN:VTIMEZONE
TZID:Europe/Berlin
BEGIN:DAYLIGHT
TZOFFSETFROM:+0100
TZOFFSETTO:+0200
TZNAME:CEST
DTSTART:20230326T010000
END:DAYLIGHT
BEGIN:STANDARD
TZOFFSETFROM:+0200
TZOFFSETTO:+0100
TZNAME:CET
DTSTART:20231029T010000
END:STANDARD
BEGIN:DAYLIGHT
TZOFFSETFROM:+0100
TZOFFSETTO:+0200
TZNAME:CEST
DTSTART:20240331T010000
END:DAYLIGHT
BEGIN:STANDARD
TZOFFSETFROM:+0200
TZOFFSETTO:+0100
TZNAME:CET
DTSTART:20241027T010000
END:STANDARD
BEGIN:DAYLIGHT
TZOFFSETFROM:+0100
TZOFFSETTO:+0200
TZNAME:CEST
DTSTART:20250330T010000
END:DAYLIGHT
BEGIN:STANDARD
TZOFFSETFROM:+0200
TZOFFSETTO:+0100
TZNAME:CET
DTSTART:20251026T010000
END:STANDARD
END:VTIMEZONE
BEGIN:VEVENT
DTSTART;TZID=Europe/Berlin:20241201T170000
DTEND;TZID=Europe/Berlin:20241201T183000
DTSTAMP:20260420T180557
CREATED:20241112T094547Z
LAST-MODIFIED:20241112T095402Z
UID:3116-1733072400-1733077800@kirchenmusik-neuwied.de
SUMMARY:Wachet auf\, ruft uns die Stimme
DESCRIPTION:Aus Anlass „50 Jahre Mayer-Orgel in Hl. Kreuz“ findet am 1. Dezember\, 17:00 Uhr ein Adventskonzert mit Motetten und Orgelmusik in der Hl. Kreuz Kirche in Neuwied statt.\nAusführende:\nVokalensemble\nLeitung und Orgel\, Bernd Kämpf\nEintritt frei!
URL:https://kirchenmusik-neuwied.de/event/orgelmusik-zum-advent/
LOCATION:Hl Kreuz Kirche\, Neuwied\, Reckstr.\, Neuwied\, 56564
CATEGORIES:Orgelkonzert
ATTACH;FMTTYPE=image/jpeg:https://kirchenmusik-neuwied.de/wp-content/uploads/2024/11/Plakat-50-Jahre-Orgel-Hl.-Kreuz_web.jpg
END:VEVENT
BEGIN:VEVENT
DTSTART;TZID=Europe/Berlin:20241207T120000
DTEND;TZID=Europe/Berlin:20241207T124000
DTSTAMP:20260420T180557
CREATED:20240901T151212Z
LAST-MODIFIED:20241113T153537Z
UID:2985-1733572800-1733575200@kirchenmusik-neuwied.de
SUMMARY:Adventsmusik zum Mittagsläuten I
DESCRIPTION:Advent – bald gibt’s Geschenke \nWenn ich die Kinder in der Kita frage\, was an Weihnachten passiert\, fällt als erstes das Wort „Geschenke“ und in gewisser Weise haben sie Recht. Ich werde beschenkt – „Gott schenkt uns seinen Sohn“ wie es im bekannten Weihnachtslied „Lobt Gott ihr Christen alle gleich“ heißt. Wenn ich weiß\, ich bekomme ein Geschenk\, freue ich mich darauf und Vorfreude ist bekanntlich die schönste Freude. Als Erwachsene verbinde ich die Adventszeit aber auch oft mit Stress und der Erwartungshaltung „anderen etwas schenken zu müssen“. Es fällt manchmal schwer nicht aus den Augen zu verlieren\, dass Advent die Vorbereitungszeit für ein Geschenk ist\, das ich selbst bekomme\, ohne Gegenleistung.\nMit den Mittagsmusiken am zweiten\, dritten und vierten Advent in St. Matthias möchten wir Sie wie auch in den letzten Jahren herzlich einladen\, beginnend mit dem Geläute des Kirchturms samstags um 12:00\, sich eine halbe Stunde mit besinnlicher Musik und Text beschenken zu lassen\, die Vorfreude auf das kommende\, großartige Geschenk zu entdecken und sich so auf ein wundervolles Weihnachtsfest vorzubereiten. \nEine weitere Mittagsmusik mit weihnachtlichen Impulsen findet am 28.12. statt. \n  \nORGELMUSIK \nText: Petra Frey \nOrgel: Alina Gehlen
URL:https://kirchenmusik-neuwied.de/event/adventsmusik-zum-mittagslaeuten-i-2/
LOCATION:St. Matthias\, Neuwied\, Heddesdorfer Str. 10\, Neuwied\, Rheinland-Pfalz\, 56564\, Deutschland
CATEGORIES:Musik zum Mittagsläuten
ATTACH;FMTTYPE=image/png:https://kirchenmusik-neuwied.de/wp-content/uploads/2024/09/Plakat-Mittagsmusik-1.png
END:VEVENT
BEGIN:VEVENT
DTSTART;TZID=Europe/Berlin:20241214T120000
DTEND;TZID=Europe/Berlin:20241214T124000
DTSTAMP:20260420T180557
CREATED:20240901T151447Z
LAST-MODIFIED:20241113T153511Z
UID:2988-1734177600-1734180000@kirchenmusik-neuwied.de
SUMMARY:Adventsmusik zum Mittagsläuten II
DESCRIPTION:Advent – bald gibt’s Geschenke \nWenn ich die Kinder in der Kita frage\, was an Weihnachten passiert\, fällt als erstes das Wort „Geschenke“ und in gewisser Weise haben sie Recht. Ich werde beschenkt – „Gott schenkt uns seinen Sohn“ wie es im bekannten Weihnachtslied „Lobt Gott ihr Christen alle gleich“ heißt. Wenn ich weiß\, ich bekomme ein Geschenk\, freue ich mich darauf und Vorfreude ist bekanntlich die schönste Freude. Als Erwachsene verbinde ich die Adventszeit aber auch oft mit Stress und der Erwartungshaltung „anderen etwas schenken zu müssen“. Es fällt manchmal schwer nicht aus den Augen zu verlieren\, dass Advent die Vorbereitungszeit für ein Geschenk ist\, das ich selbst bekomme\, ohne Gegenleistung.\nMit den Mittagsmusiken am zweiten\, dritten und vierten Advent in St. Matthias möchten wir Sie wie auch in den letzten Jahren herzlich einladen\, beginnend mit dem Geläute des Kirchturms samstags um 12:00\, sich eine halbe Stunde mit besinnlicher Musik und Text beschenken zu lassen\, die Vorfreude auf das kommende\, großartige Geschenk zu entdecken und sich so auf ein wundervolles Weihnachtsfest vorzubereiten. \nEine weitere Mittagsmusik mit weihnachtlichen Impulsen findet am 28.12. statt. \n  \nKAMMERMUSIK \nText: Christian Scheinost \nMusik: \nLucia Jakob\, Sopran \nSandra Mehren\, Alt \nUlrike Friedrich\, Querflöte \nJörg Rasbach\, Orgel
URL:https://kirchenmusik-neuwied.de/event/adventsmusik-zum-mittagslaeuten-ii-2/
LOCATION:St. Matthias\, Neuwied\, Heddesdorfer Str. 10\, Neuwied\, Rheinland-Pfalz\, 56564\, Deutschland
CATEGORIES:Musik zum Mittagsläuten
ATTACH;FMTTYPE=image/png:https://kirchenmusik-neuwied.de/wp-content/uploads/2024/09/Plakat-Mittagsmusik-2.png
END:VEVENT
BEGIN:VEVENT
DTSTART;TZID=Europe/Berlin:20241215T180000
DTEND;TZID=Europe/Berlin:20241215T190000
DTSTAMP:20260420T180557
CREATED:20241112T095739Z
LAST-MODIFIED:20241112T095739Z
UID:3129-1734285600-1734289200@kirchenmusik-neuwied.de
SUMMARY:Mache dich auf\, werde licht!
DESCRIPTION:Evensong am 3. Advent\nAm Sonntag\, dem 15. Dezember um 18:00 Uhr findet in der Kirche in Altwied ein Evensong statt. Bei dieser gottesdienstlichen Form steht das gesungene Wort im Mittelpunkt. Die Kinder- und JugendKantorei sowie die Kantorei Feldkirchen-Altwied unter Leitung von Kantorin Sabine Paganetti werden diesen feierlichen Adventsgottesdienst gestalten.\nBernd Kämpf wird an der Orgel begleiten. Pfarrer Martin Lenz hat die liturgische Leitung.\nAn diesem Tag finden vormittags keine Gottesdienste statt.
URL:https://kirchenmusik-neuwied.de/event/mache-dich-auf-werde-licht/
LOCATION:Ev. Kirche Altwied\, Burgtorstraße 9\, Neuwied\, 56567
CATEGORIES:Evensong
ATTACH;FMTTYPE=image/jpeg:https://kirchenmusik-neuwied.de/wp-content/uploads/2024/11/Evensong-web.jpg
ORGANIZER;CN="Evangelische Kirchengemeinde Feldkirchen-Altwied":MAILTO:feldkirchen-altwied@ekir.de
END:VEVENT
BEGIN:VEVENT
DTSTART;TZID=Europe/Berlin:20241221T120000
DTEND;TZID=Europe/Berlin:20241221T124000
DTSTAMP:20260420T180557
CREATED:20240901T151752Z
LAST-MODIFIED:20241113T153229Z
UID:2990-1734782400-1734784800@kirchenmusik-neuwied.de
SUMMARY:Adventsmusik zum Mittagsläuten III
DESCRIPTION:Advent – bald gibt’s Geschenke \nWenn ich die Kinder in der Kita frage\, was an Weihnachten passiert\, fällt als erstes das Wort „Geschenke“ und in gewisser Weise haben sie Recht. Ich werde beschenkt – „Gott schenkt uns seinen Sohn“ wie es im bekannten Weihnachtslied „Lobt Gott ihr Christen alle gleich“ heißt. Wenn ich weiß\, ich bekomme ein Geschenk\, freue ich mich darauf und Vorfreude ist bekanntlich die schönste Freude. Als Erwachsene verbinde ich die Adventszeit aber auch oft mit Stress und der Erwartungshaltung „anderen etwas schenken zu müssen“. Es fällt manchmal schwer nicht aus den Augen zu verlieren\, dass Advent die Vorbereitungszeit für ein Geschenk ist\, das ich selbst bekomme\, ohne Gegenleistung.\nMit den Mittagsmusiken am zweiten\, dritten und vierten Advent in St. Matthias möchten wir Sie wie auch in den letzten Jahren herzlich einladen\, beginnend mit dem Geläute des Kirchturms samstags um 12:00\, sich eine halbe Stunde mit besinnlicher Musik und Text beschenken zu lassen\, die Vorfreude auf das kommende\, großartige Geschenk zu entdecken und sich so auf ein wundervolles Weihnachtsfest vorzubereiten. \nEine weitere Mittagsmusik mit weihnachtlichen Impulsen findet am 28.12. statt. \n  \nCHORMUSIK \nText: Ursula Pyra \nKammerChor Koblenz \nLeitung: Thomas Sorger
URL:https://kirchenmusik-neuwied.de/event/adventsmusik-zum-mittagslaeuten-iii-2/
LOCATION:St. Matthias\, Neuwied\, Heddesdorfer Str. 10\, Neuwied\, Rheinland-Pfalz\, 56564\, Deutschland
CATEGORIES:Musik zum Mittagsläuten
ATTACH;FMTTYPE=image/png:https://kirchenmusik-neuwied.de/wp-content/uploads/2024/09/Plakat-Mittagsmusik-3.png
END:VEVENT
BEGIN:VEVENT
DTSTART;TZID=Europe/Berlin:20241228T120000
DTEND;TZID=Europe/Berlin:20241228T170000
DTSTAMP:20260420T180557
CREATED:20241202T080740Z
LAST-MODIFIED:20241202T080754Z
UID:3186-1735387200-1735405200@kirchenmusik-neuwied.de
SUMMARY:Weihnachtsmusik zum Mittagsläuten
DESCRIPTION:VOKAL – und INSTRUMENTALMUSIK \nMit der Mittagsmusiken im Sonntag nach Weihnachten in St. Matthias möchten wir Sie wie auch in den letzten Jahren herzlich einladen\, beginnend mit dem Geläute des Kirchturms samstags um 12:00\, sich eine halbe Stunde mit besinnlicher Musik und Text beschenken zu lassen\, die Freude über Jesu Geburt zu entdecken und so ein wundervolles Weihnachtsfest zu genießen. \nText: Christian Scheinost \nVokalensemble St. Matthias \nVioline: Anke Gärtner\, Querflöte: Carmen Mechenich \nOrgel und Leitung: Jörg Rasbach
URL:https://kirchenmusik-neuwied.de/event/weihnachtsmusik-zum-mittagslaeuten/
LOCATION:St. Matthias\, Neuwied\, Heddesdorfer Str. 10\, Neuwied\, Rheinland-Pfalz\, 56564\, Deutschland
CATEGORIES:Musik zum Mittagsläuten
ATTACH;FMTTYPE=image/png:https://kirchenmusik-neuwied.de/wp-content/uploads/2024/12/Plakat-Mittagsmusik-4.png
END:VEVENT
BEGIN:VEVENT
DTSTART;TZID=Europe/Berlin:20241229T180000
DTEND;TZID=Europe/Berlin:20241229T193000
DTSTAMP:20260420T180557
CREATED:20241112T095201Z
LAST-MODIFIED:20241112T095201Z
UID:3121-1735495200-1735500600@kirchenmusik-neuwied.de
SUMMARY:Böhmische Hirtenmesse
DESCRIPTION:Weihnachtskonzert in der Feldkirche\n„Jauchzet nun\, frohlocket\, jubilieret an diesem Freudentag“ !\nAm Sonntag\, 29.12.2024\, 18 Uhr Feldkirche\, findet in der Feldkirche ein großes Weihnachtskonzert statt. Auf dem Programm stehen Weihnachtsliedkompositionen von Hermann Schroeder\, Ignaz Schnabel und als Hauptwerk das Oratorium die „Böhmische Hirtenmesse“ von Jakub Jan Ryba.\nDie herrliche Musik und die volkstümlichen Texte sind hervorragend geeignet\, das große Wunder der Geburt Jesu Christi zu vermitteln. Das Oratorium  gehört seit über 220 Jahren zu den beliebtesten Weihnachtskompositionen nicht nur in Böhmen.\nAusführende sind die Kinder- und JugendKantorei und die Kantorei Feldkirchen-Altwied\, ein Orchester mit Flöte\, Streichern\, Klarinetten\, Hörnern\, Pauke und Orgel\, sowie zwei Solisten.\n„Lobt den Herrn in seiner Pracht\, rühmet seine Macht jetzt und ewig! Amen\, amen!“
URL:https://kirchenmusik-neuwied.de/event/boehmische-hirtenmesse/
LOCATION:Ev. Feldkirche\, Feldkircher Str. 89\, Neuwied\, 56567\, Deutschland
CATEGORIES:Chorkonzert
ATTACH;FMTTYPE=image/jpeg:https://kirchenmusik-neuwied.de/wp-content/uploads/2024/11/Boehmische-Hirtenmesse_web.jpg
ORGANIZER;CN="Evangelische Kirchengemeinde Feldkirchen-Altwied":MAILTO:feldkirchen-altwied@ekir.de
END:VEVENT
BEGIN:VEVENT
DTSTART;TZID=Europe/Berlin:20241231T233000
DTEND;TZID=Europe/Berlin:20241231T233000
DTSTAMP:20260420T180557
CREATED:20241018T120558Z
LAST-MODIFIED:20241202T104543Z
UID:3072-1735687800-1735687800@kirchenmusik-neuwied.de
SUMMARY:Musik zum Mitternachtsläuten
DESCRIPTION:Text – Musik – Gebet\nFestliche Orgelmusik zum Jahreswechsel von Johann Sebastian Bach\, William Mathias und Louis Vierne an der großen romantischen Klais-Orgel. \nThomas Sorger\, Orgel\nChristian Scheinost\, Texte
URL:https://kirchenmusik-neuwied.de/event/musik-zum-mitternachtslaeuten/
LOCATION:St. Matthias\, Neuwied\, Heddesdorfer Str. 10\, Neuwied\, Rheinland-Pfalz\, 56564\, Deutschland
CATEGORIES:Besondere Musik im Gottesdienst
ATTACH;FMTTYPE=image/jpeg:https://kirchenmusik-neuwied.de/wp-content/uploads/2024/10/Mitternachtslaeuten-A4_fin-1.jpg
ORGANIZER;CN="Pfarrei Neuwied St. Matthias":MAILTO:alina.gehlen@bgv-trier.de
END:VEVENT
END:VCALENDAR