BEGIN:VCALENDAR
VERSION:2.0
PRODID:-//Kirchenmusik Neuwied - ECPv6.15.20//NONSGML v1.0//EN
CALSCALE:GREGORIAN
METHOD:PUBLISH
X-WR-CALNAME:Kirchenmusik Neuwied
X-ORIGINAL-URL:https://kirchenmusik-neuwied.de
X-WR-CALDESC:Veranstaltungen für Kirchenmusik Neuwied
REFRESH-INTERVAL;VALUE=DURATION:PT1H
X-Robots-Tag:noindex
X-PUBLISHED-TTL:PT1H
BEGIN:VTIMEZONE
TZID:Europe/Berlin
BEGIN:DAYLIGHT
TZOFFSETFROM:+0100
TZOFFSETTO:+0200
TZNAME:CEST
DTSTART:20230326T010000
END:DAYLIGHT
BEGIN:STANDARD
TZOFFSETFROM:+0200
TZOFFSETTO:+0100
TZNAME:CET
DTSTART:20231029T010000
END:STANDARD
BEGIN:DAYLIGHT
TZOFFSETFROM:+0100
TZOFFSETTO:+0200
TZNAME:CEST
DTSTART:20240331T010000
END:DAYLIGHT
BEGIN:STANDARD
TZOFFSETFROM:+0200
TZOFFSETTO:+0100
TZNAME:CET
DTSTART:20241027T010000
END:STANDARD
BEGIN:DAYLIGHT
TZOFFSETFROM:+0100
TZOFFSETTO:+0200
TZNAME:CEST
DTSTART:20250330T010000
END:DAYLIGHT
BEGIN:STANDARD
TZOFFSETFROM:+0200
TZOFFSETTO:+0100
TZNAME:CET
DTSTART:20251026T010000
END:STANDARD
END:VTIMEZONE
BEGIN:VEVENT
DTSTART;TZID=Europe/Berlin:20240705T190000
DTEND;TZID=Europe/Berlin:20240705T200000
DTSTAMP:20260425T125029
CREATED:20231221T102443Z
LAST-MODIFIED:20231221T102443Z
UID:2596-1720206000-1720209600@kirchenmusik-neuwied.de
SUMMARY:Acoustic Colours
DESCRIPTION:Feuerwerk der Klänge mit Querflöten und Gitarre \nDas Duo ACOUSTIC COLOURS spannt einen großen musikalischen Bogen. Leidenschaft steht bei den Musikern an erster Stelle. Ob Blues\, Klassik oder Swing\, die Künstler begeistern mit Ihrer Vielfalt immer wieder die Zuhörer. \nGitarre und Querflöte\, diese Besetzung lässt verschämte Kammermusik befürchten. Die Power und Vitalität der Klangreisen von Griefingholt & Ruiba belehrt jedoch schnell eines Besseren. Besonders bei den bluesigeren Nummern\, wo sich die versierten Instrumentalisten mehr Ecken und Kanten gönnen\, zeigen sich zwei spannende Persönlichkeiten im Dialog. Griefingholt verleugnet nicht\, wie gut er das Fingerpicking beherrscht\, aber auch klassische Einflüsse werden hörbar. Ihre Bearbeitungen von z.B. Liedern Martin Luthers oder Paul Gerhardts geben den Titeln eine neue Aktualität . Die Besonderheit des Duos ist die überzeugende Einbindung unterschiedlichster musikalischer Stile in einem Programm. \n„Die Musik des Duos ist wie ein erfrischender Cocktail“ urteilte das Kulturmagazin Scala von WDR 5 und kürte ihre CD „Acoustic Colours“ zur „CD der Woche“. \nIn der Marktkirche ist das Duo im Rahmen der Freitagskonzerte zum wiederholten Mal zu Gast. Der Eintritt ist frei.
URL:https://kirchenmusik-neuwied.de/event/acoustic-colours/
LOCATION:Marktkirche\, Pfarrer-Werner-Mörchen-Straße 1\, Neuwied\, 56564\, Deutschland
CATEGORIES:Freitagskonzert
ATTACH;FMTTYPE=image/jpeg:https://kirchenmusik-neuwied.de/wp-content/uploads/2023/12/acoustic-colours_400.jpg
END:VEVENT
BEGIN:VEVENT
DTSTART;TZID=Europe/Berlin:20240711T190000
DTEND;TZID=Europe/Berlin:20240711T201500
DTSTAMP:20260425T125029
CREATED:20240425T075650Z
LAST-MODIFIED:20240504T094317Z
UID:2839-1720724400-1720728900@kirchenmusik-neuwied.de
SUMMARY:Cembalokonzert: Partita - Passacaglia - Pavane
DESCRIPTION:„Partita – Passacaglia – Pavane“ \nEin ganz besonderer Abend – ein Konzert voll von Barocker Tanzmusik für Cembalo – genau das können Sie am 11. Juli 2024 in St. Matthias (Heddesdorfer Str. 10\, Neuwied) um 19:00 Uhr erleben. \nEine „Partita“ bzw. Suite (franz.) ist einer Sammlung an klassischen Tänzen aus verschiedenen Ländern\, wie sie zur Zeit des Barocks an den Höfen getanzt und musiziert wurden und auch die Form Passacaglia und Pavane sind typische Tanzformen des Barocks. Diese damals sehr beliebten Gattungen inspirierten Komponisten zu unzähligen Kompositionen für verschiedene Besetzungen und manch einer verarbeitete sogar bekannte Melodien wie das populäre Lied „Flow my tears“ in einer Tanzform. Am 11. Juli lässt Regionalkantorin Alina Gehlen ein exquisites Programm\, eine Auswahl konzertanter Tanzmusik von J. S. Bach\, G. Muffat\, D. Buxtehude u.a. auf dem Cembalo erklingen. \nAlina Gehlen: Cembalo \n  \nEintritt frei\, Spenden für die Kirchenmusik erbeten
URL:https://kirchenmusik-neuwied.de/event/cembalokonzert/
LOCATION:St. Matthias\, Neuwied\, Heddesdorfer Str. 10\, Neuwied\, Rheinland-Pfalz\, 56564\, Deutschland
CATEGORIES:Sonderkonzert
ATTACH;FMTTYPE=image/jpeg:https://kirchenmusik-neuwied.de/wp-content/uploads/2024/04/Plakat-Cembalokonzert-scaled.jpg
ORGANIZER;CN="Pfarrei Neuwied St. Matthias":MAILTO:alina.gehlen@bgv-trier.de
END:VEVENT
BEGIN:VEVENT
DTSTART;TZID=Europe/Berlin:20240713T190000
DTEND;TZID=Europe/Berlin:20240713T210000
DTSTAMP:20260425T125029
CREATED:20240622T163201Z
LAST-MODIFIED:20240622T163431Z
UID:2954-1720897200-1720904400@kirchenmusik-neuwied.de
SUMMARY:Bläserkonzert
DESCRIPTION:Heiteres Open-Air Konzert mit musikalischen und kulinarischen Köstlichkeiten auf der Gemeindewiese der Herrnhuter Brüdergemeine
URL:https://kirchenmusik-neuwied.de/event/blaeserkonzert/
LOCATION:Herrnhuter Brüdergemeine\, Friedrichstraße 32\, Neuwied\, 56564\, Deutschland
CATEGORIES:Bläserkonzert
ATTACH;FMTTYPE=image/jpeg:https://kirchenmusik-neuwied.de/wp-content/uploads/2024/06/PlakatItalNacht2024-scaled.jpg
ORGANIZER;CN="Evangelische Br%C3%BCdergemeine Neuwied (Herrnhuter)":MAILTO:pfarramt@ebg-neuwied.de
END:VEVENT
BEGIN:VEVENT
DTSTART;TZID=Europe/Berlin:20240714T190000
DTEND;TZID=Europe/Berlin:20240714T200000
DTSTAMP:20260425T125029
CREATED:20240515T095913Z
LAST-MODIFIED:20240616T195355Z
UID:2881-1720983600-1720987200@kirchenmusik-neuwied.de
SUMMARY:Abendmusik mal anders
DESCRIPTION:Kunstlieder und Duette von Purcell\, Mozart\, Schubert\, Schumann\, u.a. \nLea Jakob\, Sopran\nLucia Jakob\, Sopran\nJörg Rasbach\, Klavier \neine besondere Musik im umgestalteten Kirchenraum von St. Michael
URL:https://kirchenmusik-neuwied.de/event/abendmusik-mal-anders-von-menschen-und-tieren/
LOCATION:St. Michael\, Feldkirchen\, Fahrer Str.\, 56567 Neuwied\, Deutschland
CATEGORIES:Sonderkonzert
ATTACH;FMTTYPE=image/jpeg:https://kirchenmusik-neuwied.de/wp-content/uploads/2024/05/Plakat-Abendmusik-anders-Fdk-Juli-2024-scaled.jpg
END:VEVENT
BEGIN:VEVENT
DTSTART;TZID=Europe/Berlin:20240715T000000
DTEND;TZID=Europe/Berlin:20240720T000000
DTSTAMP:20260425T125029
CREATED:20240419T114451Z
LAST-MODIFIED:20240511T144331Z
UID:2822-1721001600-1721433600@kirchenmusik-neuwied.de
SUMMARY:Die Speisung der 5000
DESCRIPTION:Die Speisung der 5000 – 4. Kindersingwoche in Feldkirchen\nEingeladen sind Kinder im Alter zwischen 7 und 13 Jahren\, die gerne singen und Freude an schauspielerischer Darstellung haben. Unter Leitung von Kantorin Sabine Paganetti wird täglich von 10:00 bis 12:30 Uhr im Gemeindesaal an der Feldkirche geprobt. Die Aufführung des Singspiels von Gerd-Peter Münden findet innerhalb des Gottesdienstes am 20. Juli\, um 18:00 Uhr in der Feldkirche statt. Es wird um verbindliche Anmeldung bis zum 1. Juli gebeten:\n– feldkirchen-altwied.de oder 02631 71171\n– sabine.paganetti@ekir.de oder 02631 35503
URL:https://kirchenmusik-neuwied.de/event/die-speising-der-5000/
LOCATION:Gemeindesaal an der Feldkirche\, Feldkircher Straße 89\, Neuwied\, 56567
CATEGORIES:Singspiel
ATTACH;FMTTYPE=image/jpeg:https://kirchenmusik-neuwied.de/wp-content/uploads/2024/04/Plakat-A3_Speisung-der-5000_web.jpg
ORGANIZER;CN="Evangelische Kirchengemeinde Feldkirchen-Altwied":MAILTO:feldkirchen-altwied@ekir.de
END:VEVENT
END:VCALENDAR