BEGIN:VCALENDAR
VERSION:2.0
PRODID:-//Kirchenmusik Neuwied - ECPv6.15.20//NONSGML v1.0//EN
CALSCALE:GREGORIAN
METHOD:PUBLISH
X-WR-CALNAME:Kirchenmusik Neuwied
X-ORIGINAL-URL:https://kirchenmusik-neuwied.de
X-WR-CALDESC:Veranstaltungen für Kirchenmusik Neuwied
REFRESH-INTERVAL;VALUE=DURATION:PT1H
X-Robots-Tag:noindex
X-PUBLISHED-TTL:PT1H
BEGIN:VTIMEZONE
TZID:Europe/Berlin
BEGIN:DAYLIGHT
TZOFFSETFROM:+0100
TZOFFSETTO:+0200
TZNAME:CEST
DTSTART:20230326T010000
END:DAYLIGHT
BEGIN:STANDARD
TZOFFSETFROM:+0200
TZOFFSETTO:+0100
TZNAME:CET
DTSTART:20231029T010000
END:STANDARD
BEGIN:DAYLIGHT
TZOFFSETFROM:+0100
TZOFFSETTO:+0200
TZNAME:CEST
DTSTART:20240331T010000
END:DAYLIGHT
BEGIN:STANDARD
TZOFFSETFROM:+0200
TZOFFSETTO:+0100
TZNAME:CET
DTSTART:20241027T010000
END:STANDARD
BEGIN:DAYLIGHT
TZOFFSETFROM:+0100
TZOFFSETTO:+0200
TZNAME:CEST
DTSTART:20250330T010000
END:DAYLIGHT
BEGIN:STANDARD
TZOFFSETFROM:+0200
TZOFFSETTO:+0100
TZNAME:CET
DTSTART:20251026T010000
END:STANDARD
END:VTIMEZONE
BEGIN:VEVENT
DTSTART;TZID=Europe/Berlin:20240607T190000
DTEND;TZID=Europe/Berlin:20240607T200000
DTSTAMP:20260425T125031
CREATED:20231221T102013Z
LAST-MODIFIED:20240129T101949Z
UID:2593-1717786800-1717790400@kirchenmusik-neuwied.de
SUMMARY:Cembalokonzert: Musik um Bach
DESCRIPTION:Reinhard Glende (Berlin) spielt Werke von Bach\, Händel\, Böhm\, Buxtehude\, Pachelbel\, Krebs u.a.
URL:https://kirchenmusik-neuwied.de/event/cembalokonzert-reinhard-glende/
LOCATION:Marktkirche\, Pfarrer-Werner-Mörchen-Straße 1\, Neuwied\, 56564\, Deutschland
CATEGORIES:Freitagskonzert
ATTACH;FMTTYPE=image/jpeg:https://kirchenmusik-neuwied.de/wp-content/uploads/2023/12/Glende-Cembalo_400.jpg
END:VEVENT
BEGIN:VEVENT
DTSTART;TZID=Europe/Berlin:20240608T180000
DTEND;TZID=Europe/Berlin:20240608T190000
DTSTAMP:20260425T125031
CREATED:20240516T191051Z
LAST-MODIFIED:20240516T191110Z
UID:2896-1717869600-1717873200@kirchenmusik-neuwied.de
SUMMARY:Obertonkonzert
DESCRIPTION:Die BesucherInnen erwarten faszinierende Klänge und ein ungewöhnliches Instrumentarium. Die sphärischen Klänge des Obertongesangs und das einfühlsame Zusammenspiel des Duos Holtbernd–Stöcker entführen die ZuhörerInnen in ganz eigene Klangwelten. \nObertonchor Neuwied\nDuo Holtbernd-Stöcker
URL:https://kirchenmusik-neuwied.de/event/obertonkonzert/
LOCATION:Heddesdorfer Kirche\, Dierdorfer Str. 39\, Neuwied\, 56564\, Deutschland
ATTACH;FMTTYPE=image/jpeg:https://kirchenmusik-neuwied.de/wp-content/uploads/2024/05/Obertonkonzert.jpg
END:VEVENT
BEGIN:VEVENT
DTSTART;TZID=Europe/Berlin:20240609T163000
DTEND;TZID=Europe/Berlin:20240609T173000
DTSTAMP:20260425T125031
CREATED:20231115T110330Z
LAST-MODIFIED:20240506T055801Z
UID:2474-1717950600-1717954200@kirchenmusik-neuwied.de
SUMMARY:Wie ein Rubin in feinem Golde leuchtet
DESCRIPTION:Festliche Musik in der Kapelle des Heinrich-Hauses\, Neuwied-Engers\nDuette\, Soloarien und Instrumentalmusik von Schütz\, Graun\, Zagatti und Dvořák \nLucia Jakob – Sopran\nBettina Krauß – Alt\nHendrike Steinebach – Violine\nKatharina Wimmer\, Violine\nJörg Rasbach – Orgel
URL:https://kirchenmusik-neuwied.de/event/wie-ein-rubin-in-feinem-golde-leuchtet/
LOCATION:Heinrich-Haus\, Neuwieder Str. 21a\, Neuwied\, 56566
CATEGORIES:Kammermusik
ATTACH;FMTTYPE=image/jpeg:https://kirchenmusik-neuwied.de/wp-content/uploads/2023/11/Seite01-1-scaled.jpg
ORGANIZER;CN="Heinrich-Haus%2C Neuwied-Engers":MAILTO:info@heinrich-haus.de
END:VEVENT
BEGIN:VEVENT
DTSTART;TZID=Europe/Berlin:20240610T193000
DTEND;TZID=Europe/Berlin:20240610T210000
DTSTAMP:20260425T125031
CREATED:20240517T101720Z
LAST-MODIFIED:20240517T101720Z
UID:2904-1718047800-1718053200@kirchenmusik-neuwied.de
SUMMARY:2.000 Jahre Kirchenlied
DESCRIPTION:Vor genau 500 Jahren\, nämlich im Jahr 1524\, erschienen die ersten evangelischen Gesangbücher. Auf Initiative Martin Luthers wurden neue evangelische Kirchenlieder gedichtet und gesammelt. Dieses Jubiläum ist der Anlass\, sich mit dem Singen in der Kirche von ihren ersten Anfängen vor 2000 Jahren zu beschäftigen. \nIn seinem Vortrag zeichnet Schmidt die Entwicklung des Kirchenliedes bis zur Gegenwart nach. Dabei lernt man nicht nur verschiedene Kriterien\, Epochen und Personen kennen\, sondern erfährt auch von durchaus kuriosen Begebenheiten: Zum Beispiel konnte einmal ein neues Gesangbuch nur mit Polizeigewalt in einer Gemeinde eingeführt werden. \nDass die Gemeinde im Gottesdienst singt\, ist eine evangelische Erfindung. Warum sie nötig war und wie es überhaupt dazu kam: Das erfährt man an diesem Abend. \nKMD Thomas Schmidt ist Kreiskantor des Kirchenkreises Wied und Kantor an der Marktkirche Neuwied. Er unterrichtet seit vielen Jahren das Fach Hymnologie (Kirchenliedkunde) an der Hochschule für Musik und Tanz Köln\, sowie im Rahmen der C-Kurse der Evangelischen Kirche im Rheinland. Er ist Mitglied der EKD-Gesangbuchkommission\, die das neue Evangelischen Gesangbuch entwickelt. Es soll im Jahr 2028 erscheinen.
URL:https://kirchenmusik-neuwied.de/event/2-000-jahre-kirchenlied/
LOCATION:Gemeindehaus an der Marktkirche\, Engerser Straße 34\, Neuwied\, 56564\, Deutschland
ATTACH;FMTTYPE=image/jpeg:https://kirchenmusik-neuwied.de/wp-content/uploads/2024/05/Klugsches-Gesangbuch_EinFesteBurg-scaled.jpg
END:VEVENT
BEGIN:VEVENT
DTSTART;TZID=Europe/Berlin:20240611T193000
DTEND;TZID=Europe/Berlin:20240611T193000
DTSTAMP:20260425T125031
CREATED:20240528T205223Z
LAST-MODIFIED:20240528T205411Z
UID:2921-1718134200-1718134200@kirchenmusik-neuwied.de
SUMMARY:Mehr als nur die Toccata
DESCRIPTION:Eine Hommage an Theodor Dubois zum 100. Todestag mit Bildern\, Texten und Musik.\nLena Schmitz\, Rezitation\nJoachim Adler\, Rezitation\nAxel E. Hoffmann\, Tenor\nEnsemble Fontenay\nJugendchor des Bläserchors der Herrnhuter Brüdergemeine Peter Uhl\, Orgel
URL:https://kirchenmusik-neuwied.de/event/mehr-als-nur-die-toccata/
LOCATION:St. Matthias-Kirche\, Heddesdorfer Str. 10\, Neuwied\, 56564\, Deutschland
ATTACH;FMTTYPE=image/jpeg:https://kirchenmusik-neuwied.de/wp-content/uploads/2024/05/24-06-11-Dubois-Hommage-Plakat-pdf-Kopie_1.jpg
ORGANIZER;CN="Pfarrei Neuwied St. Matthias":MAILTO:alina.gehlen@bgv-trier.de
END:VEVENT
BEGIN:VEVENT
DTSTART;TZID=Europe/Berlin:20240614T180000
DTEND;TZID=Europe/Berlin:20240615T200000
DTSTAMP:20260425T125031
CREATED:20240403T102643Z
LAST-MODIFIED:20240516T185532Z
UID:2777-1718388000-1718481600@kirchenmusik-neuwied.de
SUMMARY:Neuwieder Gospeltag: Workshop und Gospel-Konzert (siehe 15.6.)
DESCRIPTION:Der 5. Neuwieder Gospeltag findet am 14. und 15. Juni 2024 statt. Er beginnt am Freitagabend um 18 Uhr mit einem Workshop\, der am Samstag fortgesetzt wird. Der Höhepunkt ist das öffentliche Gospel-Konzert mit allen Teilnehmern in der Marktkirche am Samstag um 19 Uhr. \nAls Referenten und Gospelcoach konnten wir den international bekannten Gospelchorleiter und Komponisten Joakim Arenius aus Schweden gewinnen. \nAlle Infos und Möglichkeit zur Anmeldung hier:\nwww.neuwieder-gospeltag.de \n 
URL:https://kirchenmusik-neuwied.de/event/neuwieder-gospeltag-workshop-und-konzert/
LOCATION:Gemeindehaus an der Marktkirche\, Engerser Straße 34\, Neuwied\, 56564\, Deutschland
CATEGORIES:Gospelkonzert,Musikfest
ATTACH;FMTTYPE=image/jpeg:https://kirchenmusik-neuwied.de/wp-content/uploads/2024/04/Neuwieder-Gospeltag-Grafik.jpg
ORGANIZER;CN="Evangelischer Kirchenkreis Wied":MAILTO:thomas.schmidt@ekir.de
END:VEVENT
BEGIN:VEVENT
DTSTART;TZID=Europe/Berlin:20240615T190000
DTEND;TZID=Europe/Berlin:20240615T200000
DTSTAMP:20260425T125031
CREATED:20240403T103507Z
LAST-MODIFIED:20240516T185758Z
UID:2780-1718478000-1718481600@kirchenmusik-neuwied.de
SUMMARY:Gospel-Konzert
DESCRIPTION:Abschlusskonzert des 5. Neuwieder Gospeltages mit \nJoakim Arenius (Schweden) und Band\nChor der Workshopteilnehmer
URL:https://kirchenmusik-neuwied.de/event/gospel-konzert/
LOCATION:Marktkirche\, Pfarrer-Werner-Mörchen-Straße 1\, Neuwied\, 56564\, Deutschland
CATEGORIES:Gospelkonzert
ATTACH;FMTTYPE=image/jpeg:https://kirchenmusik-neuwied.de/wp-content/uploads/2024/04/Arenius-2_400.jpg
ORGANIZER;CN="Evangelischer Kirchenkreis Wied":MAILTO:thomas.schmidt@ekir.de
END:VEVENT
BEGIN:VEVENT
DTSTART;TZID=Europe/Berlin:20240616T180000
DTEND;TZID=Europe/Berlin:20240616T200000
DTSTAMP:20260425T125031
CREATED:20240419T115225Z
LAST-MODIFIED:20240419T115225Z
UID:2828-1718560800-1718568000@kirchenmusik-neuwied.de
SUMMARY:In einem kühlen Grunde
DESCRIPTION:Sommerabend mit dem Vokalensemble Cantus Floridus\nUnter dem Titel „In einem kühlen Grunde“ findet am Sonntag\, 16. Juni um 18 Uhr im Pfarrgarten neben der Feldkirche ein sommerlicher Chorabend statt.\nDas Vokalensemble Cantus Floridus Koblenz wird an diesem Abend Chormusik a cappella querbeet durch den musikalischen Garten präsentieren. Das FlötenEnsemble Feldkirchen-Altwied ergänzt das Programm.\nIm ersten Teil des Programms erklingen alte Madrigale sowie Volkslieder von Mendelssohn und Brahms. Der zweite Teil bietet dann modernere Arrangements von den Beatles bis zu bekannter Filmmusik. Der musikalische Bogen spannt sich also vom “kühlen Grunde” bis zu “Yesterday“ und „Moon River“.\nDie Kirchengemeinde und der Förderverein Kirchenmusik Feldkirchen-Altwied freuen sich auf ihren Besuch! In der Pause werden Wein\, Wasser und Laugengebäck angeboten. Der Eintritt ist frei\, am Ausgang wird um eine Spende zugunsten der Kirchenmusik gebeten. Das Konzert findet bei jedem Sommerwetter statt.
URL:https://kirchenmusik-neuwied.de/event/in-einem-kuehlen-grunde/
LOCATION:Gemeindesaal an der Feldkirche\, Feldkircher Straße 89\, Neuwied\, 56567
CATEGORIES:Chorkonzert
ATTACH;FMTTYPE=image/jpeg:https://kirchenmusik-neuwied.de/wp-content/uploads/2024/04/Plakat-In-einem-kuehlen-Grunde_web.jpg
ORGANIZER;CN="Evangelische Kirchengemeinde Feldkirchen-Altwied":MAILTO:feldkirchen-altwied@ekir.de
END:VEVENT
BEGIN:VEVENT
DTSTART;TZID=Europe/Berlin:20240621T190000
DTEND;TZID=Europe/Berlin:20240621T200000
DTSTAMP:20260425T125031
CREATED:20240120T123114Z
LAST-MODIFIED:20240210T081153Z
UID:2636-1718996400-1719000000@kirchenmusik-neuwied.de
SUMMARY:Viva la Musica!
DESCRIPTION:Chor und Instrumentalwerke aus den Epochen Barock\, Klassik\, Romantik und Moderne\, eine Chorimprovisation über das Vaterunser und andere Überraschungen.\nBeate Bareis – Flöte\, Claudia Späth – Kontrabass\, Kammerchor CAPPELLA VOCALE NEUWIED\nLeitung KMD Thomas Schmidt
URL:https://kirchenmusik-neuwied.de/event/chorkonzert-mit-cappella-vocale-neuwied/
LOCATION:Marktkirche\, Pfarrer-Werner-Mörchen-Straße 1\, Neuwied\, 56564\, Deutschland
CATEGORIES:Chorkonzert
ATTACH;FMTTYPE=image/jpeg:https://kirchenmusik-neuwied.de/wp-content/uploads/2024/01/CVN-2008_400.jpg
END:VEVENT
BEGIN:VEVENT
DTSTART;TZID=Europe/Berlin:20240623T170000
DTEND;TZID=Europe/Berlin:20240623T180000
DTSTAMP:20260425T125031
CREATED:20240603T101443Z
LAST-MODIFIED:20240603T101734Z
UID:2933-1719162000-1719165600@kirchenmusik-neuwied.de
SUMMARY:Are you ready to SING & Swing
DESCRIPTION:Sparkling Brass\nLeitung: Marion Kutscher \nKinder- und Jugendchor Waldbreitbach\nLeitung: Peter Uhl \nJungbläser des Bläserchors \n 
URL:https://kirchenmusik-neuwied.de/event/are-you-ready-to-sing-swing/
LOCATION:Herrnhuter Brüdergemeine\, Friedrichstraße 32\, Neuwied\, 56564\, Deutschland
CATEGORIES:Bläserkonzert,Chorkonzert,Konzert
ATTACH;FMTTYPE=image/jpeg:https://kirchenmusik-neuwied.de/wp-content/uploads/2024/06/PHOTO-2024-05-31-05-08-56.jpg
ORGANIZER;CN="Evangelische Br%C3%BCdergemeine Neuwied (Herrnhuter)":MAILTO:pfarramt@ebg-neuwied.de
END:VEVENT
BEGIN:VEVENT
DTSTART;TZID=Europe/Berlin:20240623T180000
DTEND;TZID=Europe/Berlin:20240623T193000
DTSTAMP:20260425T125031
CREATED:20240411T124125Z
LAST-MODIFIED:20240411T124125Z
UID:2796-1719165600-1719171000@kirchenmusik-neuwied.de
SUMMARY:Konzert °Blind Date“
DESCRIPTION:Die Musikgruppe Reflexe lädt ein\n „Blind date“ – mit unserem Konzert möchten wir jedem ans Herz legen vielfältig hinzuschauen und auch einmal den Blickwinkel zu ändern. Die Welt ist viel größer\, als es auf den 1. Blick scheint und hält eine Aufforderung bereit\, den Raum „dazwischen“ wahrzunehmen und den Blick auf das Bunte zu lenken.\nSeid ihr dabei? Schaut euch mit uns all diese Farben an…..\nKommt am Sonntag\, 23. Juni 2024 um 18 Uhr in die Feldkirche in Neuwied/Feldkirchen\nDer Eintritt ist wie immer frei!\nWir warten auf euch! Eure Musikgruppe REFLEXE
URL:https://kirchenmusik-neuwied.de/event/konzert-blind-date-2/
LOCATION:Ev. Feldkirche\, Feldkircher Str. 89\, Neuwied\, 56567\, Deutschland
CATEGORIES:Musikgruppe
ATTACH;FMTTYPE=image/jpeg:https://kirchenmusik-neuwied.de/wp-content/uploads/2024/04/Plakat-Blind-Date-23-06-2024-A4-Druck-gross-1-scaled.jpg
ORGANIZER;CN="Musikgruppe Reflexe":MAILTO:kontakt@reflexe.de
END:VEVENT
BEGIN:VEVENT
DTSTART;TZID=Europe/Berlin:20240626T190000
DTEND;TZID=Europe/Berlin:20240626T203000
DTSTAMP:20260425T125031
CREATED:20240510T100050Z
LAST-MODIFIED:20240510T100050Z
UID:2869-1719428400-1719433800@kirchenmusik-neuwied.de
SUMMARY:Europäische Barockmusik
DESCRIPTION:Barockmusik in Altwied\nDie Ev. Kirchengemeinde Feldkirchen-Altwied lädt am Mittwoch\, 26. Juni\, 19:00 Uhr in die Ev. Kirche nach Altwied ein.\nKonstantin Paganetti\, Bariton\, Bernd Kämpf\, Cembalo und Sabine Paganetti\, Orgel präsentieren europäische Barockmusik. Der Eintritt ist frei – es wird eine Kollekte für die Kirchenmusik erbeten.
URL:https://kirchenmusik-neuwied.de/event/europaeische-barockmusik/
LOCATION:Ev. Kirche Altwied\, Burgtorstraße 9\, Neuwied\, 56567
ATTACH;FMTTYPE=image/jpeg:https://kirchenmusik-neuwied.de/wp-content/uploads/2024/05/Barockkonzert.jpg
ORGANIZER;CN="Evangelische Kirchengemeinde Feldkirchen-Altwied":MAILTO:feldkirchen-altwied@ekir.de
END:VEVENT
END:VCALENDAR