BEGIN:VCALENDAR
VERSION:2.0
PRODID:-//Kirchenmusik Neuwied - ECPv6.15.20//NONSGML v1.0//EN
CALSCALE:GREGORIAN
METHOD:PUBLISH
X-ORIGINAL-URL:https://kirchenmusik-neuwied.de
X-WR-CALDESC:Veranstaltungen für Kirchenmusik Neuwied
REFRESH-INTERVAL;VALUE=DURATION:PT1H
X-Robots-Tag:noindex
X-PUBLISHED-TTL:PT1H
BEGIN:VTIMEZONE
TZID:Europe/Berlin
BEGIN:DAYLIGHT
TZOFFSETFROM:+0100
TZOFFSETTO:+0200
TZNAME:CEST
DTSTART:20230326T010000
END:DAYLIGHT
BEGIN:STANDARD
TZOFFSETFROM:+0200
TZOFFSETTO:+0100
TZNAME:CET
DTSTART:20231029T010000
END:STANDARD
BEGIN:DAYLIGHT
TZOFFSETFROM:+0100
TZOFFSETTO:+0200
TZNAME:CEST
DTSTART:20240331T010000
END:DAYLIGHT
BEGIN:STANDARD
TZOFFSETFROM:+0200
TZOFFSETTO:+0100
TZNAME:CET
DTSTART:20241027T010000
END:STANDARD
BEGIN:DAYLIGHT
TZOFFSETFROM:+0100
TZOFFSETTO:+0200
TZNAME:CEST
DTSTART:20250330T010000
END:DAYLIGHT
BEGIN:STANDARD
TZOFFSETFROM:+0200
TZOFFSETTO:+0100
TZNAME:CET
DTSTART:20251026T010000
END:STANDARD
END:VTIMEZONE
BEGIN:VEVENT
DTSTART;TZID=Europe/Berlin:20240503T190000
DTEND;TZID=Europe/Berlin:20240503T200000
DTSTAMP:20260425T142522
CREATED:20231221T101606Z
LAST-MODIFIED:20240419T163624Z
UID:2590-1714762800-1714766400@kirchenmusik-neuwied.de
SUMMARY:Liebscher plays Bach - die Cello-Suiten für Saxophon
DESCRIPTION:Der Saxophonist Frank Liebscher wird am 3. Mai mit Musik von Johann Sebastian Bach in der Marktkirche Neuwied konzertieren. Das Konzert beginnt um 19 Uhr. Es findet im Rahmen der monatlichen Freitagskonzerte statt. \nMit den Bearbeitungen der Cello-Suiten von Johan Sebastian Bach für Bariton-Saxophon schuf der Leipziger Musiker Frank Liebscher ein Programm\, das auf eine heutige und frische Art alte Geschichten erzählt\, die weit zurückreichen in frühe Blütezeiten instrumentaler Musik. Sie berichten vom historischen Ideal eines vollkommenen Klanges\, von der kraftvollen\, doch subtilen Erotik eines jungen Instruments und vom gegenseitigen Ineinandergreifen von Interpretation und Improvisation. \nDas verheißt den Besuchern ein Konzert voll expressiver Vitalität. Dabei orientiert sich der Künstler an den Möglichkeiten seines Instrumentes\, nicht aber aber an dessen Grenzen. Man darf gespannt sein! \nDer Eintritt ist frei. Am Ausgang wird lediglich um eine Spende zur Deckung der Kosten gebeten.
URL:https://kirchenmusik-neuwied.de/event/liebscher-plays-bach-die-cello-suiten-fuer-saxophon/
LOCATION:Marktkirche\, Pfarrer-Werner-Mörchen-Straße 1\, Neuwied\, 56564\, Deutschland
CATEGORIES:Freitagskonzert
ATTACH;FMTTYPE=image/jpeg:https://kirchenmusik-neuwied.de/wp-content/uploads/2023/12/frank-liebscher-galerie-frank-v2-1024x812-1.jpg
END:VEVENT
BEGIN:VEVENT
DTSTART;TZID=Europe/Berlin:20240505T103000
DTEND;TZID=Europe/Berlin:20240505T113000
DTSTAMP:20260425T142522
CREATED:20240412T205612Z
LAST-MODIFIED:20240412T205612Z
UID:2812-1714905000-1714908600@kirchenmusik-neuwied.de
SUMMARY:ZACHÄUS
DESCRIPTION:Gottesdienst mit Kindermusical\nes singen und spielen die Regenbogenkinder\, Kinderchor Irlich-Feldkirchen\nLeitung: Jörg Rasbach
URL:https://kirchenmusik-neuwied.de/event/zachaeus-3/
LOCATION:Kath. Kirche St. Peter und Paul\, Irlich\, Apostelstr.\, 56567 Neuwied\, RLP\, 56567\, Deutschland
CATEGORIES:Besondere Musik im Gottesdienst,Singspiel
ATTACH;FMTTYPE=image/jpeg:https://kirchenmusik-neuwied.de/wp-content/uploads/2024/04/Seite01-1-scaled.jpg
ORGANIZER;CN="Pfarrei Neuwied St. Matthias":MAILTO:alina.gehlen@bgv-trier.de
END:VEVENT
BEGIN:VEVENT
DTSTART;TZID=Europe/Berlin:20240505T170000
DTEND;TZID=Europe/Berlin:20240505T183000
DTSTAMP:20260425T142522
CREATED:20240429T110225Z
LAST-MODIFIED:20240429T110225Z
UID:2855-1714928400-1714933800@kirchenmusik-neuwied.de
SUMMARY:Tangoyim
DESCRIPTION:Klezmer\njiddische Lieder\njiddischer Tango \nStefanie Hölzle\nGeige\, Klarinette\, Gesang \nDanile Marsch\nAkkordeon\, Gesang
URL:https://kirchenmusik-neuwied.de/event/tangoyim-2/
LOCATION:Herrnhuter Brüdergemeine\, Friedrichstraße 32\, Neuwied\, 56564\, Deutschland
CATEGORIES:Musikgruppe
ATTACH;FMTTYPE=image/jpeg:https://kirchenmusik-neuwied.de/wp-content/uploads/2024/04/Tangoyim_20240505-1.jpg
ORGANIZER;CN="Evangelische Br%C3%BCdergemeine Neuwied (Herrnhuter)":MAILTO:pfarramt@ebg-neuwied.de
END:VEVENT
BEGIN:VEVENT
DTSTART;TZID=Europe/Berlin:20240510T190000
DTEND;TZID=Europe/Berlin:20240510T200000
DTSTAMP:20260425T142522
CREATED:20240416T075810Z
LAST-MODIFIED:20240504T094510Z
UID:2817-1715367600-1715371200@kirchenmusik-neuwied.de
SUMMARY:Kammerkonzert - Wundervolle Farben
DESCRIPTION:Zum Kammermusikkonzert mit dem Titel „Wundervolle Farben – Vokal- und Instrumentalmusik aus Barock und Moderne“ wird am Freitag\, den 10. Mai 2024 um 19.00 Uhr in die kath. Pfarrkirche St. Matthias in Neuwied eingeladen. Zu Gast ist das BSE – Brockes Spezial Ensemble. \nGeistlich-poetische Betrachtung und barocker Jubel – das aktuelle Programm des BSE – Brockes Spezial Ensemble stellt überwiegend geistliche Musik von Georg Friedrich Händel\, Benedikt Biechteler oder Johann David Heinichen ausgewählten Werken aus dem 20. Jahrhundert gegenüber. Felicitas Kukuck oder Virgilio Mortari bringen in ihren Lied- oder Vokalkompositionen auf ähnliche Weise wie die barocken Meister Universales in die kleine musikalische Form und verfolgen dabei das musikalische Uranliegen einer grenzüberschreitenden Verbindung von Stimme und Instrument. \n  \nBrockes-Spezial-Ensemble \nMaddalena Ernst – Sopran\nMatthias Jochner – Querflöte\nMonika Zimmermann – Violine\nHannes Tirttler – Violoncello\nJan Martin Chrost – Cembalo \n  \nEintritt frei\, Spenden für die Kirchenmusik erbeten
URL:https://kirchenmusik-neuwied.de/event/kammerkonzert-wundervolle-farben/
LOCATION:St. Matthias\, Neuwied\, Heddesdorfer Str. 10\, Neuwied\, Rheinland-Pfalz\, 56564\, Deutschland
CATEGORIES:Kammermusik
ATTACH;FMTTYPE=application/pdf:https://kirchenmusik-neuwied.de/wp-content/uploads/2024/04/20240510_Wundervolle-Farben_St.-Matthias-Neuwied.pdf
END:VEVENT
END:VCALENDAR