BEGIN:VCALENDAR
VERSION:2.0
PRODID:-//Kirchenmusik Neuwied - ECPv6.15.20//NONSGML v1.0//EN
CALSCALE:GREGORIAN
METHOD:PUBLISH
X-ORIGINAL-URL:https://kirchenmusik-neuwied.de
X-WR-CALDESC:Veranstaltungen für Kirchenmusik Neuwied
REFRESH-INTERVAL;VALUE=DURATION:PT1H
X-Robots-Tag:noindex
X-PUBLISHED-TTL:PT1H
BEGIN:VTIMEZONE
TZID:Europe/Berlin
BEGIN:DAYLIGHT
TZOFFSETFROM:+0100
TZOFFSETTO:+0200
TZNAME:CEST
DTSTART:20250330T010000
END:DAYLIGHT
BEGIN:STANDARD
TZOFFSETFROM:+0200
TZOFFSETTO:+0100
TZNAME:CET
DTSTART:20251026T010000
END:STANDARD
BEGIN:DAYLIGHT
TZOFFSETFROM:+0100
TZOFFSETTO:+0200
TZNAME:CEST
DTSTART:20260329T010000
END:DAYLIGHT
BEGIN:STANDARD
TZOFFSETFROM:+0200
TZOFFSETTO:+0100
TZNAME:CET
DTSTART:20261025T010000
END:STANDARD
BEGIN:DAYLIGHT
TZOFFSETFROM:+0100
TZOFFSETTO:+0200
TZNAME:CEST
DTSTART:20270328T010000
END:DAYLIGHT
BEGIN:STANDARD
TZOFFSETFROM:+0200
TZOFFSETTO:+0100
TZNAME:CET
DTSTART:20271031T010000
END:STANDARD
END:VTIMEZONE
BEGIN:VEVENT
DTSTART;TZID=Europe/Berlin:20260116T190000
DTEND;TZID=Europe/Berlin:20260116T200000
DTSTAMP:20260420T112108
CREATED:20260105T105218Z
LAST-MODIFIED:20260105T105218Z
UID:3650-1768590000-1768593600@kirchenmusik-neuwied.de
SUMMARY:Neujahrskonzert SparKling Brass
DESCRIPTION:Ein Bläserkonzert des Jugendchores /\nBlechbläserensemble der Herrnhuter Brüdergemeine und Orgel \nMIT:\nSparKling Brass\nPeter Uhl (Orgel)\nMarion Kutscher (Leitung)
URL:https://kirchenmusik-neuwied.de/event/neujahrskonzert-sparkling-brass/
LOCATION:Herrnhuter Brüdergemeine\, Friedrichstraße 32\, Neuwied\, 56564\, Deutschland
CATEGORIES:Bläserkonzert
ATTACH;FMTTYPE=image/jpeg:https://kirchenmusik-neuwied.de/wp-content/uploads/2026/01/SKB_Konzert20260116.jpg
ORGANIZER;CN="Evangelische Br%C3%BCdergemeine Neuwied (Herrnhuter)":MAILTO:pfarramt@ebg-neuwied.de
END:VEVENT
END:VCALENDAR