BEGIN:VCALENDAR
VERSION:2.0
PRODID:-//Kirchenmusik Neuwied - ECPv6.15.20//NONSGML v1.0//EN
CALSCALE:GREGORIAN
METHOD:PUBLISH
X-ORIGINAL-URL:https://kirchenmusik-neuwied.de
X-WR-CALDESC:Veranstaltungen für Kirchenmusik Neuwied
REFRESH-INTERVAL;VALUE=DURATION:PT1H
X-Robots-Tag:noindex
X-PUBLISHED-TTL:PT1H
BEGIN:VTIMEZONE
TZID:Europe/Berlin
BEGIN:DAYLIGHT
TZOFFSETFROM:+0100
TZOFFSETTO:+0200
TZNAME:CEST
DTSTART:20240331T010000
END:DAYLIGHT
BEGIN:STANDARD
TZOFFSETFROM:+0200
TZOFFSETTO:+0100
TZNAME:CET
DTSTART:20241027T010000
END:STANDARD
BEGIN:DAYLIGHT
TZOFFSETFROM:+0100
TZOFFSETTO:+0200
TZNAME:CEST
DTSTART:20250330T010000
END:DAYLIGHT
BEGIN:STANDARD
TZOFFSETFROM:+0200
TZOFFSETTO:+0100
TZNAME:CET
DTSTART:20251026T010000
END:STANDARD
BEGIN:DAYLIGHT
TZOFFSETFROM:+0100
TZOFFSETTO:+0200
TZNAME:CEST
DTSTART:20260329T010000
END:DAYLIGHT
BEGIN:STANDARD
TZOFFSETFROM:+0200
TZOFFSETTO:+0100
TZNAME:CET
DTSTART:20261025T010000
END:STANDARD
END:VTIMEZONE
BEGIN:VEVENT
DTSTART;TZID=Europe/Berlin:20250207T190000
DTEND;TZID=Europe/Berlin:20250207T200000
DTSTAMP:20260420T130214
CREATED:20240928T124747Z
LAST-MODIFIED:20240928T124747Z
UID:3037-1738954800-1738958400@kirchenmusik-neuwied.de
SUMMARY:Klavierabend mit Petra Gries
DESCRIPTION:John Field: Nocturne B-Dur  no. 5\n(1782–1837) \nGazebo: I like Chopin\n(* 1960) \nFrédéric Chopin: Nocturne  BI 49\n(1810–1849) Nocturne  op. Post. 72  no 1\n			Valse  op. 69 no. 1\n			Mazurka op. 7 no. 2				 \nPetra Gries: Frühlingswalzer\n			Sinfonie für Frieden\n			Loneliness\n			on angel wings  	   				 \nOlivier Toussaint: Ballade pour Adeline\n(* 1943)	         	 \nGeorg-Friedrich Händel:	Passacaglia g-Moll  HWV  432\n(1685–1759)			    Chaconne c-Dur  HWV  443\n						Fantasia  a-Moll   ( ohne HWV )   		 \nClaude Debussy:	rêverie\n(1862–1918)	 \nFrancesco de Benedittis: écris l`histoire\n(* 1974)\n&  Davide Esposito ( * 1960 ) \nVladimir Cosma:	you` re eyes\n(* 1940)		David ` s  song
URL:https://kirchenmusik-neuwied.de/event/klavierabend-mit-petra-gries-2/
LOCATION:Gemeindehaus an der Marktkirche\, Engerser Straße 34\, Neuwied\, 56564\, Deutschland
CATEGORIES:Freitagskonzert
ATTACH;FMTTYPE=image/jpeg:https://kirchenmusik-neuwied.de/wp-content/uploads/2024/09/Petra-Gries_quer_400.jpg
END:VEVENT
END:VCALENDAR