BEGIN:VCALENDAR
VERSION:2.0
PRODID:-//Kirchenmusik Neuwied - ECPv6.15.20//NONSGML v1.0//EN
CALSCALE:GREGORIAN
METHOD:PUBLISH
X-ORIGINAL-URL:https://kirchenmusik-neuwied.de
X-WR-CALDESC:Veranstaltungen für Kirchenmusik Neuwied
REFRESH-INTERVAL;VALUE=DURATION:PT1H
X-Robots-Tag:noindex
X-PUBLISHED-TTL:PT1H
BEGIN:VTIMEZONE
TZID:Europe/Berlin
BEGIN:DAYLIGHT
TZOFFSETFROM:+0100
TZOFFSETTO:+0200
TZNAME:CEST
DTSTART:20240331T010000
END:DAYLIGHT
BEGIN:STANDARD
TZOFFSETFROM:+0200
TZOFFSETTO:+0100
TZNAME:CET
DTSTART:20241027T010000
END:STANDARD
BEGIN:DAYLIGHT
TZOFFSETFROM:+0100
TZOFFSETTO:+0200
TZNAME:CEST
DTSTART:20250330T010000
END:DAYLIGHT
BEGIN:STANDARD
TZOFFSETFROM:+0200
TZOFFSETTO:+0100
TZNAME:CET
DTSTART:20251026T010000
END:STANDARD
BEGIN:DAYLIGHT
TZOFFSETFROM:+0100
TZOFFSETTO:+0200
TZNAME:CEST
DTSTART:20260329T010000
END:DAYLIGHT
BEGIN:STANDARD
TZOFFSETFROM:+0200
TZOFFSETTO:+0100
TZNAME:CET
DTSTART:20261025T010000
END:STANDARD
END:VTIMEZONE
BEGIN:VEVENT
DTSTART;TZID=Europe/Berlin:20250104T180000
DTEND;TZID=Europe/Berlin:20250104T190000
DTSTAMP:20260420T175810
CREATED:20241229T161621Z
LAST-MODIFIED:20241229T161621Z
UID:3203-1736013600-1736017200@kirchenmusik-neuwied.de
SUMMARY:Evensong
DESCRIPTION:Evensong zum Ende der Weihnachtszeit\nFrauenvokal-Ensemble Neuwied\nLeitung: Alina Gehlen
URL:https://kirchenmusik-neuwied.de/event/evensong/
LOCATION:Evangelische Kirche Neuwied-Engers\, Dietrich-Bonhoeffer-Straße 4\, Neuwied\, 56566\, Deutschland
CATEGORIES:Chormusik im Gottesdienst,Evensong,Kammermusik
ATTACH;FMTTYPE=image/png:https://kirchenmusik-neuwied.de/wp-content/uploads/2024/12/evensong-Engers-Jan-2024.png
END:VEVENT
END:VCALENDAR