BEGIN:VCALENDAR
VERSION:2.0
PRODID:-//Kirchenmusik Neuwied - ECPv6.15.20//NONSGML v1.0//EN
CALSCALE:GREGORIAN
METHOD:PUBLISH
X-ORIGINAL-URL:https://kirchenmusik-neuwied.de
X-WR-CALDESC:Veranstaltungen für Kirchenmusik Neuwied
REFRESH-INTERVAL;VALUE=DURATION:PT1H
X-Robots-Tag:noindex
X-PUBLISHED-TTL:PT1H
BEGIN:VTIMEZONE
TZID:Europe/Berlin
BEGIN:DAYLIGHT
TZOFFSETFROM:+0100
TZOFFSETTO:+0200
TZNAME:CEST
DTSTART:20230326T010000
END:DAYLIGHT
BEGIN:STANDARD
TZOFFSETFROM:+0200
TZOFFSETTO:+0100
TZNAME:CET
DTSTART:20231029T010000
END:STANDARD
BEGIN:DAYLIGHT
TZOFFSETFROM:+0100
TZOFFSETTO:+0200
TZNAME:CEST
DTSTART:20240331T010000
END:DAYLIGHT
BEGIN:STANDARD
TZOFFSETFROM:+0200
TZOFFSETTO:+0100
TZNAME:CET
DTSTART:20241027T010000
END:STANDARD
BEGIN:DAYLIGHT
TZOFFSETFROM:+0100
TZOFFSETTO:+0200
TZNAME:CEST
DTSTART:20250330T010000
END:DAYLIGHT
BEGIN:STANDARD
TZOFFSETFROM:+0200
TZOFFSETTO:+0100
TZNAME:CET
DTSTART:20251026T010000
END:STANDARD
END:VTIMEZONE
BEGIN:VEVENT
DTSTART;TZID=Europe/Berlin:20241228T120000
DTEND;TZID=Europe/Berlin:20241228T170000
DTSTAMP:20260420T194829
CREATED:20241202T080740Z
LAST-MODIFIED:20241202T080754Z
UID:3186-1735387200-1735405200@kirchenmusik-neuwied.de
SUMMARY:Weihnachtsmusik zum Mittagsläuten
DESCRIPTION:VOKAL – und INSTRUMENTALMUSIK \nMit der Mittagsmusiken im Sonntag nach Weihnachten in St. Matthias möchten wir Sie wie auch in den letzten Jahren herzlich einladen\, beginnend mit dem Geläute des Kirchturms samstags um 12:00\, sich eine halbe Stunde mit besinnlicher Musik und Text beschenken zu lassen\, die Freude über Jesu Geburt zu entdecken und so ein wundervolles Weihnachtsfest zu genießen. \nText: Christian Scheinost \nVokalensemble St. Matthias \nVioline: Anke Gärtner\, Querflöte: Carmen Mechenich \nOrgel und Leitung: Jörg Rasbach
URL:https://kirchenmusik-neuwied.de/event/weihnachtsmusik-zum-mittagslaeuten/
LOCATION:St. Matthias\, Neuwied\, Heddesdorfer Str. 10\, Neuwied\, Rheinland-Pfalz\, 56564\, Deutschland
CATEGORIES:Musik zum Mittagsläuten
ATTACH;FMTTYPE=image/png:https://kirchenmusik-neuwied.de/wp-content/uploads/2024/12/Plakat-Mittagsmusik-4.png
END:VEVENT
END:VCALENDAR