BEGIN:VCALENDAR
VERSION:2.0
PRODID:-//Kirchenmusik Neuwied - ECPv6.15.20//NONSGML v1.0//EN
CALSCALE:GREGORIAN
METHOD:PUBLISH
X-WR-CALNAME:Kirchenmusik Neuwied
X-ORIGINAL-URL:https://kirchenmusik-neuwied.de
X-WR-CALDESC:Veranstaltungen für Kirchenmusik Neuwied
REFRESH-INTERVAL;VALUE=DURATION:PT1H
X-Robots-Tag:noindex
X-PUBLISHED-TTL:PT1H
BEGIN:VTIMEZONE
TZID:Europe/Berlin
BEGIN:DAYLIGHT
TZOFFSETFROM:+0100
TZOFFSETTO:+0200
TZNAME:CEST
DTSTART:20230326T010000
END:DAYLIGHT
BEGIN:STANDARD
TZOFFSETFROM:+0200
TZOFFSETTO:+0100
TZNAME:CET
DTSTART:20231029T010000
END:STANDARD
BEGIN:DAYLIGHT
TZOFFSETFROM:+0100
TZOFFSETTO:+0200
TZNAME:CEST
DTSTART:20240331T010000
END:DAYLIGHT
BEGIN:STANDARD
TZOFFSETFROM:+0200
TZOFFSETTO:+0100
TZNAME:CET
DTSTART:20241027T010000
END:STANDARD
BEGIN:DAYLIGHT
TZOFFSETFROM:+0100
TZOFFSETTO:+0200
TZNAME:CEST
DTSTART:20250330T010000
END:DAYLIGHT
BEGIN:STANDARD
TZOFFSETFROM:+0200
TZOFFSETTO:+0100
TZNAME:CET
DTSTART:20251026T010000
END:STANDARD
END:VTIMEZONE
BEGIN:VEVENT
DTSTART;TZID=Europe/Berlin:20241215T180000
DTEND;TZID=Europe/Berlin:20241215T190000
DTSTAMP:20260420T194550
CREATED:20241112T095739Z
LAST-MODIFIED:20241112T095739Z
UID:3129-1734285600-1734289200@kirchenmusik-neuwied.de
SUMMARY:Mache dich auf\, werde licht!
DESCRIPTION:Evensong am 3. Advent\nAm Sonntag\, dem 15. Dezember um 18:00 Uhr findet in der Kirche in Altwied ein Evensong statt. Bei dieser gottesdienstlichen Form steht das gesungene Wort im Mittelpunkt. Die Kinder- und JugendKantorei sowie die Kantorei Feldkirchen-Altwied unter Leitung von Kantorin Sabine Paganetti werden diesen feierlichen Adventsgottesdienst gestalten.\nBernd Kämpf wird an der Orgel begleiten. Pfarrer Martin Lenz hat die liturgische Leitung.\nAn diesem Tag finden vormittags keine Gottesdienste statt.
URL:https://kirchenmusik-neuwied.de/event/mache-dich-auf-werde-licht/
LOCATION:Ev. Kirche Altwied\, Burgtorstraße 9\, Neuwied\, 56567
CATEGORIES:Evensong
ATTACH;FMTTYPE=image/jpeg:https://kirchenmusik-neuwied.de/wp-content/uploads/2024/11/Evensong-web.jpg
ORGANIZER;CN="Evangelische Kirchengemeinde Feldkirchen-Altwied":MAILTO:feldkirchen-altwied@ekir.de
END:VEVENT
END:VCALENDAR