BEGIN:VCALENDAR
VERSION:2.0
PRODID:-//Kirchenmusik Neuwied - ECPv6.15.20//NONSGML v1.0//EN
CALSCALE:GREGORIAN
METHOD:PUBLISH
X-WR-CALNAME:Kirchenmusik Neuwied
X-ORIGINAL-URL:https://kirchenmusik-neuwied.de
X-WR-CALDESC:Veranstaltungen für Kirchenmusik Neuwied
REFRESH-INTERVAL;VALUE=DURATION:PT1H
X-Robots-Tag:noindex
X-PUBLISHED-TTL:PT1H
BEGIN:VTIMEZONE
TZID:Europe/Berlin
BEGIN:DAYLIGHT
TZOFFSETFROM:+0100
TZOFFSETTO:+0200
TZNAME:CEST
DTSTART:20230326T010000
END:DAYLIGHT
BEGIN:STANDARD
TZOFFSETFROM:+0200
TZOFFSETTO:+0100
TZNAME:CET
DTSTART:20231029T010000
END:STANDARD
BEGIN:DAYLIGHT
TZOFFSETFROM:+0100
TZOFFSETTO:+0200
TZNAME:CEST
DTSTART:20240331T010000
END:DAYLIGHT
BEGIN:STANDARD
TZOFFSETFROM:+0200
TZOFFSETTO:+0100
TZNAME:CET
DTSTART:20241027T010000
END:STANDARD
BEGIN:DAYLIGHT
TZOFFSETFROM:+0100
TZOFFSETTO:+0200
TZNAME:CEST
DTSTART:20250330T010000
END:DAYLIGHT
BEGIN:STANDARD
TZOFFSETFROM:+0200
TZOFFSETTO:+0100
TZNAME:CET
DTSTART:20251026T010000
END:STANDARD
END:VTIMEZONE
BEGIN:VEVENT
DTSTART;TZID=Europe/Berlin:20241214T120000
DTEND;TZID=Europe/Berlin:20241214T124000
DTSTAMP:20260420T194454
CREATED:20240901T151447Z
LAST-MODIFIED:20241113T153511Z
UID:2988-1734177600-1734180000@kirchenmusik-neuwied.de
SUMMARY:Adventsmusik zum Mittagsläuten II
DESCRIPTION:Advent – bald gibt’s Geschenke \nWenn ich die Kinder in der Kita frage\, was an Weihnachten passiert\, fällt als erstes das Wort „Geschenke“ und in gewisser Weise haben sie Recht. Ich werde beschenkt – „Gott schenkt uns seinen Sohn“ wie es im bekannten Weihnachtslied „Lobt Gott ihr Christen alle gleich“ heißt. Wenn ich weiß\, ich bekomme ein Geschenk\, freue ich mich darauf und Vorfreude ist bekanntlich die schönste Freude. Als Erwachsene verbinde ich die Adventszeit aber auch oft mit Stress und der Erwartungshaltung „anderen etwas schenken zu müssen“. Es fällt manchmal schwer nicht aus den Augen zu verlieren\, dass Advent die Vorbereitungszeit für ein Geschenk ist\, das ich selbst bekomme\, ohne Gegenleistung.\nMit den Mittagsmusiken am zweiten\, dritten und vierten Advent in St. Matthias möchten wir Sie wie auch in den letzten Jahren herzlich einladen\, beginnend mit dem Geläute des Kirchturms samstags um 12:00\, sich eine halbe Stunde mit besinnlicher Musik und Text beschenken zu lassen\, die Vorfreude auf das kommende\, großartige Geschenk zu entdecken und sich so auf ein wundervolles Weihnachtsfest vorzubereiten. \nEine weitere Mittagsmusik mit weihnachtlichen Impulsen findet am 28.12. statt. \n  \nKAMMERMUSIK \nText: Christian Scheinost \nMusik: \nLucia Jakob\, Sopran \nSandra Mehren\, Alt \nUlrike Friedrich\, Querflöte \nJörg Rasbach\, Orgel
URL:https://kirchenmusik-neuwied.de/event/adventsmusik-zum-mittagslaeuten-ii-2/
LOCATION:St. Matthias\, Neuwied\, Heddesdorfer Str. 10\, Neuwied\, Rheinland-Pfalz\, 56564\, Deutschland
CATEGORIES:Musik zum Mittagsläuten
ATTACH;FMTTYPE=image/png:https://kirchenmusik-neuwied.de/wp-content/uploads/2024/09/Plakat-Mittagsmusik-2.png
END:VEVENT
END:VCALENDAR