BEGIN:VCALENDAR
VERSION:2.0
PRODID:-//Kirchenmusik Neuwied - ECPv6.15.20//NONSGML v1.0//EN
CALSCALE:GREGORIAN
METHOD:PUBLISH
X-WR-CALNAME:Kirchenmusik Neuwied
X-ORIGINAL-URL:https://kirchenmusik-neuwied.de
X-WR-CALDESC:Veranstaltungen für Kirchenmusik Neuwied
REFRESH-INTERVAL;VALUE=DURATION:PT1H
X-Robots-Tag:noindex
X-PUBLISHED-TTL:PT1H
BEGIN:VTIMEZONE
TZID:Europe/Berlin
BEGIN:DAYLIGHT
TZOFFSETFROM:+0100
TZOFFSETTO:+0200
TZNAME:CEST
DTSTART:20230326T010000
END:DAYLIGHT
BEGIN:STANDARD
TZOFFSETFROM:+0200
TZOFFSETTO:+0100
TZNAME:CET
DTSTART:20231029T010000
END:STANDARD
BEGIN:DAYLIGHT
TZOFFSETFROM:+0100
TZOFFSETTO:+0200
TZNAME:CEST
DTSTART:20240331T010000
END:DAYLIGHT
BEGIN:STANDARD
TZOFFSETFROM:+0200
TZOFFSETTO:+0100
TZNAME:CET
DTSTART:20241027T010000
END:STANDARD
BEGIN:DAYLIGHT
TZOFFSETFROM:+0100
TZOFFSETTO:+0200
TZNAME:CEST
DTSTART:20250330T010000
END:DAYLIGHT
BEGIN:STANDARD
TZOFFSETFROM:+0200
TZOFFSETTO:+0100
TZNAME:CET
DTSTART:20251026T010000
END:STANDARD
END:VTIMEZONE
BEGIN:VEVENT
DTSTART;TZID=Europe/Berlin:20241027T180000
DTEND;TZID=Europe/Berlin:20241027T190000
DTSTAMP:20260425T054312
CREATED:20240918T122015Z
LAST-MODIFIED:20240918T122015Z
UID:3019-1730052000-1730055600@kirchenmusik-neuwied.de
SUMMARY:Neuwieder Evensong
DESCRIPTION:Kantorei Feldkirchen-Altwied\, Leitung: Sabine Paganetti\, Orgel: Alina GehlenLiturgie: Annerose Klingner-Huss\, Ursula Pyra\n\nHinter dem englischen Namen „Evensong“ verbirgt sich eine Gottesdienstform\, bei der nicht das gesprochene\, sondern das das gesungene Wort im Mittelpunkt steht. In alter Sitte ehrte man das Wort Gottes dadurch\, dass man nicht einfach die Bibel aufschlug und Texte der Heiligen Schrift wie gewöhnliche Worte vorlas\, man bettete sie vielmehr in Gesang. Nebeneffekt: Unsere Gefühle werden dabei stärker angesprochen.\nDer Evensong stammt aus der anglikanischen Kirche und ist seit tausend Jahren nahezu unverändert erhalten geblieben. Dabei wechseln Psalmen und Bibellesungen jedes Mal. Was immer wiederkehrt\, sind die beiden großen biblischen Hymnen\, das Lied der Maria\, das in der lateinischen Bibel mit dem Wort „Magnificat“ beginnt\, und das Lied des greisen Simeon\, das „Nunc Dimittis“. Außerdem überreicht der Chor ein musikalisches Präsent\, den Anthem.\nWie das Wort „Evensong“ sagt\, gehört diese Andacht in die Abenddämmerung. Nach altem biblischem Zeitgefühl endet ein Tag mit dem Abend. An dieser Schwelle kommen Christen zusammen\, um den alten Tag zu verabschieden\, um ihren Frieden zu machen mit dem\, was gewesen ist\, und um sich innerlich zu reinigen für das\, was kommt. Even meint einerseits den Abend; zugleich steckt in diesem Wort auch das Bild der Ebene\, das Ausgleichende\, was die Dinge ins Gleichgewicht bringt. In diesem doppelten Sinn laden die Neuwieder Evensongs ein\, die Seele auspendeln zu lassen\, sich zu lösen vom Gewesenen und sich zu besinnen auf das Geschenk einer neuen Woche.\nDer Evensong ist das Abendgebet der anglikanischen Kirche. Er ist also weder evangelisch noch katholisch. Aber er wird in Neuwied ökumenisch gefeiert\, und darauf wird auch fest geachtet: Es sind immer ein katholischer Chor und ein evangelischer Organist beteiligt – oder umgekehrt. Dazu kommen zwei Geistliche der evangelischen und katholischen Konfession.\nDie Evensongs werden durchgeführt von der Evangelischen Kirchengemeinde Neuwied und der Katholischen Pfarrei Neuwied St. Matthias.\nSie finden einmal pro Quartal abwechselnd in der Heddesdorfer Kirche (in den geradzahligen Jahren) bzw. der Marktkirche (ungeradzahlige Jahre) und in der St. Matthias-Kirche (in jedem Jahr) statt. \nWeniger anzeigen
URL:https://kirchenmusik-neuwied.de/event/neuwieder-evensong-5/
LOCATION:Heddesdorfer Kirche\, Dierdorfer Str. 39\, Neuwied\, 56564\, Deutschland
CATEGORIES:Evensong,Musik im Gottesdienst
ATTACH;FMTTYPE=image/jpeg:https://kirchenmusik-neuwied.de/wp-content/uploads/2024/06/evensong-logo.jpg
END:VEVENT
END:VCALENDAR