BEGIN:VCALENDAR
VERSION:2.0
PRODID:-//Kirchenmusik Neuwied - ECPv6.15.20//NONSGML v1.0//EN
CALSCALE:GREGORIAN
METHOD:PUBLISH
X-ORIGINAL-URL:https://kirchenmusik-neuwied.de
X-WR-CALDESC:Veranstaltungen für Kirchenmusik Neuwied
REFRESH-INTERVAL;VALUE=DURATION:PT1H
X-Robots-Tag:noindex
X-PUBLISHED-TTL:PT1H
BEGIN:VTIMEZONE
TZID:Europe/Berlin
BEGIN:DAYLIGHT
TZOFFSETFROM:+0100
TZOFFSETTO:+0200
TZNAME:CEST
DTSTART:20230326T010000
END:DAYLIGHT
BEGIN:STANDARD
TZOFFSETFROM:+0200
TZOFFSETTO:+0100
TZNAME:CET
DTSTART:20231029T010000
END:STANDARD
BEGIN:DAYLIGHT
TZOFFSETFROM:+0100
TZOFFSETTO:+0200
TZNAME:CEST
DTSTART:20240331T010000
END:DAYLIGHT
BEGIN:STANDARD
TZOFFSETFROM:+0200
TZOFFSETTO:+0100
TZNAME:CET
DTSTART:20241027T010000
END:STANDARD
BEGIN:DAYLIGHT
TZOFFSETFROM:+0100
TZOFFSETTO:+0200
TZNAME:CEST
DTSTART:20250330T010000
END:DAYLIGHT
BEGIN:STANDARD
TZOFFSETFROM:+0200
TZOFFSETTO:+0100
TZNAME:CET
DTSTART:20251026T010000
END:STANDARD
END:VTIMEZONE
BEGIN:VEVENT
DTSTART;TZID=Europe/Berlin:20240803T160000
DTEND;TZID=Europe/Berlin:20240803T170000
DTSTAMP:20260425T123525
CREATED:20240228T101236Z
LAST-MODIFIED:20240228T101236Z
UID:2737-1722700800-1722704400@kirchenmusik-neuwied.de
SUMMARY:Klang der Kulturen
DESCRIPTION:Ein Konzert\, das Folklore aus verschiedenen Ländern erkundet. Mitreißende Tänze und andere Stücke aus verschiedenen Ländern werden von Solostreichinstrument und Streichorchester dargeboten. Die Stücke sind geprägt von lebendigen Rhythmen und kultureller Authentizität\, die die Vielfalt der Tanztraditionen zum Leben erwecken. \n___________________________ \nDas kammermusikalische Sommercamp „Musiktage am Rhein“ versammelt ab Montag\, 29. Juli\, rund 70 junge Ausnahmetalente aus der ganzen Welt in der Landesmusikakademie in Engers. \nUnter der Regie von Anne Shih\, Professorin für Violine an der Hochschule für Musik in Mainz\, betreut ein Team internationaler Dozenten die jungen Musiker. Täglich wird individueller Unterricht angeboten\, der auf das Spiel im Ensemble vorbereitet. Dazu kommen Coaching-Sessions\, gemeinsame Proben und die täglichen Konzerte an inspirierenden Orten wie Schloss Engers\, Schloss Burg Namedy oder der Gießhalle der Sayner Hütte. Dozenten und Kursteilnehmer musizieren zusammen mit dem Streicherkammerorchester „Mainzer Virtuosi“ und internationalen Gästen\, wie dem Pianisten Georgy Tchaidze. \nAuch wieder auf dem Programm stehen ein Cross-over-Konzerte mit jungen Musikern der iSchool aus New York\, die gemeinsam mit Mitgliedern des Streicherkammerorchesters klassische Stücke mit populären Songs vereinen. \nDas Programm bietet dem Publikum ein breites Spektrum an hochwertiger\, gut hörbarer Musik\, während die Teilnehmenden sich darüber freuen dürfen\, im Land vieler großer Komponisten mit Gleichgesinnten gemeinsam zu musizieren und Konzerterfahrungen sammeln zu können.
URL:https://kirchenmusik-neuwied.de/event/klang-der-kulturen/
LOCATION:Marktkirche\, Pfarrer-Werner-Mörchen-Straße 1\, Neuwied\, 56564\, Deutschland
CATEGORIES:Kammermusik
ATTACH;FMTTYPE=image/jpeg:https://kirchenmusik-neuwied.de/wp-content/uploads/2024/02/Musiktage-am-Rhein-Marktkirche.jpg
ORGANIZER;CN="Landesmusikakademie RLP":MAILTO:hollmann@landesmusikakademie.de
END:VEVENT
END:VCALENDAR