BEGIN:VCALENDAR
VERSION:2.0
PRODID:-//Kirchenmusik Neuwied - ECPv6.15.20//NONSGML v1.0//EN
CALSCALE:GREGORIAN
METHOD:PUBLISH
X-WR-CALNAME:Kirchenmusik Neuwied
X-ORIGINAL-URL:https://kirchenmusik-neuwied.de
X-WR-CALDESC:Veranstaltungen für Kirchenmusik Neuwied
REFRESH-INTERVAL;VALUE=DURATION:PT1H
X-Robots-Tag:noindex
X-PUBLISHED-TTL:PT1H
BEGIN:VTIMEZONE
TZID:Europe/Berlin
BEGIN:DAYLIGHT
TZOFFSETFROM:+0100
TZOFFSETTO:+0200
TZNAME:CEST
DTSTART:20230326T010000
END:DAYLIGHT
BEGIN:STANDARD
TZOFFSETFROM:+0200
TZOFFSETTO:+0100
TZNAME:CET
DTSTART:20231029T010000
END:STANDARD
BEGIN:DAYLIGHT
TZOFFSETFROM:+0100
TZOFFSETTO:+0200
TZNAME:CEST
DTSTART:20240331T010000
END:DAYLIGHT
BEGIN:STANDARD
TZOFFSETFROM:+0200
TZOFFSETTO:+0100
TZNAME:CET
DTSTART:20241027T010000
END:STANDARD
BEGIN:DAYLIGHT
TZOFFSETFROM:+0100
TZOFFSETTO:+0200
TZNAME:CEST
DTSTART:20250330T010000
END:DAYLIGHT
BEGIN:STANDARD
TZOFFSETFROM:+0200
TZOFFSETTO:+0100
TZNAME:CET
DTSTART:20251026T010000
END:STANDARD
END:VTIMEZONE
BEGIN:VEVENT
DTSTART;TZID=Europe/Berlin:20240713T190000
DTEND;TZID=Europe/Berlin:20240713T210000
DTSTAMP:20260425T141808
CREATED:20240622T163201Z
LAST-MODIFIED:20240622T163431Z
UID:2954-1720897200-1720904400@kirchenmusik-neuwied.de
SUMMARY:Bläserkonzert
DESCRIPTION:Heiteres Open-Air Konzert mit musikalischen und kulinarischen Köstlichkeiten auf der Gemeindewiese der Herrnhuter Brüdergemeine
URL:https://kirchenmusik-neuwied.de/event/blaeserkonzert/
LOCATION:Herrnhuter Brüdergemeine\, Friedrichstraße 32\, Neuwied\, 56564\, Deutschland
CATEGORIES:Bläserkonzert
ATTACH;FMTTYPE=image/jpeg:https://kirchenmusik-neuwied.de/wp-content/uploads/2024/06/PlakatItalNacht2024-scaled.jpg
ORGANIZER;CN="Evangelische Br%C3%BCdergemeine Neuwied (Herrnhuter)":MAILTO:pfarramt@ebg-neuwied.de
END:VEVENT
END:VCALENDAR