BEGIN:VCALENDAR
VERSION:2.0
PRODID:-//Kirchenmusik Neuwied - ECPv6.15.20//NONSGML v1.0//EN
CALSCALE:GREGORIAN
METHOD:PUBLISH
X-ORIGINAL-URL:https://kirchenmusik-neuwied.de
X-WR-CALDESC:Veranstaltungen für Kirchenmusik Neuwied
REFRESH-INTERVAL;VALUE=DURATION:PT1H
X-Robots-Tag:noindex
X-PUBLISHED-TTL:PT1H
BEGIN:VTIMEZONE
TZID:Europe/Berlin
BEGIN:DAYLIGHT
TZOFFSETFROM:+0100
TZOFFSETTO:+0200
TZNAME:CEST
DTSTART:20230326T010000
END:DAYLIGHT
BEGIN:STANDARD
TZOFFSETFROM:+0200
TZOFFSETTO:+0100
TZNAME:CET
DTSTART:20231029T010000
END:STANDARD
BEGIN:DAYLIGHT
TZOFFSETFROM:+0100
TZOFFSETTO:+0200
TZNAME:CEST
DTSTART:20240331T010000
END:DAYLIGHT
BEGIN:STANDARD
TZOFFSETFROM:+0200
TZOFFSETTO:+0100
TZNAME:CET
DTSTART:20241027T010000
END:STANDARD
BEGIN:DAYLIGHT
TZOFFSETFROM:+0100
TZOFFSETTO:+0200
TZNAME:CEST
DTSTART:20250330T010000
END:DAYLIGHT
BEGIN:STANDARD
TZOFFSETFROM:+0200
TZOFFSETTO:+0100
TZNAME:CET
DTSTART:20251026T010000
END:STANDARD
END:VTIMEZONE
BEGIN:VEVENT
DTSTART;TZID=Europe/Berlin:20240623T170000
DTEND;TZID=Europe/Berlin:20240623T180000
DTSTAMP:20260425T141953
CREATED:20240603T101443Z
LAST-MODIFIED:20240603T101734Z
UID:2933-1719162000-1719165600@kirchenmusik-neuwied.de
SUMMARY:Are you ready to SING & Swing
DESCRIPTION:Sparkling Brass\nLeitung: Marion Kutscher \nKinder- und Jugendchor Waldbreitbach\nLeitung: Peter Uhl \nJungbläser des Bläserchors \n 
URL:https://kirchenmusik-neuwied.de/event/are-you-ready-to-sing-swing/
LOCATION:Herrnhuter Brüdergemeine\, Friedrichstraße 32\, Neuwied\, 56564\, Deutschland
CATEGORIES:Bläserkonzert,Chorkonzert,Konzert
ATTACH;FMTTYPE=image/jpeg:https://kirchenmusik-neuwied.de/wp-content/uploads/2024/06/PHOTO-2024-05-31-05-08-56.jpg
ORGANIZER;CN="Evangelische Br%C3%BCdergemeine Neuwied (Herrnhuter)":MAILTO:pfarramt@ebg-neuwied.de
END:VEVENT
BEGIN:VEVENT
DTSTART;TZID=Europe/Berlin:20240623T180000
DTEND;TZID=Europe/Berlin:20240623T193000
DTSTAMP:20260425T141953
CREATED:20240411T124125Z
LAST-MODIFIED:20240411T124125Z
UID:2796-1719165600-1719171000@kirchenmusik-neuwied.de
SUMMARY:Konzert °Blind Date“
DESCRIPTION:Die Musikgruppe Reflexe lädt ein\n „Blind date“ – mit unserem Konzert möchten wir jedem ans Herz legen vielfältig hinzuschauen und auch einmal den Blickwinkel zu ändern. Die Welt ist viel größer\, als es auf den 1. Blick scheint und hält eine Aufforderung bereit\, den Raum „dazwischen“ wahrzunehmen und den Blick auf das Bunte zu lenken.\nSeid ihr dabei? Schaut euch mit uns all diese Farben an…..\nKommt am Sonntag\, 23. Juni 2024 um 18 Uhr in die Feldkirche in Neuwied/Feldkirchen\nDer Eintritt ist wie immer frei!\nWir warten auf euch! Eure Musikgruppe REFLEXE
URL:https://kirchenmusik-neuwied.de/event/konzert-blind-date-2/
LOCATION:Ev. Feldkirche\, Feldkircher Str. 89\, Neuwied\, 56567\, Deutschland
CATEGORIES:Musikgruppe
ATTACH;FMTTYPE=image/jpeg:https://kirchenmusik-neuwied.de/wp-content/uploads/2024/04/Plakat-Blind-Date-23-06-2024-A4-Druck-gross-1-scaled.jpg
ORGANIZER;CN="Musikgruppe Reflexe":MAILTO:kontakt@reflexe.de
END:VEVENT
END:VCALENDAR