BEGIN:VCALENDAR
VERSION:2.0
PRODID:-//Kirchenmusik Neuwied - ECPv6.15.20//NONSGML v1.0//EN
CALSCALE:GREGORIAN
METHOD:PUBLISH
X-ORIGINAL-URL:https://kirchenmusik-neuwied.de
X-WR-CALDESC:Veranstaltungen für Kirchenmusik Neuwied
REFRESH-INTERVAL;VALUE=DURATION:PT1H
X-Robots-Tag:noindex
X-PUBLISHED-TTL:PT1H
BEGIN:VTIMEZONE
TZID:Europe/Berlin
BEGIN:DAYLIGHT
TZOFFSETFROM:+0100
TZOFFSETTO:+0200
TZNAME:CEST
DTSTART:20230326T010000
END:DAYLIGHT
BEGIN:STANDARD
TZOFFSETFROM:+0200
TZOFFSETTO:+0100
TZNAME:CET
DTSTART:20231029T010000
END:STANDARD
BEGIN:DAYLIGHT
TZOFFSETFROM:+0100
TZOFFSETTO:+0200
TZNAME:CEST
DTSTART:20240331T010000
END:DAYLIGHT
BEGIN:STANDARD
TZOFFSETFROM:+0200
TZOFFSETTO:+0100
TZNAME:CET
DTSTART:20241027T010000
END:STANDARD
BEGIN:DAYLIGHT
TZOFFSETFROM:+0100
TZOFFSETTO:+0200
TZNAME:CEST
DTSTART:20250330T010000
END:DAYLIGHT
BEGIN:STANDARD
TZOFFSETFROM:+0200
TZOFFSETTO:+0100
TZNAME:CET
DTSTART:20251026T010000
END:STANDARD
END:VTIMEZONE
BEGIN:VEVENT
DTSTART;TZID=Europe/Berlin:20240611T193000
DTEND;TZID=Europe/Berlin:20240611T193000
DTSTAMP:20260425T161229
CREATED:20240528T205223Z
LAST-MODIFIED:20240528T205411Z
UID:2921-1718134200-1718134200@kirchenmusik-neuwied.de
SUMMARY:Mehr als nur die Toccata
DESCRIPTION:Eine Hommage an Theodor Dubois zum 100. Todestag mit Bildern\, Texten und Musik.\nLena Schmitz\, Rezitation\nJoachim Adler\, Rezitation\nAxel E. Hoffmann\, Tenor\nEnsemble Fontenay\nJugendchor des Bläserchors der Herrnhuter Brüdergemeine Peter Uhl\, Orgel
URL:https://kirchenmusik-neuwied.de/event/mehr-als-nur-die-toccata/
LOCATION:St. Matthias-Kirche\, Heddesdorfer Str. 10\, Neuwied\, 56564\, Deutschland
ATTACH;FMTTYPE=image/jpeg:https://kirchenmusik-neuwied.de/wp-content/uploads/2024/05/24-06-11-Dubois-Hommage-Plakat-pdf-Kopie_1.jpg
ORGANIZER;CN="Pfarrei Neuwied St. Matthias":MAILTO:alina.gehlen@bgv-trier.de
END:VEVENT
END:VCALENDAR