BEGIN:VCALENDAR
VERSION:2.0
PRODID:-//Kirchenmusik Neuwied - ECPv6.15.20//NONSGML v1.0//EN
CALSCALE:GREGORIAN
METHOD:PUBLISH
X-ORIGINAL-URL:https://kirchenmusik-neuwied.de
X-WR-CALDESC:Veranstaltungen für Kirchenmusik Neuwied
REFRESH-INTERVAL;VALUE=DURATION:PT1H
X-Robots-Tag:noindex
X-PUBLISHED-TTL:PT1H
BEGIN:VTIMEZONE
TZID:Europe/Berlin
BEGIN:DAYLIGHT
TZOFFSETFROM:+0100
TZOFFSETTO:+0200
TZNAME:CEST
DTSTART:20230326T010000
END:DAYLIGHT
BEGIN:STANDARD
TZOFFSETFROM:+0200
TZOFFSETTO:+0100
TZNAME:CET
DTSTART:20231029T010000
END:STANDARD
BEGIN:DAYLIGHT
TZOFFSETFROM:+0100
TZOFFSETTO:+0200
TZNAME:CEST
DTSTART:20240331T010000
END:DAYLIGHT
BEGIN:STANDARD
TZOFFSETFROM:+0200
TZOFFSETTO:+0100
TZNAME:CET
DTSTART:20241027T010000
END:STANDARD
BEGIN:DAYLIGHT
TZOFFSETFROM:+0100
TZOFFSETTO:+0200
TZNAME:CEST
DTSTART:20250330T010000
END:DAYLIGHT
BEGIN:STANDARD
TZOFFSETFROM:+0200
TZOFFSETTO:+0100
TZNAME:CET
DTSTART:20251026T010000
END:STANDARD
END:VTIMEZONE
BEGIN:VEVENT
DTSTART;TZID=Europe/Berlin:20240609T163000
DTEND;TZID=Europe/Berlin:20240609T173000
DTSTAMP:20260425T142452
CREATED:20231115T110330Z
LAST-MODIFIED:20240506T055801Z
UID:2474-1717950600-1717954200@kirchenmusik-neuwied.de
SUMMARY:Wie ein Rubin in feinem Golde leuchtet
DESCRIPTION:Festliche Musik in der Kapelle des Heinrich-Hauses\, Neuwied-Engers\nDuette\, Soloarien und Instrumentalmusik von Schütz\, Graun\, Zagatti und Dvořák \nLucia Jakob – Sopran\nBettina Krauß – Alt\nHendrike Steinebach – Violine\nKatharina Wimmer\, Violine\nJörg Rasbach – Orgel
URL:https://kirchenmusik-neuwied.de/event/wie-ein-rubin-in-feinem-golde-leuchtet/
LOCATION:Heinrich-Haus\, Neuwieder Str. 21a\, Neuwied\, 56566
CATEGORIES:Kammermusik
ATTACH;FMTTYPE=image/jpeg:https://kirchenmusik-neuwied.de/wp-content/uploads/2023/11/Seite01-1-scaled.jpg
ORGANIZER;CN="Heinrich-Haus%2C Neuwied-Engers":MAILTO:info@heinrich-haus.de
END:VEVENT
END:VCALENDAR