BEGIN:VCALENDAR
VERSION:2.0
PRODID:-//Kirchenmusik Neuwied - ECPv6.15.20//NONSGML v1.0//EN
CALSCALE:GREGORIAN
METHOD:PUBLISH
X-ORIGINAL-URL:https://kirchenmusik-neuwied.de
X-WR-CALDESC:Veranstaltungen für Kirchenmusik Neuwied
REFRESH-INTERVAL;VALUE=DURATION:PT1H
X-Robots-Tag:noindex
X-PUBLISHED-TTL:PT1H
BEGIN:VTIMEZONE
TZID:Europe/Berlin
BEGIN:DAYLIGHT
TZOFFSETFROM:+0100
TZOFFSETTO:+0200
TZNAME:CEST
DTSTART:20230326T010000
END:DAYLIGHT
BEGIN:STANDARD
TZOFFSETFROM:+0200
TZOFFSETTO:+0100
TZNAME:CET
DTSTART:20231029T010000
END:STANDARD
BEGIN:DAYLIGHT
TZOFFSETFROM:+0100
TZOFFSETTO:+0200
TZNAME:CEST
DTSTART:20240331T010000
END:DAYLIGHT
BEGIN:STANDARD
TZOFFSETFROM:+0200
TZOFFSETTO:+0100
TZNAME:CET
DTSTART:20241027T010000
END:STANDARD
BEGIN:DAYLIGHT
TZOFFSETFROM:+0100
TZOFFSETTO:+0200
TZNAME:CEST
DTSTART:20250330T010000
END:DAYLIGHT
BEGIN:STANDARD
TZOFFSETFROM:+0200
TZOFFSETTO:+0100
TZNAME:CET
DTSTART:20251026T010000
END:STANDARD
END:VTIMEZONE
BEGIN:VEVENT
DTSTART;TZID=Europe/Berlin:20240510T190000
DTEND;TZID=Europe/Berlin:20240510T200000
DTSTAMP:20260425T174215
CREATED:20240416T075810Z
LAST-MODIFIED:20240504T094510Z
UID:2817-1715367600-1715371200@kirchenmusik-neuwied.de
SUMMARY:Kammerkonzert - Wundervolle Farben
DESCRIPTION:Zum Kammermusikkonzert mit dem Titel „Wundervolle Farben – Vokal- und Instrumentalmusik aus Barock und Moderne“ wird am Freitag\, den 10. Mai 2024 um 19.00 Uhr in die kath. Pfarrkirche St. Matthias in Neuwied eingeladen. Zu Gast ist das BSE – Brockes Spezial Ensemble. \nGeistlich-poetische Betrachtung und barocker Jubel – das aktuelle Programm des BSE – Brockes Spezial Ensemble stellt überwiegend geistliche Musik von Georg Friedrich Händel\, Benedikt Biechteler oder Johann David Heinichen ausgewählten Werken aus dem 20. Jahrhundert gegenüber. Felicitas Kukuck oder Virgilio Mortari bringen in ihren Lied- oder Vokalkompositionen auf ähnliche Weise wie die barocken Meister Universales in die kleine musikalische Form und verfolgen dabei das musikalische Uranliegen einer grenzüberschreitenden Verbindung von Stimme und Instrument. \n  \nBrockes-Spezial-Ensemble \nMaddalena Ernst – Sopran\nMatthias Jochner – Querflöte\nMonika Zimmermann – Violine\nHannes Tirttler – Violoncello\nJan Martin Chrost – Cembalo \n  \nEintritt frei\, Spenden für die Kirchenmusik erbeten
URL:https://kirchenmusik-neuwied.de/event/kammerkonzert-wundervolle-farben/
LOCATION:St. Matthias\, Neuwied\, Heddesdorfer Str. 10\, Neuwied\, Rheinland-Pfalz\, 56564\, Deutschland
CATEGORIES:Kammermusik
ATTACH;FMTTYPE=application/pdf:https://kirchenmusik-neuwied.de/wp-content/uploads/2024/04/20240510_Wundervolle-Farben_St.-Matthias-Neuwied.pdf
END:VEVENT
END:VCALENDAR