BEGIN:VCALENDAR
VERSION:2.0
PRODID:-//Kirchenmusik Neuwied - ECPv6.15.20//NONSGML v1.0//EN
CALSCALE:GREGORIAN
METHOD:PUBLISH
X-ORIGINAL-URL:https://kirchenmusik-neuwied.de
X-WR-CALDESC:Veranstaltungen für Kirchenmusik Neuwied
REFRESH-INTERVAL;VALUE=DURATION:PT1H
X-Robots-Tag:noindex
X-PUBLISHED-TTL:PT1H
BEGIN:VTIMEZONE
TZID:Europe/Berlin
BEGIN:DAYLIGHT
TZOFFSETFROM:+0100
TZOFFSETTO:+0200
TZNAME:CEST
DTSTART:20230326T010000
END:DAYLIGHT
BEGIN:STANDARD
TZOFFSETFROM:+0200
TZOFFSETTO:+0100
TZNAME:CET
DTSTART:20231029T010000
END:STANDARD
BEGIN:DAYLIGHT
TZOFFSETFROM:+0100
TZOFFSETTO:+0200
TZNAME:CEST
DTSTART:20240331T010000
END:DAYLIGHT
BEGIN:STANDARD
TZOFFSETFROM:+0200
TZOFFSETTO:+0100
TZNAME:CET
DTSTART:20241027T010000
END:STANDARD
BEGIN:DAYLIGHT
TZOFFSETFROM:+0100
TZOFFSETTO:+0200
TZNAME:CEST
DTSTART:20250330T010000
END:DAYLIGHT
BEGIN:STANDARD
TZOFFSETFROM:+0200
TZOFFSETTO:+0100
TZNAME:CET
DTSTART:20251026T010000
END:STANDARD
END:VTIMEZONE
BEGIN:VEVENT
DTSTART;TZID=Europe/Berlin:20240407T160000
DTEND;TZID=Europe/Berlin:20240407T170000
DTSTAMP:20260425T222905
CREATED:20240405T093916Z
LAST-MODIFIED:20240405T093916Z
UID:2786-1712505600-1712509200@kirchenmusik-neuwied.de
SUMMARY:Orgelkonzert
DESCRIPTION:Orgelkonzert mit Mirjam Laetitia Haag \n 
URL:https://kirchenmusik-neuwied.de/event/orgelkonzert/
LOCATION:St. Medard Bendorf\, Kirchpl. 18\, Bendorf\, 56170\, Deutschland
CATEGORIES:Orgelkonzert
ATTACH;FMTTYPE=image/jpeg:https://kirchenmusik-neuwied.de/wp-content/uploads/2024/04/WhatsApp-Image-2024-04-04-at-4.01.36-PM.jpeg
END:VEVENT
BEGIN:VEVENT
DTSTART;TZID=Europe/Berlin:20240407T180000
DTEND;TZID=Europe/Berlin:20240407T190000
DTSTAMP:20260425T222905
CREATED:20240403T081236Z
LAST-MODIFIED:20240403T081244Z
UID:2773-1712512800-1712516400@kirchenmusik-neuwied.de
SUMMARY:Gospel-Gottesdienst
DESCRIPTION:Gospel-Gottesdienst mit\nSING ON – Gospelchor Neuwied\nLeitung: KMD Thomas Schmidt\nLiturgie: Pfr. Tilmann Raithelhuber
URL:https://kirchenmusik-neuwied.de/event/gospel-gottesdienst-2/
LOCATION:Marktkirche\, Pfarrer-Werner-Mörchen-Straße 1\, Neuwied\, 56564\, Deutschland
CATEGORIES:Besondere Musik im Gottesdienst,Gospelgottesdienst
ATTACH;FMTTYPE=image/jpeg:https://kirchenmusik-neuwied.de/wp-content/uploads/2023/03/SINGON-2019-Konzert_400.jpg
END:VEVENT
END:VCALENDAR