BEGIN:VCALENDAR
VERSION:2.0
PRODID:-//Kirchenmusik Neuwied - ECPv6.15.20//NONSGML v1.0//EN
CALSCALE:GREGORIAN
METHOD:PUBLISH
X-WR-CALNAME:Kirchenmusik Neuwied
X-ORIGINAL-URL:https://kirchenmusik-neuwied.de
X-WR-CALDESC:Veranstaltungen für Kirchenmusik Neuwied
REFRESH-INTERVAL;VALUE=DURATION:PT1H
X-Robots-Tag:noindex
X-PUBLISHED-TTL:PT1H
BEGIN:VTIMEZONE
TZID:Europe/Berlin
BEGIN:DAYLIGHT
TZOFFSETFROM:+0100
TZOFFSETTO:+0200
TZNAME:CEST
DTSTART:20230326T010000
END:DAYLIGHT
BEGIN:STANDARD
TZOFFSETFROM:+0200
TZOFFSETTO:+0100
TZNAME:CET
DTSTART:20231029T010000
END:STANDARD
BEGIN:DAYLIGHT
TZOFFSETFROM:+0100
TZOFFSETTO:+0200
TZNAME:CEST
DTSTART:20240331T010000
END:DAYLIGHT
BEGIN:STANDARD
TZOFFSETFROM:+0200
TZOFFSETTO:+0100
TZNAME:CET
DTSTART:20241027T010000
END:STANDARD
BEGIN:DAYLIGHT
TZOFFSETFROM:+0100
TZOFFSETTO:+0200
TZNAME:CEST
DTSTART:20250330T010000
END:DAYLIGHT
BEGIN:STANDARD
TZOFFSETFROM:+0200
TZOFFSETTO:+0100
TZNAME:CET
DTSTART:20251026T010000
END:STANDARD
END:VTIMEZONE
BEGIN:VEVENT
DTSTART;TZID=Europe/Berlin:20240329T200000
DTEND;TZID=Europe/Berlin:20240329T210000
DTSTAMP:20260425T192026
CREATED:20240320T113948Z
LAST-MODIFIED:20240320T113948Z
UID:2757-1711742400-1711746000@kirchenmusik-neuwied.de
SUMMARY:ZEITENWENDE - Texte\, Bilder und Musik zur Karwoche
DESCRIPTION:Werner Zupp: Texte\nFriedhelm Kurtenbach: Bilder\nMusik von Dvorak\, Pärt\, Bach\, Händel u.a.\nKristina Maier\, Sopran\nBettina Krauß\, Alt\nSilke Link\, Violine\nJörg Rasbach\, Orgel\nLiturgie: Petra Frey und Werner Zupp
URL:https://kirchenmusik-neuwied.de/event/zeitenwende-texte-bilder-und-musik-zur-karwoche/
LOCATION:Kath. Kirche St. Peter und Paul\, Irlich\, Apostelstr.\, 56567 Neuwied\, RLP\, 56567\, Deutschland
CATEGORIES:Besondere Musik im Gottesdienst,Kammermusik
ATTACH;FMTTYPE=image/jpeg:https://kirchenmusik-neuwied.de/wp-content/uploads/2024/03/Plakat.jpg
ORGANIZER;CN="Pfarrei Neuwied St. Matthias":MAILTO:alina.gehlen@bgv-trier.de
END:VEVENT
END:VCALENDAR