BEGIN:VCALENDAR
VERSION:2.0
PRODID:-//Kirchenmusik Neuwied - ECPv6.15.20//NONSGML v1.0//EN
CALSCALE:GREGORIAN
METHOD:PUBLISH
X-WR-CALNAME:Kirchenmusik Neuwied
X-ORIGINAL-URL:https://kirchenmusik-neuwied.de
X-WR-CALDESC:Veranstaltungen für Kirchenmusik Neuwied
REFRESH-INTERVAL;VALUE=DURATION:PT1H
X-Robots-Tag:noindex
X-PUBLISHED-TTL:PT1H
BEGIN:VTIMEZONE
TZID:Europe/Berlin
BEGIN:DAYLIGHT
TZOFFSETFROM:+0100
TZOFFSETTO:+0200
TZNAME:CEST
DTSTART:20230326T010000
END:DAYLIGHT
BEGIN:STANDARD
TZOFFSETFROM:+0200
TZOFFSETTO:+0100
TZNAME:CET
DTSTART:20231029T010000
END:STANDARD
BEGIN:DAYLIGHT
TZOFFSETFROM:+0100
TZOFFSETTO:+0200
TZNAME:CEST
DTSTART:20240331T010000
END:DAYLIGHT
BEGIN:STANDARD
TZOFFSETFROM:+0200
TZOFFSETTO:+0100
TZNAME:CET
DTSTART:20241027T010000
END:STANDARD
BEGIN:DAYLIGHT
TZOFFSETFROM:+0100
TZOFFSETTO:+0200
TZNAME:CEST
DTSTART:20250330T010000
END:DAYLIGHT
BEGIN:STANDARD
TZOFFSETFROM:+0200
TZOFFSETTO:+0100
TZNAME:CET
DTSTART:20251026T010000
END:STANDARD
END:VTIMEZONE
BEGIN:VEVENT
DTSTART;TZID=Europe/Berlin:20240317T110000
DTEND;TZID=Europe/Berlin:20240317T120000
DTSTAMP:20260425T191948
CREATED:20240227T091650Z
LAST-MODIFIED:20240227T091650Z
UID:2730-1710673200-1710676800@kirchenmusik-neuwied.de
SUMMARY:ZACHÄUS
DESCRIPTION:Gottesdienst mit Kindermusical\nes singen und spielen die Regenbogenkinder\, Kinderchor Irlich-Feldkirchen\nLeitung: Jörg Rasbach
URL:https://kirchenmusik-neuwied.de/event/zachaeus/
LOCATION:St. Michael\, Feldkirchen\, Fahrer Str.\, 56567 Neuwied\, Deutschland
CATEGORIES:Singspiel im Gottesdienst
ATTACH;FMTTYPE=image/jpeg:https://kirchenmusik-neuwied.de/wp-content/uploads/2024/02/Seite01-scaled.jpg
ORGANIZER;CN="Pfarrei Neuwied St. Matthias":MAILTO:alina.gehlen@bgv-trier.de
END:VEVENT
BEGIN:VEVENT
DTSTART;TZID=Europe/Berlin:20240317T180000
DTEND;TZID=Europe/Berlin:20240317T190000
DTSTAMP:20260425T191948
CREATED:20230925T082046Z
LAST-MODIFIED:20240305T214021Z
UID:2394-1710698400-1710702000@kirchenmusik-neuwied.de
SUMMARY:Kammerchorkonzert: Schau hin nach Golgatha
DESCRIPTION:Kammerchorkonzert: Schau hin nach Golgatha \nSchau nicht weg\, schau hin und sieh\, was mit Jesus auf Golgatha passiert – eine starke Aufforderung! In der Fastenzeit richten wir unseren Blick auf den sterbenden Jesus. Das Chorprogramm „Schau hin nach Golgatha“ rückt noch einen zweiten Aspekt in den Fokus – nämlich uns selbst\, die wir zu Gott rufen\, um sein Erbarmen und um Erlösung bitten.\nAm Sonntag\, den 17. März führt der Kammerchor Neuwied unter der Leitung von Regionalkantorin Alina Gehlen um 18:00 sein aktuelles a cappella Programm in St. Martin in Neuwied-Engers auf. Es erklingen unbekanntere Chorwerke verschiedener Epochen von Manchicourt\, Selle\, Schneider\, v. Castelberg\, Matsushita u.a. Das musikalisch vielseitige Fastenzeitkonzert ist bei freiem Eintritt zu hören. \n  \nKAMMERCHOR NEUWIED\nAlina Gehlen: Orgel und Leitung \nEintritt frei\, Spenden zur Deckung der Kosten erbeten. \n  \nAm 10. März 2024 um 16:30 in St. Martin (Bad Ems) und am 11. März um 19:00 in St. Marzellinus und Petrus (Vallendar) gibt es weitere Möglichkeiten den Kammerchor Neuwied mit diesem Programm zu hören.
URL:https://kirchenmusik-neuwied.de/event/kammerchorkonzert-musik-der-fastenzeit/
LOCATION:St. Martin\, Neuwied-Engers\, Klosterstr. 2\, Neuwied\, 56566\, Deutschland
CATEGORIES:Chorkonzert
ATTACH;FMTTYPE=image/jpeg:https://kirchenmusik-neuwied.de/wp-content/uploads/2023/09/Schau-hin-nach-Golgatha-scaled.jpg
END:VEVENT
END:VCALENDAR