BEGIN:VCALENDAR
VERSION:2.0
PRODID:-//Kirchenmusik Neuwied - ECPv6.15.20//NONSGML v1.0//EN
CALSCALE:GREGORIAN
METHOD:PUBLISH
X-ORIGINAL-URL:https://kirchenmusik-neuwied.de
X-WR-CALDESC:Veranstaltungen für Kirchenmusik Neuwied
REFRESH-INTERVAL;VALUE=DURATION:PT1H
X-Robots-Tag:noindex
X-PUBLISHED-TTL:PT1H
BEGIN:VTIMEZONE
TZID:Europe/Berlin
BEGIN:DAYLIGHT
TZOFFSETFROM:+0100
TZOFFSETTO:+0200
TZNAME:CEST
DTSTART:20230326T010000
END:DAYLIGHT
BEGIN:STANDARD
TZOFFSETFROM:+0200
TZOFFSETTO:+0100
TZNAME:CET
DTSTART:20231029T010000
END:STANDARD
BEGIN:DAYLIGHT
TZOFFSETFROM:+0100
TZOFFSETTO:+0200
TZNAME:CEST
DTSTART:20240331T010000
END:DAYLIGHT
BEGIN:STANDARD
TZOFFSETFROM:+0200
TZOFFSETTO:+0100
TZNAME:CET
DTSTART:20241027T010000
END:STANDARD
BEGIN:DAYLIGHT
TZOFFSETFROM:+0100
TZOFFSETTO:+0200
TZNAME:CEST
DTSTART:20250330T010000
END:DAYLIGHT
BEGIN:STANDARD
TZOFFSETFROM:+0200
TZOFFSETTO:+0100
TZNAME:CET
DTSTART:20251026T010000
END:STANDARD
END:VTIMEZONE
BEGIN:VEVENT
DTSTART;TZID=Europe/Berlin:20240315T190000
DTEND;TZID=Europe/Berlin:20240315T200000
DTSTAMP:20260425T192121
CREATED:20231129T081658Z
LAST-MODIFIED:20231129T083711Z
UID:2485-1710529200-1710532800@kirchenmusik-neuwied.de
SUMMARY:Sei gegrüßet\, Jesu gütig
DESCRIPTION:Passionsmusik „Sei gegrüßet\, Jesu gütig“\nDie Ev. Kirchengemeinde Feldkirchen-Altwied lädt sehr herzlich zu einer Passionsmusik am Freitag\, 15. März 2024\, 19:00 Uhr\, in die Feldkirche in Neuwied/Feldkirchen ein.\nBernd Kämpf spielt Orgelmusik von Samuel Scheidt und Johann Sebastian Bach.\nDas Ensemble vokal im tal singt dazu die passenden Choräle.\nDie Leitung hat Sabine Paganetti.\nDer Eintritt ist frei.
URL:https://kirchenmusik-neuwied.de/event/sei-gegruesset-jesu-gnaedig/
LOCATION:Ev. Feldkirche\, Feldkircher Str. 89\, Neuwied\, 56567\, Deutschland
ATTACH;FMTTYPE=image/png:https://kirchenmusik-neuwied.de/wp-content/uploads/2023/11/Passionskonzert_15.03.2023_Plakat_web-1.png
ORGANIZER;CN="Evangelische Kirchengemeinde Feldkirchen-Altwied":MAILTO:feldkirchen-altwied@ekir.de
END:VEVENT
END:VCALENDAR