BEGIN:VCALENDAR
VERSION:2.0
PRODID:-//Kirchenmusik Neuwied - ECPv6.15.20//NONSGML v1.0//EN
CALSCALE:GREGORIAN
METHOD:PUBLISH
X-ORIGINAL-URL:https://kirchenmusik-neuwied.de
X-WR-CALDESC:Veranstaltungen für Kirchenmusik Neuwied
REFRESH-INTERVAL;VALUE=DURATION:PT1H
X-Robots-Tag:noindex
X-PUBLISHED-TTL:PT1H
BEGIN:VTIMEZONE
TZID:Europe/Berlin
BEGIN:DAYLIGHT
TZOFFSETFROM:+0100
TZOFFSETTO:+0200
TZNAME:CEST
DTSTART:20230326T010000
END:DAYLIGHT
BEGIN:STANDARD
TZOFFSETFROM:+0200
TZOFFSETTO:+0100
TZNAME:CET
DTSTART:20231029T010000
END:STANDARD
BEGIN:DAYLIGHT
TZOFFSETFROM:+0100
TZOFFSETTO:+0200
TZNAME:CEST
DTSTART:20240331T010000
END:DAYLIGHT
BEGIN:STANDARD
TZOFFSETFROM:+0200
TZOFFSETTO:+0100
TZNAME:CET
DTSTART:20241027T010000
END:STANDARD
BEGIN:DAYLIGHT
TZOFFSETFROM:+0100
TZOFFSETTO:+0200
TZNAME:CEST
DTSTART:20250330T010000
END:DAYLIGHT
BEGIN:STANDARD
TZOFFSETFROM:+0200
TZOFFSETTO:+0100
TZNAME:CET
DTSTART:20251026T010000
END:STANDARD
END:VTIMEZONE
BEGIN:VEVENT
DTSTART;TZID=Europe/Berlin:20240225T170000
DTEND;TZID=Europe/Berlin:20240225T180000
DTSTAMP:20260425T205241
CREATED:20240128T111410Z
LAST-MODIFIED:20240131T120216Z
UID:2669-1708880400-1708884000@kirchenmusik-neuwied.de
SUMMARY:POLARLICHTER
DESCRIPTION:Klar\, leuchtend\, zwischen allerlei Farbtönen changierend – so erscheinen uns die Polarlichter am nördlichen Himmel. Geheimnisvoll über den Dingen schwebend fangen sie unsere Sinne ein und wirken wie ein Tor zu einer anderen Welt. Seit Menschengedenken gibt es Versuche\, diese Erscheinungen zu erklären: Sind es göttliche Botschaften? Die Regenbogenbrücke in ein Jenseits? Vorboten einer Zeitenwende? Ähnlich spannend lesen sich aber auch Ergebnisse der Wissenschaft: Sonnenwinde schicken geladene Teilchen zum Magnetfeld der Erde. Die Energie\, die aus diesem Zusammentreffen resultiert\, mutiert zu Licht und Farbe\, die das menschliche Auge wahrnehmen kann. \n \nIhr Jubiläumsjahr beginnen die rund 35 Sängerinnen und Sänger im KammerChor Koblenz und ihr Dirigent Thomas Sorger mit einer Reise in den Norden Europas. Das Phänomen „Nordlichlicht“ wird aus dem Blickwinkel unterschiedlichster skandinavischer Komponistinnen und Komponisten beleuchtet: die Faszination des Lichts (Andrea Taroddi)\, menschliche Demut angesichts des überwältigenden Naturschauspiels (Eriks Esenvalds) bis hin zur mystisch-göttlichen Interpretation der Himmelszeichen (Toivo Kuula sowie Ola Gjeilo) findet sich im Programm wieder. Erweiternd illuminiert eine professionelle Lichtinstallation den Raum. Licht- und Klang treffen aufeinander\, um zu einem neuen Ganzen zu verschmelzen. \nEintritt frei – Kollekte am Ausgang \nEin weiteres Konzert findet am Samstag\, den 24.2.2024 um 19.00 Uhr in der Citykirche in Koblenz. Weitere Informationen unter www.kammerchor.koblenz.de
URL:https://kirchenmusik-neuwied.de/event/polarlichter/
LOCATION:St. Michael\, Feldkirchen\, Fahrer Str.\, 56567 Neuwied\, Deutschland
CATEGORIES:Chorkonzert
ATTACH;FMTTYPE=image/jpeg:https://kirchenmusik-neuwied.de/wp-content/uploads/2024/01/Sticker-Polarlichter_2.jpg
ORGANIZER;CN="Pfarrei Neuwied St. Matthias":MAILTO:alina.gehlen@bgv-trier.de
END:VEVENT
END:VCALENDAR