BEGIN:VCALENDAR
VERSION:2.0
PRODID:-//Kirchenmusik Neuwied - ECPv6.15.20//NONSGML v1.0//EN
CALSCALE:GREGORIAN
METHOD:PUBLISH
X-ORIGINAL-URL:https://kirchenmusik-neuwied.de
X-WR-CALDESC:Veranstaltungen für Kirchenmusik Neuwied
REFRESH-INTERVAL;VALUE=DURATION:PT1H
X-Robots-Tag:noindex
X-PUBLISHED-TTL:PT1H
BEGIN:VTIMEZONE
TZID:Europe/Berlin
BEGIN:DAYLIGHT
TZOFFSETFROM:+0100
TZOFFSETTO:+0200
TZNAME:CEST
DTSTART:20230326T010000
END:DAYLIGHT
BEGIN:STANDARD
TZOFFSETFROM:+0200
TZOFFSETTO:+0100
TZNAME:CET
DTSTART:20231029T010000
END:STANDARD
BEGIN:DAYLIGHT
TZOFFSETFROM:+0100
TZOFFSETTO:+0200
TZNAME:CEST
DTSTART:20240331T010000
END:DAYLIGHT
BEGIN:STANDARD
TZOFFSETFROM:+0200
TZOFFSETTO:+0100
TZNAME:CET
DTSTART:20241027T010000
END:STANDARD
BEGIN:DAYLIGHT
TZOFFSETFROM:+0100
TZOFFSETTO:+0200
TZNAME:CEST
DTSTART:20250330T010000
END:DAYLIGHT
BEGIN:STANDARD
TZOFFSETFROM:+0200
TZOFFSETTO:+0100
TZNAME:CET
DTSTART:20251026T010000
END:STANDARD
END:VTIMEZONE
BEGIN:VEVENT
DTSTART;TZID=Europe/Berlin:20240202T190000
DTEND;TZID=Europe/Berlin:20240202T200000
DTSTAMP:20260425T222932
CREATED:20231221T100816Z
LAST-MODIFIED:20231221T100816Z
UID:2581-1706900400-1706904000@kirchenmusik-neuwied.de
SUMMARY:Pipes & Reeds
DESCRIPTION:Pfeifen und Zungen\, wie sie in der Kirchenorgel zusammen erklingen\, treffen in diesem Ensemble als bunt gemischtes Instrumentarium zusammen:\nPORTATIV – eine kleine Pfeifenorgel des Mittelalters\, die mit der rechten Hand gespielt wird\, während die linke Hand den Blasebalg bedient. \nHÜMMELCHEN und DUDAY – zwei leise Dudelsäcke der Renaissance\, die schon Michael Praetorius in seinem Werk erwähnt. \nINDISCHES HARMONIUM – die Bedienung dieses Instruments\, das in Indien aus dem europäischen Harmonium entstand\, entspricht dem Portativ\, der Ton wird hier aber nicht durch Pfeifen sondern mit durchschlagenden Zungen erzeugt. \nENGLISH CONCERTINA – eine kleine chromatische Concertina\, deren Töne ebenfalls aus durchschlagende Zungen entstehen. \nMit diesen Instrumenten und zwei Gesangsstimmen erzeugen Ulrike und Claus von Weiß\, ein aus zahlreichen Ensembles (Morris Open\, Trutz Nachtigall\, Planxties & Airs) bekanntes Musikerpaar\, eine eigenwillige\, archaisch anmutende und zugleich neue Musik\, die auf Stücken des Mittelalters\, der Renaissance\, traditioneller Musik und zahlreichen Eigenkompositionen basierend die Zuhörer berührt\, fasziniert und unterhält.
URL:https://kirchenmusik-neuwied.de/event/pipes-reeds/
LOCATION:Gemeindehaus an der Marktkirche\, Engerser Straße 34\, Neuwied\, 56564\, Deutschland
CATEGORIES:Freitagskonzert
ATTACH;FMTTYPE=image/jpeg:https://kirchenmusik-neuwied.de/wp-content/uploads/2023/12/PipesReeds_400.jpg
END:VEVENT
END:VCALENDAR