BEGIN:VCALENDAR
VERSION:2.0
PRODID:-//Kirchenmusik Neuwied - ECPv6.15.20//NONSGML v1.0//EN
CALSCALE:GREGORIAN
METHOD:PUBLISH
X-ORIGINAL-URL:https://kirchenmusik-neuwied.de
X-WR-CALDESC:Veranstaltungen für Kirchenmusik Neuwied
REFRESH-INTERVAL;VALUE=DURATION:PT1H
X-Robots-Tag:noindex
X-PUBLISHED-TTL:PT1H
BEGIN:VTIMEZONE
TZID:Europe/Berlin
BEGIN:DAYLIGHT
TZOFFSETFROM:+0100
TZOFFSETTO:+0200
TZNAME:CEST
DTSTART:20220327T010000
END:DAYLIGHT
BEGIN:STANDARD
TZOFFSETFROM:+0200
TZOFFSETTO:+0100
TZNAME:CET
DTSTART:20221030T010000
END:STANDARD
BEGIN:DAYLIGHT
TZOFFSETFROM:+0100
TZOFFSETTO:+0200
TZNAME:CEST
DTSTART:20230326T010000
END:DAYLIGHT
BEGIN:STANDARD
TZOFFSETFROM:+0200
TZOFFSETTO:+0100
TZNAME:CET
DTSTART:20231029T010000
END:STANDARD
BEGIN:DAYLIGHT
TZOFFSETFROM:+0100
TZOFFSETTO:+0200
TZNAME:CEST
DTSTART:20240331T010000
END:DAYLIGHT
BEGIN:STANDARD
TZOFFSETFROM:+0200
TZOFFSETTO:+0100
TZNAME:CET
DTSTART:20241027T010000
END:STANDARD
END:VTIMEZONE
BEGIN:VEVENT
DTSTART;TZID=Europe/Berlin:20231209T120000
DTEND;TZID=Europe/Berlin:20231209T124500
DTSTAMP:20260426T031850
CREATED:20231006T085131Z
LAST-MODIFIED:20250301T105702Z
UID:2414-1702123200-1702125900@kirchenmusik-neuwied.de
SUMMARY:Adventsmusik zum Mittagsläuten I
DESCRIPTION:Text: Petra Frey \nVox Coelestis – Frauenvokalensemble \nLeitung: Alina Gehlen \n  \n  \nAdvent – eine Zeit zum Träumen \nWann sind Sie zuletzt aufgewacht und haben sich über Ihre ungewöhnlichen Traumbruchstücke gewundert? Als Kind haben wir noch viele Wünsche und Träume: Astronaut werden\, ein eigenes Pony oder ein langersehntes Spielzeug. Werden wir erwachsen tun wir unsere zugegeben komplexeren Träume oft als unrealistisch und naiv ab. Dabei kennen wir ihn alle\, den Traum von Zufriedenheit und Sorglosigkeit\, die Vision eines Weihnachtsfestes voller Geborgenheit und Frieden\, den Gott uns mit seinem Sohn schenken möchte. Advent ist eine Zeit der Vorbereitung auf Weihnachten – mit den Mittagsmusiken am zweiten\, dritten und vierten Advent in St. Matthias möchten wir Sie wie auch in den letzten Jahren herzlich einladen\, beginnend mit dem Geläute des Kirchturms samstags um 12:00\, eine halbe Stunde zu träumen und sich selbst mit besinnlicher Musik und Text auf ein traumhaftes Weihnachtsfest einzustimmen. \nEine weitere Mittagsmusik mit weihnachtlichen Impulsen findet am 30.12. statt. \n 
URL:https://kirchenmusik-neuwied.de/event/adventsmusik-zum-mittagslaeuten-i/
LOCATION:St. Matthias\, Neuwied\, Heddesdorfer Str. 10\, Neuwied\, Rheinland-Pfalz\, 56564\, Deutschland
CATEGORIES:Musik zum Mittagsläuten
ATTACH;FMTTYPE=image/jpeg:https://kirchenmusik-neuwied.de/wp-content/uploads/2023/10/Plakat-Mittagsmusik-scaled.jpg
END:VEVENT
BEGIN:VEVENT
DTSTART;TZID=Europe/Berlin:20231209T150000
DTEND;TZID=Europe/Berlin:20231209T160000
DTSTAMP:20260426T031850
CREATED:20230830T091045Z
LAST-MODIFIED:20230830T091045Z
UID:2376-1702134000-1702137600@kirchenmusik-neuwied.de
SUMMARY:Sein Strahl bricht schon hervor
DESCRIPTION:ADVENTSKONZERT „SEIN STRAHL BRICHT SCHON HERVOR“\nDie Ev. Kirchengemeinde Feldkirchen-Altwied lädt sehr herzlich zum 4. Konzert für Menschen mit Demenz und ihre pflegenden Angehörigen aus Einrichtungen und Privathaushalten ein. Am Samstag\, dem 9. Dezember 2023\, um 15:00 Uhr findet dieses Adventskonzert in der barrierefreien Feldkirche in Feldkirchen statt. Die Kantorei sowie die Kinder- und Jugendkantorei Feldkirchen-Altwied singen neben Chorälen von Johann Sebastian Bach auch Adventsmusik aus verschiedenen Epochen. Begleitet werden sie an der Orgel von Bernd Kämpf\, Solisten und Instrumentalisten. Gemeinsam werden Adventslieder gesungen. Die Leitung hat Sabine Paganetti\, Kantorin\, Musikpädagogin\, Musik- und Kulturgeragogin. Info unter 02631 355031.
URL:https://kirchenmusik-neuwied.de/event/sein-strahl-bricht-schon-hervor/
LOCATION:Ev. Feldkirche\, Feldkircher Str. 89\, Neuwied\, 56567\, Deutschland
ATTACH;FMTTYPE=image/png:https://kirchenmusik-neuwied.de/wp-content/uploads/2023/08/Plakat-Adventskonzert-2023.png
ORGANIZER;CN="Evangelische Kirchengemeinde Feldkirchen-Altwied":MAILTO:feldkirchen-altwied@ekir.de
END:VEVENT
BEGIN:VEVENT
DTSTART;TZID=Europe/Berlin:20231209T170000
DTEND;TZID=Europe/Berlin:20231209T190000
DTSTAMP:20260426T031850
CREATED:20231205T085125Z
LAST-MODIFIED:20231205T085125Z
UID:2519-1702141200-1702148400@kirchenmusik-neuwied.de
SUMMARY:gospel & more - Jubiläumskonzert
DESCRIPTION:Jubiläumskonzert 25 Jahre Gospelchor Klangfarben\nLeitung: Petra Zupp
URL:https://kirchenmusik-neuwied.de/event/gospel-more-jubilaeumskonzert/
LOCATION:Marktkirche\, Pfarrer-Werner-Mörchen-Straße 1\, Neuwied\, 56564\, Deutschland
CATEGORIES:Gospelkonzert
ATTACH;FMTTYPE=image/jpeg:https://kirchenmusik-neuwied.de/wp-content/uploads/2023/12/Klanfgfarben.jpg
END:VEVENT
END:VCALENDAR