BEGIN:VCALENDAR
VERSION:2.0
PRODID:-//Kirchenmusik Neuwied - ECPv6.15.20//NONSGML v1.0//EN
CALSCALE:GREGORIAN
METHOD:PUBLISH
X-WR-CALNAME:Kirchenmusik Neuwied
X-ORIGINAL-URL:https://kirchenmusik-neuwied.de
X-WR-CALDESC:Veranstaltungen für Kirchenmusik Neuwied
REFRESH-INTERVAL;VALUE=DURATION:PT1H
X-Robots-Tag:noindex
X-PUBLISHED-TTL:PT1H
BEGIN:VTIMEZONE
TZID:Europe/Berlin
BEGIN:DAYLIGHT
TZOFFSETFROM:+0100
TZOFFSETTO:+0200
TZNAME:CEST
DTSTART:20220327T010000
END:DAYLIGHT
BEGIN:STANDARD
TZOFFSETFROM:+0200
TZOFFSETTO:+0100
TZNAME:CET
DTSTART:20221030T010000
END:STANDARD
BEGIN:DAYLIGHT
TZOFFSETFROM:+0100
TZOFFSETTO:+0200
TZNAME:CEST
DTSTART:20230326T010000
END:DAYLIGHT
BEGIN:STANDARD
TZOFFSETFROM:+0200
TZOFFSETTO:+0100
TZNAME:CET
DTSTART:20231029T010000
END:STANDARD
BEGIN:DAYLIGHT
TZOFFSETFROM:+0100
TZOFFSETTO:+0200
TZNAME:CEST
DTSTART:20240331T010000
END:DAYLIGHT
BEGIN:STANDARD
TZOFFSETFROM:+0200
TZOFFSETTO:+0100
TZNAME:CET
DTSTART:20241027T010000
END:STANDARD
END:VTIMEZONE
BEGIN:VEVENT
DTSTART;TZID=Europe/Berlin:20231208T190000
DTEND;TZID=Europe/Berlin:20231208T203000
DTSTAMP:20260426T000931
CREATED:20230830T090849Z
LAST-MODIFIED:20230830T090849Z
UID:2373-1702062000-1702067400@kirchenmusik-neuwied.de
SUMMARY:Weihnachtsoratorium
DESCRIPTION:J. S. BACH – WEIHNACHTSORATORIUM\nDie Ev. Kirchengemeinde Feldkirchen-Altwied und der Förderverein Kirchenmusik laden sehr herzlich zum Weihnachtsoratorium\, Kantaten 1-3\, von Johann Sebastian Bach ein. Die Aufführung findet am Freitag\, dem 8. Dezember 2023\, um 19:00 Uhr in der St. Peter und Paul Kirche in Irlich statt.\nAusführende sind:\nTheresa Klose\, Sopran\nElvira Bill\, Alt\nMarcus Ullmann\, Tenor\nKonstantin Paganetti\, Bariton\nKantorei und Kinder- und JugendKantorei Feldkirchen-Altwied\nBarockorchester „Cappella Martini ad campum“\nBernd Kämpf\, Cembalo\nDie Leitung hat Sabine Paganetti.\nDer Vorverkauf beginnt am 15. November im Gemeindebüro an der Feldkirche (02631 71171) sowie bei der Buchhandlung Wangler (02631 24025).\nVorverkauf: 18\,00 €/23\,00 €\nAbendkasse: 20\,00 €/25\,00 €
URL:https://kirchenmusik-neuwied.de/event/weihnachtsoratorium/
LOCATION:Kath. Kirche St. Peter und Paul\, Irlich\, Apostelstr.\, 56567 Neuwied\, RLP\, 56567\, Deutschland
ATTACH;FMTTYPE=image/png:https://kirchenmusik-neuwied.de/wp-content/uploads/2023/08/Weihnachtsoratorium_Plakat.png
ORGANIZER;CN="Evangelische Kirchengemeinde Feldkirchen-Altwied":MAILTO:feldkirchen-altwied@ekir.de
END:VEVENT
END:VCALENDAR