BEGIN:VCALENDAR
VERSION:2.0
PRODID:-//Kirchenmusik Neuwied - ECPv6.15.20//NONSGML v1.0//EN
CALSCALE:GREGORIAN
METHOD:PUBLISH
X-ORIGINAL-URL:https://kirchenmusik-neuwied.de
X-WR-CALDESC:Veranstaltungen für Kirchenmusik Neuwied
REFRESH-INTERVAL;VALUE=DURATION:PT1H
X-Robots-Tag:noindex
X-PUBLISHED-TTL:PT1H
BEGIN:VTIMEZONE
TZID:Europe/Berlin
BEGIN:DAYLIGHT
TZOFFSETFROM:+0100
TZOFFSETTO:+0200
TZNAME:CEST
DTSTART:20220327T010000
END:DAYLIGHT
BEGIN:STANDARD
TZOFFSETFROM:+0200
TZOFFSETTO:+0100
TZNAME:CET
DTSTART:20221030T010000
END:STANDARD
BEGIN:DAYLIGHT
TZOFFSETFROM:+0100
TZOFFSETTO:+0200
TZNAME:CEST
DTSTART:20230326T010000
END:DAYLIGHT
BEGIN:STANDARD
TZOFFSETFROM:+0200
TZOFFSETTO:+0100
TZNAME:CET
DTSTART:20231029T010000
END:STANDARD
BEGIN:DAYLIGHT
TZOFFSETFROM:+0100
TZOFFSETTO:+0200
TZNAME:CEST
DTSTART:20240331T010000
END:DAYLIGHT
BEGIN:STANDARD
TZOFFSETFROM:+0200
TZOFFSETTO:+0100
TZNAME:CET
DTSTART:20241027T010000
END:STANDARD
END:VTIMEZONE
BEGIN:VEVENT
DTSTART;TZID=Europe/Berlin:20231119T180000
DTEND;TZID=Europe/Berlin:20231119T190000
DTSTAMP:20260426T031458
CREATED:20230723T185908Z
LAST-MODIFIED:20231026T071225Z
UID:2317-1700416800-1700420400@kirchenmusik-neuwied.de
SUMMARY:Gottes Wort ist wie Licht in der Nacht
DESCRIPTION:Abendmusik im Kerzenlicht\nDuette\, Soloarien und Instrumentalmusik \nLea Jakob\, Sopran\nLucia Jakob\, Sopran\nSilke Link\, Violine\nJörg Rasbach\, Orgel\nUrsula Pyra\, Texte
URL:https://kirchenmusik-neuwied.de/event/abendmusik-in-st-peter-und-paul/
LOCATION:Kath. Kirche St. Peter und Paul\, Irlich\, Apostelstr.\, 56567 Neuwied\, RLP\, 56567\, Deutschland
CATEGORIES:Besondere Musik im Gottesdienst
ATTACH;FMTTYPE=image/jpeg:https://kirchenmusik-neuwied.de/wp-content/uploads/2023/07/Seite01-3-scaled.jpg
END:VEVENT
END:VCALENDAR