BEGIN:VCALENDAR
VERSION:2.0
PRODID:-//Kirchenmusik Neuwied - ECPv6.15.20//NONSGML v1.0//EN
CALSCALE:GREGORIAN
METHOD:PUBLISH
X-WR-CALNAME:Kirchenmusik Neuwied
X-ORIGINAL-URL:https://kirchenmusik-neuwied.de
X-WR-CALDESC:Veranstaltungen für Kirchenmusik Neuwied
REFRESH-INTERVAL;VALUE=DURATION:PT1H
X-Robots-Tag:noindex
X-PUBLISHED-TTL:PT1H
BEGIN:VTIMEZONE
TZID:Europe/Berlin
BEGIN:DAYLIGHT
TZOFFSETFROM:+0100
TZOFFSETTO:+0200
TZNAME:CEST
DTSTART:20220327T010000
END:DAYLIGHT
BEGIN:STANDARD
TZOFFSETFROM:+0200
TZOFFSETTO:+0100
TZNAME:CET
DTSTART:20221030T010000
END:STANDARD
BEGIN:DAYLIGHT
TZOFFSETFROM:+0100
TZOFFSETTO:+0200
TZNAME:CEST
DTSTART:20230326T010000
END:DAYLIGHT
BEGIN:STANDARD
TZOFFSETFROM:+0200
TZOFFSETTO:+0100
TZNAME:CET
DTSTART:20231029T010000
END:STANDARD
BEGIN:DAYLIGHT
TZOFFSETFROM:+0100
TZOFFSETTO:+0200
TZNAME:CEST
DTSTART:20240331T010000
END:DAYLIGHT
BEGIN:STANDARD
TZOFFSETFROM:+0200
TZOFFSETTO:+0100
TZNAME:CET
DTSTART:20241027T010000
END:STANDARD
END:VTIMEZONE
BEGIN:VEVENT
DTSTART;TZID=Europe/Berlin:20231006T080000
DTEND;TZID=Europe/Berlin:20231006T190000
DTSTAMP:20260426T062913
CREATED:20230820T205252Z
LAST-MODIFIED:20230821T172339Z
UID:2353-1696579200-1696618800@kirchenmusik-neuwied.de
SUMMARY:DUO LIBERT
DESCRIPTION:Werke von de Sarasate\, Paganini\, Monti\, L. van Beethoven\, aber auch eigene Bearbeitungen von Flamenco- und Popmusik. \nJoanna Hermann (Violine) und Ismael Alcalde (Gitarre)
URL:https://kirchenmusik-neuwied.de/event/duo-libert/
LOCATION:Gemeindehaus an der Marktkirche\, Engerser Straße 34\, Neuwied\, 56564\, Deutschland
CATEGORIES:Kammermusik
ATTACH;FMTTYPE=image/jpeg:https://kirchenmusik-neuwied.de/wp-content/uploads/2023/08/Duo-Libert-2_400.jpg
END:VEVENT
END:VCALENDAR